PDS_VERSION_ID = PDS3
/* FILE DATA ELEMENTS */
RECORD_TYPE = STREAM
/* POINTERS TO DATA OBJECTS */
^COMPRESSED_FILE = "H1143_0000_S13.JP2"
/* IDENTIFICATION DATA ELEMENTS */
DATA_SET_ID = "MEX-M-HRSC-5-REFDR-MAPPROJECTED-V3.0"
DATA_SET_NAME = "MARS EXPRESS HRSC MAP PROJECTED REFDR V3.0"
DETECTOR_ID = MEX_HRSC_S1
EVENT_TYPE = "MARS-REGIONAL-MAPPING-Fl-Mw-La"
INSTRUMENT_HOST_ID = MEX
INSTRUMENT_HOST_NAME = "MARS EXPRESS"
INSTRUMENT_ID = HRSC
INSTRUMENT_NAME = "HIGH RESOLUTION STEREO CAMERA"
MISSION_NAME = "MARS EXPRESS"
MISSION_PHASE_NAME = MR_Phase_3
PROCESSING_LEVEL_ID = 3
PRODUCT_CREATION_TIME = 2016-03-04T15:08:32.000Z
PRODUCT_ID = "H1143_0000_S13.JP2"
RELEASE_ID = 0015
REVISION_ID = 0000
/* QUALITY DATA ELEMENTS */
DATA_QUALITY_ID = 1
DATA_QUALITY_DESC = "Data calculated based on original SPICE kernels"
/* TIME DATA ELEMENTS */
SPACECRAFT_CLOCK_START_COUNT = "1/0050612494.57164"
SPACECRAFT_CLOCK_STOP_COUNT = "1/0050612755.41318"
START_TIME = 2004-12-08T19:01:42.737Z
STOP_TIME = 2004-12-08T19:05:06.991Z
/* ORBITAL DATA ELEMENTS */
ASCENDING_NODE_LONGITUDE = 204.68
MAXIMUM_RESOLUTION = 25.1
FOOTPRINT_POINT_LATITUDE = (25.4021,25.3978,25.3937,25.3905, 25.3868,25.2005,24.9322,24.5295,24.2608 ,23.9918,23.5876,23.318,22.9127,22.5071 ,22.2364,21.965,21.6938,21.422,21.1494, 20.8813,20.6188,20.356,20.0929,19.6982, 19.4348,19.0393,18.7755,18.5116,18.2475 ,17.8507,17.5862,17.1891,16.7918, 16.5269,16.2612,15.9955,15.7297,15.4638 ,15.1977,14.9228,14.6465,14.3702, 14.0967,13.8206,13.4056,13.129,12.7141, 12.4373,12.1598,11.8834,11.8676,11.8699 ,11.8642,11.8683,12.1399,12.4181, 12.6991,13.1205,13.3973,13.6695,13.9466 ,14.2228,14.4998,14.7806,15.0542, 15.3239,15.59,15.8605,16.1263,16.5232, 16.7884,17.053,17.3169,17.5819,17.8463, 18.1108,18.3751,18.7716,19.0358,19.2994 ,19.695,19.9584,20.2214,20.4843,20.7472 ,21.1463,21.4193,21.6917,21.9634, 22.3705,22.642,23.0492,23.3194,23.5897, 23.8588,24.1286,24.5323,24.9353,25.2032 ,25.4021)
FOOTPRINT_POINT_LONGITUDE = (325.499,325.138,324.878,324.697, 324.516,324.383,324.389,324.398,324.404 ,324.409,324.417,324.422,324.43,324.437 ,324.441,324.445,324.45,324.454,324.457 ,324.461,324.464,324.468,324.471, 324.475,324.478,324.482,324.484,324.487 ,324.489,324.492,324.494,324.497,324.5, 324.501,324.503,324.504,324.505,324.506 ,324.507,324.507,324.508,324.509,324.51 ,324.511,324.512,324.512,324.512, 324.512,324.511,324.511,324.69,325.004, 325.235,325.595,325.596,325.595,325.593 ,325.591,325.591,325.591,325.591,325.59 ,325.59,325.588,325.588,325.588,325.588 ,325.586,325.586,325.586,325.585, 325.585,325.585,325.585,325.584,325.584 ,325.584,325.584,325.583,325.583, 325.583,325.582,325.582,325.582,325.582 ,325.582,325.581,325.581,325.581, 325.581,325.58,325.58,325.58,325.58, 325.58,325.58,325.58,325.58,325.58, 325.499)
ORBIT_NUMBER = 1143
ORBITAL_ECCENTRICITY = 0.572
ORBITAL_INCLINATION = 86.62
ORBITAL_SEMIMAJOR_AXIS = 8609.69
PERIAPSIS_ALTITUDE = 291.99
PERIAPSIS_ARGUMENT_ANGLE = 160.14
PERIAPSIS_TIME = 2004-12-08T19:03:33.000Z
SPACECRAFT_ORIENTATION = (0.0,-1.0,0.0)
^MEX_ORIENTATION_DESC = "MEX_ORIENTATION_DESC.TXT"
SPACECRAFT_POINTING_MODE = ACROSSTRACK
^MEX_POINTING_DESC = "MEX_POINTING_DESC.TXT"
RIGHT_ASCENSION = -1e+32
DECLINATION = -1e+32
OFFSET_ANGLE = -0.09
SPACECRAFT_SOLAR_DISTANCE = 2.38699e+08
TARGET_NAME = MARS
/* CAMERA DATA ELEMENTS */
DETECTOR_TEMPERATURE = 17.5549
FOCAL_PLANE_TEMPERATURE = 9.8067
INST_CMPRS_NAME = "DISCRETE COSINE TRANSFORMATION (DCT)"
INST_CMPRS_RATIO = 10.4616
INST_CMPRS_QUALITY = 0
INST_CMPRS_QUANTZ_TBL_ID = 0
INSTRUMENT_TEMPERATURE = 11.4379
LENS_TEMPERATURE = 8.9911
MACROPIXEL_SIZE = 2
MISSING_FRAMES = 0
PIXEL_SUBSAMPLING_FLAG = N
SIGNAL_CHAIN_ID = 1
/* RADIOMETRIC DATA ELEMENTS */
BANDWIDTH = 180.0
CENTER_FILTER_WAVELENGTH = 677.0
RADIANCE_OFFSET = 4.55872
RADIANCE_SCALING_FACTOR = 0.0238365
REFLECTANCE_SCALING_FACTOR = 0.000708569
MEX:REFLECTANCE_OFFSET = 0.135514
/* IMAGE OBJECT DEFINITIONS */
OBJECT = IMAGE
  INTERCHANGE_FORMAT = BINARY
  LINES = 32019
  LINE_SAMPLES = 2828
  SAMPLE_TYPE = UNSIGNED_INTEGER
  SAMPLE_BITS = 8
  BANDS = 1
  BAND_STORAGE_TYPE = BAND_SEQUENTIAL
  MAXIMUM = 102
  MEAN = 72.0901
  MINIMUM = 38
  STANDARD_DEVIATION = 12.6516
END_OBJECT = IMAGE
/* MAP OBJECT DEFINITIONS */
OBJECT = IMAGE_MAP_PROJECTION
  ^DATA_SET_MAP_PROJECTION_CATALOG= "DSMAP.CAT"
  A_AXIS_RADIUS = 3396.0
  B_AXIS_RADIUS = 3396.0
  C_AXIS_RADIUS = 3396.0
  CENTER_LATITUDE = 0.0
  CENTER_LONGITUDE = 325.0
  COORDINATE_SYSTEM_NAME = PLANETOGRAPHIC
  COORDINATE_SYSTEM_TYPE = "BODY-FIXED ROTATING"
  EASTERNMOST_LONGITUDE = 325.596
  FIRST_STANDARD_PARALLEL = "N/A"
  LINE_FIRST_PIXEL = 1
  LINE_LAST_PIXEL = 32019
  LINE_PROJECTION_OFFSET = 60162.25
  MAP_PROJECTION_ROTATION = 0.0
  MAP_PROJECTION_TYPE = SINUSOIDAL
  MAP_RESOLUTION = 2370.85521546667
  MAP_SCALE = 0.025
  MAXIMUM_LATITUDE = 25.4021
  MINIMUM_LATITUDE = 11.8642
  POSITIVE_LONGITUDE_DIRECTION = EAST
  REFERENCE_LATITUDE = "N/A"
  REFERENCE_LONGITUDE = "N/A"
  SAMPLE_FIRST_PIXEL = 1
  SAMPLE_LAST_PIXEL = 2828
  SAMPLE_PROJECTION_OFFSET = 1367.25
  SECOND_STANDARD_PARALLEL = "N/A"
  WESTERNMOST_LONGITUDE = 324.383
END_OBJECT = IMAGE_MAP_PROJECTION
/* The JPEG2000 image data file associated with this label. */
OBJECT = COMPRESSED_FILE
  FILE_NAME = "H1143_0000_S13.JP2"
  RECORD_TYPE = UNDEFINED
  FILE_RECORDS = UNK
  ENCODING_TYPE = "JP2"
  INTERCHANGE_FORMAT = BINARY
  UNCOMPRESSED_FILE_NAME = "H1143_0000_S13.IMG"
  REQUIRED_STORAGE_BYTES = "90572356"
  ^DESCRIPTION = "JP2INFO.TXT"
END_OBJECT = COMPRESSED_FILE
END
