PDS_VERSION_ID = PDS3
/* FILE DATA ELEMENTS */
RECORD_TYPE = STREAM
/* POINTERS TO DATA OBJECTS */
^COMPRESSED_FILE = "H1143_0000_S23.JP2"
/* IDENTIFICATION DATA ELEMENTS */
DATA_SET_ID = "MEX-M-HRSC-5-REFDR-MAPPROJECTED-V3.0"
DATA_SET_NAME = "MARS EXPRESS HRSC MAP PROJECTED REFDR V3.0"
DETECTOR_ID = MEX_HRSC_S2
EVENT_TYPE = "MARS-REGIONAL-MAPPING-Fl-Mw-La"
INSTRUMENT_HOST_ID = MEX
INSTRUMENT_HOST_NAME = "MARS EXPRESS"
INSTRUMENT_ID = HRSC
INSTRUMENT_NAME = "HIGH RESOLUTION STEREO CAMERA"
MISSION_NAME = "MARS EXPRESS"
MISSION_PHASE_NAME = MR_Phase_3
PROCESSING_LEVEL_ID = 3
PRODUCT_CREATION_TIME = 2016-03-04T15:08:32.000Z
PRODUCT_ID = "H1143_0000_S23.JP2"
RELEASE_ID = 0015
REVISION_ID = 0000
/* QUALITY DATA ELEMENTS */
DATA_QUALITY_ID = 1
DATA_QUALITY_DESC = "Data calculated based on original SPICE kernels"
/* TIME DATA ELEMENTS */
SPACECRAFT_CLOCK_START_COUNT = "1/0050612494.57164"
SPACECRAFT_CLOCK_STOP_COUNT = "1/0050612755.41318"
START_TIME = 2004-12-08T19:02:35.733Z
STOP_TIME = 2004-12-08T19:06:01.462Z
/* ORBITAL DATA ELEMENTS */
ASCENDING_NODE_LONGITUDE = 204.68
MAXIMUM_RESOLUTION = 25.3
FOOTPRINT_POINT_LATITUDE = (25.3508,25.3505,25.3502,25.3498, 25.3991,25.1196,24.8403,24.5608,24.2891 ,24.0202,23.6172,23.3486,23.08,22.6778, 22.4097,22.1418,21.8744,21.4744,21.0731 ,20.8065,20.54,20.2737,20.0078,19.7417, 19.4759,19.2103,18.945,18.6797,18.4061, 18.1311,17.8566,17.4448,17.1706,16.8968 ,16.6227,16.3493,16.0768,15.6679, 15.3957,15.1238,14.8523,14.4452,14.1715 ,13.764,13.4934,13.2233,12.9535,12.6837 ,12.414,12.1456,11.8739,11.8709,11.871, 11.8785,11.877,12.0131,12.2805,12.5466, 12.8087,13.079,13.3493,13.6243,13.8946, 14.1666,14.4364,14.8423,15.1164,15.3886 ,15.6607,16.0656,16.3401,16.751,17.0256 ,17.4382,17.7131,17.9883,18.2634, 18.6747,19.073,19.3387,19.6046,19.8708, 20.1373,20.4039,20.8039,21.2039,21.4708 ,21.7381,22.1398,22.4077,22.6748, 23.0774,23.3458,23.6147,23.8841,24.1528 ,24.4222,24.6995,24.9793,25.3508)
FOOTPRINT_POINT_LONGITUDE = (325.465,325.113,324.86,324.595,324.394 ,324.399,324.405,324.41,324.415,324.42, 324.426,324.431,324.435,324.441,324.445 ,324.449,324.452,324.456,324.461, 324.464,324.467,324.469,324.472,324.474 ,324.476,324.478,324.48,324.482,324.484 ,324.485,324.487,324.489,324.49,324.491 ,324.492,324.493,324.493,324.494, 324.494,324.494,324.494,324.494,324.495 ,324.495,324.494,324.494,324.493, 324.492,324.492,324.491,324.654,324.949 ,325.145,325.31,325.495,325.619,325.618 ,325.616,325.612,325.611,325.61,325.61, 325.609,325.608,325.606,325.604,325.603 ,325.602,325.601,325.598,325.597, 325.595,325.595,325.593,325.592,325.591 ,325.59,325.589,325.587,325.586,325.585 ,325.584,325.584,325.583,325.581,325.58 ,325.579,325.578,325.576,325.576, 325.574,325.573,325.572,325.571,325.571 ,325.57,325.569,325.568,325.567, 325.465)
ORBIT_NUMBER = 1143
ORBITAL_ECCENTRICITY = 0.572
ORBITAL_INCLINATION = 86.62
ORBITAL_SEMIMAJOR_AXIS = 8609.69
PERIAPSIS_ALTITUDE = 291.99
PERIAPSIS_ARGUMENT_ANGLE = 160.14
PERIAPSIS_TIME = 2004-12-08T19:03:33.000Z
SPACECRAFT_ORIENTATION = (0.0,-1.0,0.0)
^MEX_ORIENTATION_DESC = "MEX_ORIENTATION_DESC.TXT"
SPACECRAFT_POINTING_MODE = ACROSSTRACK
^MEX_POINTING_DESC = "MEX_POINTING_DESC.TXT"
RIGHT_ASCENSION = -1e+32
DECLINATION = -1e+32
OFFSET_ANGLE = -0.09
SPACECRAFT_SOLAR_DISTANCE = 2.38699e+08
TARGET_NAME = MARS
/* CAMERA DATA ELEMENTS */
DETECTOR_TEMPERATURE = 18.5744
FOCAL_PLANE_TEMPERATURE = 9.8067
INST_CMPRS_NAME = "DISCRETE COSINE TRANSFORMATION (DCT)"
INST_CMPRS_RATIO = 12.119
INST_CMPRS_QUALITY = 0
INST_CMPRS_QUANTZ_TBL_ID = 0
INSTRUMENT_TEMPERATURE = 11.4379
LENS_TEMPERATURE = 8.9911
MACROPIXEL_SIZE = 2
MISSING_FRAMES = 0
PIXEL_SUBSAMPLING_FLAG = N
SIGNAL_CHAIN_ID = 1
/* RADIOMETRIC DATA ELEMENTS */
BANDWIDTH = 178.0
CENTER_FILTER_WAVELENGTH = 679.0
RADIANCE_OFFSET = 4.13793
RADIANCE_SCALING_FACTOR = 0.0236829
REFLECTANCE_SCALING_FACTOR = 0.000714602
MEX:REFLECTANCE_OFFSET = 0.124857
/* IMAGE OBJECT DEFINITIONS */
OBJECT = IMAGE
  INTERCHANGE_FORMAT = BINARY
  LINES = 32019
  LINE_SAMPLES = 2828
  SAMPLE_TYPE = UNSIGNED_INTEGER
  SAMPLE_BITS = 8
  BANDS = 1
  BAND_STORAGE_TYPE = BAND_SEQUENTIAL
  MAXIMUM = 95
  MEAN = 64.9414
  MINIMUM = 33
  STANDARD_DEVIATION = 10.6313
END_OBJECT = IMAGE
/* MAP OBJECT DEFINITIONS */
OBJECT = IMAGE_MAP_PROJECTION
  ^DATA_SET_MAP_PROJECTION_CATALOG= "DSMAP.CAT"
  A_AXIS_RADIUS = 3396.0
  B_AXIS_RADIUS = 3396.0
  C_AXIS_RADIUS = 3396.0
  CENTER_LATITUDE = 0.0
  CENTER_LONGITUDE = 325.0
  COORDINATE_SYSTEM_NAME = PLANETOGRAPHIC
  COORDINATE_SYSTEM_TYPE = "BODY-FIXED ROTATING"
  EASTERNMOST_LONGITUDE = 325.619
  FIRST_STANDARD_PARALLEL = "N/A"
  LINE_FIRST_PIXEL = 1
  LINE_LAST_PIXEL = 32019
  LINE_PROJECTION_OFFSET = 60162.25
  MAP_PROJECTION_ROTATION = 0.0
  MAP_PROJECTION_TYPE = SINUSOIDAL
  MAP_RESOLUTION = 2370.85521546667
  MAP_SCALE = 0.025
  MAXIMUM_LATITUDE = 25.3991
  MINIMUM_LATITUDE = 11.8709
  POSITIVE_LONGITUDE_DIRECTION = EAST
  REFERENCE_LATITUDE = "N/A"
  REFERENCE_LONGITUDE = "N/A"
  SAMPLE_FIRST_PIXEL = 1
  SAMPLE_LAST_PIXEL = 2828
  SAMPLE_PROJECTION_OFFSET = 1367.25
  SECOND_STANDARD_PARALLEL = "N/A"
  WESTERNMOST_LONGITUDE = 324.394
END_OBJECT = IMAGE_MAP_PROJECTION
/* The JPEG2000 image data file associated with this label. */
OBJECT = COMPRESSED_FILE
  FILE_NAME = "H1143_0000_S23.JP2"
  RECORD_TYPE = UNDEFINED
  FILE_RECORDS = UNK
  ENCODING_TYPE = "JP2"
  INTERCHANGE_FORMAT = BINARY
  UNCOMPRESSED_FILE_NAME = "H1143_0000_S23.IMG"
  REQUIRED_STORAGE_BYTES = "90572356"
  ^DESCRIPTION = "JP2INFO.TXT"
END_OBJECT = COMPRESSED_FILE
END
