PDS_VERSION_ID = PDS3
/* FILE DATA ELEMENTS */
RECORD_TYPE = STREAM
/* POINTERS TO DATA OBJECTS */
^COMPRESSED_FILE = "H1152_0000_P13.JP2"
/* IDENTIFICATION DATA ELEMENTS */
DATA_SET_ID = "MEX-M-HRSC-5-REFDR-MAPPROJECTED-V3.0"
DATA_SET_NAME = "MARS EXPRESS HRSC MAP PROJECTED REFDR V3.0"
DETECTOR_ID = MEX_HRSC_P1
EVENT_TYPE = "MARS-LOCAL-STEREO-Vo-Te-Eo"
INSTRUMENT_HOST_ID = MEX
INSTRUMENT_HOST_NAME = "MARS EXPRESS"
INSTRUMENT_ID = HRSC
INSTRUMENT_NAME = "HIGH RESOLUTION STEREO CAMERA"
MISSION_NAME = "MARS EXPRESS"
MISSION_PHASE_NAME = MR_Phase_3
PROCESSING_LEVEL_ID = 3
PRODUCT_CREATION_TIME = 2016-03-04T15:08:32.000Z
PRODUCT_ID = "H1152_0000_P13.JP2"
RELEASE_ID = 0015
REVISION_ID = 0000
/* QUALITY DATA ELEMENTS */
DATA_QUALITY_ID = 1
DATA_QUALITY_DESC = "Data calculated based on original SPICE kernels"
/* TIME DATA ELEMENTS */
SPACECRAFT_CLOCK_START_COUNT = "1/0050830391.56190"
SPACECRAFT_CLOCK_STOP_COUNT = "1/0050830637.62578"
START_TIME = 2004-12-11T07:33:28.755Z
STOP_TIME = 2004-12-11T07:36:25.520Z
/* ORBITAL DATA ELEMENTS */
ASCENDING_NODE_LONGITUDE = 204.48
MAXIMUM_RESOLUTION = 49.7
FOOTPRINT_POINT_LATITUDE = (14.1071,14.1111,14.1149,14.1184, 14.1217,14.1112,13.8764,13.5242,13.1719 ,12.9369,12.7025,12.4674,12.2323, 11.9981,11.7636,11.4155,11.1806,10.9448 ,10.5916,10.3573,10.003,9.76646,9.53176 ,9.17988,8.94547,8.71115,8.47684, 8.24282,8.00832,7.77417,7.54012,7.30609 ,7.07214,6.70312,6.35298,6.11985, 5.88562,5.53478,5.30138,5.06837,4.72008 ,4.48574,4.253,4.01976,3.67047,3.43759, 3.08899,2.85667,2.62447,2.39265,2.3753, 2.37114,2.36675,2.36014,2.35536,2.46546 ,2.69768,3.04605,3.27203,3.50411, 3.74027,3.97732,4.20989,4.44296,4.67627 ,4.90946,5.14273,5.37671,5.60965, 5.84326,6.07699,6.31081,6.66201,7.03163 ,7.38302,7.73366,7.96779,8.20286, 8.43729,8.67085,8.9053,9.2569,9.4917, 9.84368,10.0784,10.3136,10.6671,10.9024 ,11.2559,11.4923,11.7309,11.9673, 12.3185,12.5509,12.7849,13.134,13.4864, 13.7214,14.0737,14.1071)
FOOTPRINT_POINT_LONGITUDE = (161.574,161.41,161.247,161.086,160.925 ,160.623,160.622,160.621,160.62,160.619 ,160.618,160.616,160.615,160.614, 160.612,160.611,160.609,160.607,160.605 ,160.603,160.6,160.598,160.596,160.592, 160.59,160.588,160.586,160.583,160.581, 160.578,160.576,160.573,160.57,160.566, 160.562,160.559,160.556,160.551,160.548 ,160.544,160.54,160.536,160.533,160.529 ,160.524,160.52,160.514,160.511,160.507 ,160.503,160.664,160.85,161.037,161.308 ,161.498,161.764,161.762,161.76,161.764 ,161.763,161.759,161.754,161.753, 161.752,161.75,161.749,161.748,161.746, 161.746,161.744,161.743,161.742,161.74, 161.739,161.737,161.736,161.736,161.734 ,161.733,161.733,161.733,161.732, 161.731,161.73,161.729,161.728,161.727, 161.726,161.724,161.722,161.719,161.717 ,161.717,161.719,161.72,161.722,161.722 ,161.722,161.721,161.574)
ORBIT_NUMBER = 1152
ORBITAL_ECCENTRICITY = 0.572
ORBITAL_INCLINATION = 86.62
ORBITAL_SEMIMAJOR_AXIS = 8608.9
PERIAPSIS_ALTITUDE = 293.29
PERIAPSIS_ARGUMENT_ANGLE = 158.54
PERIAPSIS_TIME = 2004-12-11T07:31:56.000Z
SPACECRAFT_ORIENTATION = (0.0,-1.0,0.0)
^MEX_ORIENTATION_DESC = "MEX_ORIENTATION_DESC.TXT"
SPACECRAFT_POINTING_MODE = ACROSSTRACK
^MEX_POINTING_DESC = "MEX_POINTING_DESC.TXT"
RIGHT_ASCENSION = -1e+32
DECLINATION = -1e+32
OFFSET_ANGLE = 0.44
SPACECRAFT_SOLAR_DISTANCE = 2.38291e+08
TARGET_NAME = MARS
/* CAMERA DATA ELEMENTS */
DETECTOR_TEMPERATURE = 17.1471
FOCAL_PLANE_TEMPERATURE = 9.6028
INST_CMPRS_NAME = "DISCRETE COSINE TRANSFORMATION (DCT)"
INST_CMPRS_RATIO = 18.6739
INST_CMPRS_QUALITY = 0
INST_CMPRS_QUANTZ_TBL_ID = 0
INSTRUMENT_TEMPERATURE = 11.0301
LENS_TEMPERATURE = 8.5833
MACROPIXEL_SIZE = 4
MISSING_FRAMES = 3
PIXEL_SUBSAMPLING_FLAG = N
SIGNAL_CHAIN_ID = 3
/* RADIOMETRIC DATA ELEMENTS */
BANDWIDTH = 174.0
CENTER_FILTER_WAVELENGTH = 675.0
RADIANCE_OFFSET = 4.27757
RADIANCE_SCALING_FACTOR = 0.0287035
REFLECTANCE_SCALING_FACTOR = 0.000876671
MEX:REFLECTANCE_OFFSET = 0.130647
/* IMAGE OBJECT DEFINITIONS */
OBJECT = IMAGE
  INTERCHANGE_FORMAT = BINARY
  LINES = 13939
  LINE_SAMPLES = 1620
  SAMPLE_TYPE = UNSIGNED_INTEGER
  SAMPLE_BITS = 8
  BANDS = 1
  BAND_STORAGE_TYPE = BAND_SEQUENTIAL
  MAXIMUM = 125
  MEAN = 99.7728
  MINIMUM = 42
  STANDARD_DEVIATION = 9.82458
END_OBJECT = IMAGE
/* MAP OBJECT DEFINITIONS */
OBJECT = IMAGE_MAP_PROJECTION
  ^DATA_SET_MAP_PROJECTION_CATALOG= "DSMAP.CAT"
  A_AXIS_RADIUS = 3396.0
  B_AXIS_RADIUS = 3396.0
  C_AXIS_RADIUS = 3396.0
  CENTER_LATITUDE = 0.0
  CENTER_LONGITUDE = 161.0
  COORDINATE_SYSTEM_NAME = PLANETOGRAPHIC
  COORDINATE_SYSTEM_TYPE = "BODY-FIXED ROTATING"
  EASTERNMOST_LONGITUDE = 161.764
  FIRST_STANDARD_PARALLEL = "N/A"
  LINE_FIRST_PIXEL = 1
  LINE_LAST_PIXEL = 13939
  LINE_PROJECTION_OFFSET = 16719.125
  MAP_PROJECTION_ROTATION = 0.0
  MAP_PROJECTION_TYPE = SINUSOIDAL
  MAP_RESOLUTION = 1185.42760773333
  MAP_SCALE = 0.05
  MAXIMUM_LATITUDE = 14.1217
  MINIMUM_LATITUDE = 2.35536
  POSITIVE_LONGITUDE_DIRECTION = EAST
  REFERENCE_LATITUDE = "N/A"
  REFERENCE_LONGITUDE = "N/A"
  SAMPLE_FIRST_PIXEL = 1
  SAMPLE_LAST_PIXEL = 1620
  SAMPLE_PROJECTION_OFFSET = 626.625
  SECOND_STANDARD_PARALLEL = "N/A"
  WESTERNMOST_LONGITUDE = 160.503
END_OBJECT = IMAGE_MAP_PROJECTION
/* The JPEG2000 image data file associated with this label. */
OBJECT = COMPRESSED_FILE
  FILE_NAME = "H1152_0000_P13.JP2"
  RECORD_TYPE = UNDEFINED
  FILE_RECORDS = UNK
  ENCODING_TYPE = "JP2"
  INTERCHANGE_FORMAT = BINARY
  UNCOMPRESSED_FILE_NAME = "H1152_0000_P13.IMG"
  REQUIRED_STORAGE_BYTES = "22600620"
  ^DESCRIPTION = "JP2INFO.TXT"
END_OBJECT = COMPRESSED_FILE
END
