PDS_VERSION_ID = PDS3
/* FILE DATA ELEMENTS */
RECORD_TYPE = STREAM
/* POINTERS TO DATA OBJECTS */
^COMPRESSED_FILE = "H1154_0001_IR3.JP2"
/* IDENTIFICATION DATA ELEMENTS */
DATA_SET_ID = "MEX-M-HRSC-5-REFDR-MAPPROJECTED-V3.0"
DATA_SET_NAME = "MARS EXPRESS HRSC MAP PROJECTED REFDR V3.0"
DETECTOR_ID = MEX_HRSC_IR
EVENT_TYPE = "MARS-REGIONAL-MAPPING-Fl-Lc-Mw"
INSTRUMENT_HOST_ID = MEX
INSTRUMENT_HOST_NAME = "MARS EXPRESS"
INSTRUMENT_ID = HRSC
INSTRUMENT_NAME = "HIGH RESOLUTION STEREO CAMERA"
MISSION_NAME = "MARS EXPRESS"
MISSION_PHASE_NAME = MR_Phase_3
PROCESSING_LEVEL_ID = 3
PRODUCT_CREATION_TIME = 2016-03-04T15:08:32.000Z
PRODUCT_ID = "H1154_0001_IR3.JP2"
RELEASE_ID = 0015
REVISION_ID = 0000
/* QUALITY DATA ELEMENTS */
DATA_QUALITY_ID = 1
DATA_QUALITY_DESC = "Data calculated based on original SPICE kernels"
/* TIME DATA ELEMENTS */
SPACECRAFT_CLOCK_START_COUNT = "1/0050878600.57965"
SPACECRAFT_CLOCK_STOP_COUNT = "1/0050878865.42490"
START_TIME = 2004-12-11T20:56:53.583Z
STOP_TIME = 2004-12-11T21:00:16.881Z
/* ORBITAL DATA ELEMENTS */
ASCENDING_NODE_LONGITUDE = 204.45
MAXIMUM_RESOLUTION = 102.8
FOOTPRINT_POINT_LATITUDE = (25.0811,25.1219,25.1591,25.1512,24.886 ,24.6204,24.3547,24.0886,23.8226, 23.5562,23.2897,23.023,22.6218,22.3543, 22.0866,21.8191,21.5512,21.283,21.0143, 20.7459,20.4773,20.2087,19.94,19.6713, 19.4022,18.9986,18.5945,18.3251,18.0555 ,17.6514,17.3817,16.9782,16.7087, 16.4389,16.17,15.8976,15.6254,15.3552, 15.0862,14.8149,14.5432,14.2726,13.8669 ,13.4654,13.1956,12.7869,12.5106, 12.2399,11.9682,11.7071,11.6414,11.6115 ,11.5866,11.5545,11.8125,12.0839,12.359 ,12.6274,12.8983,13.1668,13.4366, 13.7069,14.11,14.5175,14.9227,15.1956, 15.4653,15.7364,16.007,16.2776,16.5439, 16.8135,17.0832,17.4877,17.7575,18.027, 18.2966,18.5665,18.8353,19.1043,19.373, 19.6418,20.0447,20.4486,20.7164,20.9863 ,21.3894,21.7896,22.0574,22.3249, 22.5935,22.86,23.1212,23.393,23.7934, 24.0595,24.3257,24.5913,24.9895, 25.0811)
FOOTPRINT_POINT_LONGITUDE = (326.629,326.223,325.836,325.499,325.5, 325.5,325.5,325.5,325.5,325.5,325.5, 325.499,325.5,325.499,325.499,325.499, 325.498,325.498,325.497,325.497,325.496 ,325.495,325.494,325.493,325.491, 325.489,325.487,325.486,325.484,325.482 ,325.48,325.476,325.474,325.471,325.468 ,325.468,325.467,325.465,325.462,325.46 ,325.459,325.456,325.452,325.444, 325.441,325.439,325.441,325.438,325.436 ,325.425,325.753,326.02,326.206,326.501 ,326.679,326.679,326.675,326.68,326.681 ,326.687,326.69,326.692,326.7,326.7, 326.705,326.703,326.707,326.708,326.71, 326.712,326.72,326.724,326.727,326.731, 326.734,326.737,326.74,326.742,326.746, 326.75,326.754,326.757,326.763,326.766, 326.771,326.772,326.776,326.784,326.788 ,326.791,326.793,326.798,326.812, 326.808,326.813,326.818,326.822,326.827 ,326.834,326.629)
ORBIT_NUMBER = 1154
ORBITAL_ECCENTRICITY = 0.572
ORBITAL_INCLINATION = 86.63
ORBITAL_SEMIMAJOR_AXIS = 8607.71
PERIAPSIS_ALTITUDE = 293.89
PERIAPSIS_ARGUMENT_ANGLE = 158.17
PERIAPSIS_TIME = 2004-12-11T20:58:07.000Z
SPACECRAFT_ORIENTATION = (0.0,-1.0,0.0)
^MEX_ORIENTATION_DESC = "MEX_ORIENTATION_DESC.TXT"
SPACECRAFT_POINTING_MODE = ACROSSTRACK
^MEX_POINTING_DESC = "MEX_POINTING_DESC.TXT"
RIGHT_ASCENSION = -1e+32
DECLINATION = -1e+32
OFFSET_ANGLE = 1.74
SPACECRAFT_SOLAR_DISTANCE = 2.382e+08
TARGET_NAME = MARS
/* CAMERA DATA ELEMENTS */
DETECTOR_TEMPERATURE = 19.7978
FOCAL_PLANE_TEMPERATURE = 9.8067
INST_CMPRS_NAME = "DISCRETE COSINE TRANSFORMATION (DCT)"
INST_CMPRS_RATIO = 21.417
INST_CMPRS_QUALITY = 0
INST_CMPRS_QUANTZ_TBL_ID = 0
INSTRUMENT_TEMPERATURE = 14.4964
LENS_TEMPERATURE = 10.0106
MACROPIXEL_SIZE = 8
MISSING_FRAMES = 0
PIXEL_SUBSAMPLING_FLAG = N
SIGNAL_CHAIN_ID = 2
/* RADIOMETRIC DATA ELEMENTS */
BANDWIDTH = 81.0
CENTER_FILTER_WAVELENGTH = 955.5
RADIANCE_OFFSET = 0.8829
RADIANCE_SCALING_FACTOR = 0.00842506
REFLECTANCE_SCALING_FACTOR = 0.0010313
MEX:REFLECTANCE_OFFSET = 0.108074
/* IMAGE OBJECT DEFINITIONS */
OBJECT = IMAGE
  INTERCHANGE_FORMAT = BINARY
  LINES = 7998
  LINE_SAMPLES = 874
  SAMPLE_TYPE = UNSIGNED_INTEGER
  SAMPLE_BITS = 8
  BANDS = 1
  BAND_STORAGE_TYPE = BAND_SEQUENTIAL
  MAXIMUM = 104
  MEAN = 73.801
  MINIMUM = 30
  STANDARD_DEVIATION = 14.8229
END_OBJECT = IMAGE
/* MAP OBJECT DEFINITIONS */
OBJECT = IMAGE_MAP_PROJECTION
  ^DATA_SET_MAP_PROJECTION_CATALOG= "DSMAP.CAT"
  A_AXIS_RADIUS = 3396.0
  B_AXIS_RADIUS = 3396.0
  C_AXIS_RADIUS = 3396.0
  CENTER_LATITUDE = 0.0
  CENTER_LONGITUDE = 326.0
  COORDINATE_SYSTEM_NAME = PLANETOGRAPHIC
  COORDINATE_SYSTEM_TYPE = "BODY-FIXED ROTATING"
  EASTERNMOST_LONGITUDE = 326.834
  FIRST_STANDARD_PARALLEL = "N/A"
  LINE_FIRST_PIXEL = 1
  LINE_LAST_PIXEL = 7998
  LINE_PROJECTION_OFFSET = 14887.5625
  MAP_PROJECTION_ROTATION = 0.0
  MAP_PROJECTION_TYPE = SINUSOIDAL
  MAP_RESOLUTION = 592.713803866667
  MAP_SCALE = 0.1
  MAXIMUM_LATITUDE = 25.1591
  MINIMUM_LATITUDE = 11.5545
  POSITIVE_LONGITUDE_DIRECTION = EAST
  REFERENCE_LATITUDE = "N/A"
  REFERENCE_LONGITUDE = "N/A"
  SAMPLE_FIRST_PIXEL = 1
  SAMPLE_LAST_PIXEL = 874
  SAMPLE_PROJECTION_OFFSET = 358.9375
  SECOND_STANDARD_PARALLEL = "N/A"
  WESTERNMOST_LONGITUDE = 325.425
END_OBJECT = IMAGE_MAP_PROJECTION
/* The JPEG2000 image data file associated with this label. */
OBJECT = COMPRESSED_FILE
  FILE_NAME = "H1154_0001_IR3.JP2"
  RECORD_TYPE = UNDEFINED
  FILE_RECORDS = UNK
  ENCODING_TYPE = "JP2"
  INTERCHANGE_FORMAT = BINARY
  UNCOMPRESSED_FILE_NAME = "H1154_0001_IR3.IMG"
  REQUIRED_STORAGE_BYTES = "7007732"
  ^DESCRIPTION = "JP2INFO.TXT"
END_OBJECT = COMPRESSED_FILE
END
