PDS_VERSION_ID = PDS3
/* FILE DATA ELEMENTS */
RECORD_TYPE = STREAM
/* POINTERS TO DATA OBJECTS */
^COMPRESSED_FILE = "H1158_0000_P23.JP2"
/* IDENTIFICATION DATA ELEMENTS */
DATA_SET_ID = "MEX-M-HRSC-5-REFDR-MAPPROJECTED-V3.0"
DATA_SET_NAME = "MARS EXPRESS HRSC MAP PROJECTED REFDR V3.0"
DETECTOR_ID = MEX_HRSC_P2
EVENT_TYPE = "MARS-REGIONAL-MAPPING-Te-Fl-Gl"
INSTRUMENT_HOST_ID = MEX
INSTRUMENT_HOST_NAME = "MARS EXPRESS"
INSTRUMENT_ID = HRSC
INSTRUMENT_NAME = "HIGH RESOLUTION STEREO CAMERA"
MISSION_NAME = "MARS EXPRESS"
MISSION_PHASE_NAME = MR_Phase_3
PROCESSING_LEVEL_ID = 3
PRODUCT_CREATION_TIME = 2016-03-04T15:08:32.000Z
PRODUCT_ID = "H1158_0000_P23.JP2"
RELEASE_ID = 0015
REVISION_ID = 0000
/* QUALITY DATA ELEMENTS */
DATA_QUALITY_ID = 1
DATA_QUALITY_DESC = "Data calculated based on original SPICE kernels"
/* TIME DATA ELEMENTS */
SPACECRAFT_CLOCK_START_COUNT = "1/0050975134.57133"
SPACECRAFT_CLOCK_STOP_COUNT = "1/0050975505.32570"
START_TIME = 2004-12-12T23:46:39.250Z
STOP_TIME = 2004-12-12T23:51:42.136Z
/* ORBITAL DATA ELEMENTS */
ASCENDING_NODE_LONGITUDE = 204.36
MAXIMUM_RESOLUTION = 48.4
FOOTPRINT_POINT_LATITUDE = (40.2713,40.2593,40.2737,40.0477, 39.8215,39.5953,39.1436,38.4855,38.0458 ,37.6067,37.1773,36.7525,36.3265, 35.9013,35.4782,35.0659,34.6531,34.0336 ,33.6201,33.21,32.8111,32.4115,32.0116, 31.4114,30.8122,30.4129,30.0235,29.4486 ,29.0634,28.678,28.2931,27.9083,27.5245 ,27.1384,26.562,26.1822,25.7896,25.4033 ,25.0191,24.6348,24.2512,23.6757, 23.2926,22.7196,21.9618,21.5702,21.1885 ,20.807,20.4259,20.1736,20.1744,20.175, 20.1762,20.5577,20.9394,21.3213,21.7035 ,22.0864,22.4808,22.8536,23.2355,23.619 ,24.195,24.5793,25.1562,25.5409,25.9255 ,26.3147,26.702,27.2801,27.8567,28.2419 ,28.8197,29.2055,29.5893,30.1673, 30.5622,30.9618,31.3619,31.7624,32.1632 ,32.7635,33.1639,33.7797,34.1939, 34.6078,35.0227,35.4349,36.0709,36.4981 ,36.9245,37.3509,37.7864,38.2268, 38.6664,39.1046,39.5557,39.7827,40.2348 ,40.2713)
FOOTPRINT_POINT_LONGITUDE = (290.982,290.36,289.804,289.819,289.834 ,289.848,289.877,289.916,289.942, 289.966,289.989,290.011,290.033,290.053 ,290.073,290.092,290.11,290.137,290.154 ,290.17,290.185,290.201,290.215,290.237 ,290.256,290.269,290.281,290.296, 290.306,290.317,290.326,290.336,290.344 ,290.354,290.366,290.371,290.383, 290.391,290.398,290.405,290.411,290.42, 290.425,290.431,290.436,290.446,290.449 ,290.453,290.456,290.56,290.909,291.186 ,291.558,291.557,291.555,291.553, 291.551,291.549,291.553,291.546,291.544 ,291.542,291.539,291.537,291.535, 291.533,291.531,291.531,291.53,291.527, 291.523,291.521,291.518,291.515,291.512 ,291.509,291.507,291.504,291.502, 291.499,291.497,291.493,291.491,291.487 ,291.484,291.481,291.478,291.475, 291.469,291.466,291.462,291.458,291.454 ,291.45,291.445,291.44,291.435,291.433, 291.428,290.982)
ORBIT_NUMBER = 1158
ORBITAL_ECCENTRICITY = 0.572
ORBITAL_INCLINATION = 86.62
ORBITAL_SEMIMAJOR_AXIS = 8613.99
PERIAPSIS_ALTITUDE = 294.01
PERIAPSIS_ARGUMENT_ANGLE = 157.48
PERIAPSIS_TIME = 2004-12-12T23:50:50.000Z
SPACECRAFT_ORIENTATION = (0.0,-1.0,0.0)
^MEX_ORIENTATION_DESC = "MEX_ORIENTATION_DESC.TXT"
SPACECRAFT_POINTING_MODE = ACROSSTRACK
^MEX_POINTING_DESC = "MEX_POINTING_DESC.TXT"
RIGHT_ASCENSION = -1e+32
DECLINATION = -1e+32
OFFSET_ANGLE = -0.05
SPACECRAFT_SOLAR_DISTANCE = 2.38017e+08
TARGET_NAME = MARS
/* CAMERA DATA ELEMENTS */
DETECTOR_TEMPERATURE = 18.5744
FOCAL_PLANE_TEMPERATURE = 8.5833
INST_CMPRS_NAME = "DISCRETE COSINE TRANSFORMATION (DCT)"
INST_CMPRS_RATIO = 10.0274
INST_CMPRS_QUALITY = 0
INST_CMPRS_QUANTZ_TBL_ID = 0
INSTRUMENT_TEMPERATURE = 11.234
LENS_TEMPERATURE = 8.9911
MACROPIXEL_SIZE = 4
MISSING_FRAMES = 0
PIXEL_SUBSAMPLING_FLAG = N
SIGNAL_CHAIN_ID = 3
/* RADIOMETRIC DATA ELEMENTS */
BANDWIDTH = 177.0
CENTER_FILTER_WAVELENGTH = 676.5
RADIANCE_OFFSET = 7.00313
RADIANCE_SCALING_FACTOR = 0.0222174
REFLECTANCE_SCALING_FACTOR = 0.000667372
MEX:REFLECTANCE_OFFSET = 0.210361
/* IMAGE OBJECT DEFINITIONS */
OBJECT = IMAGE
  INTERCHANGE_FORMAT = BINARY
  LINES = 23875
  LINE_SAMPLES = 1787
  SAMPLE_TYPE = UNSIGNED_INTEGER
  SAMPLE_BITS = 8
  BANDS = 1
  BAND_STORAGE_TYPE = BAND_SEQUENTIAL
  MAXIMUM = 166
  MEAN = 122.725
  MINIMUM = 82
  STANDARD_DEVIATION = 9.71345
END_OBJECT = IMAGE
/* MAP OBJECT DEFINITIONS */
OBJECT = IMAGE_MAP_PROJECTION
  ^DATA_SET_MAP_PROJECTION_CATALOG= "DSMAP.CAT"
  A_AXIS_RADIUS = 3396.0
  B_AXIS_RADIUS = 3396.0
  C_AXIS_RADIUS = 3396.0
  CENTER_LATITUDE = 0.0
  CENTER_LONGITUDE = 291.0
  COORDINATE_SYSTEM_NAME = PLANETOGRAPHIC
  COORDINATE_SYSTEM_TYPE = "BODY-FIXED ROTATING"
  EASTERNMOST_LONGITUDE = 291.558
  FIRST_STANDARD_PARALLEL = "N/A"
  LINE_FIRST_PIXEL = 1
  LINE_LAST_PIXEL = 23875
  LINE_PROJECTION_OFFSET = 47799.375
  MAP_PROJECTION_ROTATION = 0.0
  MAP_PROJECTION_TYPE = SINUSOIDAL
  MAP_RESOLUTION = 1185.42760773333
  MAP_SCALE = 0.05
  MAXIMUM_LATITUDE = 40.2737
  MINIMUM_LATITUDE = 20.1736
  POSITIVE_LONGITUDE_DIRECTION = EAST
  REFERENCE_LATITUDE = "N/A"
  REFERENCE_LONGITUDE = "N/A"
  SAMPLE_FIRST_PIXEL = 1
  SAMPLE_LAST_PIXEL = 1787
  SAMPLE_PROJECTION_OFFSET = 1130.125
  SECOND_STANDARD_PARALLEL = "N/A"
  WESTERNMOST_LONGITUDE = 289.804
END_OBJECT = IMAGE_MAP_PROJECTION
/* The JPEG2000 image data file associated with this label. */
OBJECT = COMPRESSED_FILE
  FILE_NAME = "H1158_0000_P23.JP2"
  RECORD_TYPE = UNDEFINED
  FILE_RECORDS = UNK
  ENCODING_TYPE = "JP2"
  INTERCHANGE_FORMAT = BINARY
  UNCOMPRESSED_FILE_NAME = "H1158_0000_P23.IMG"
  REQUIRED_STORAGE_BYTES = "42684282"
  ^DESCRIPTION = "JP2INFO.TXT"
END_OBJECT = COMPRESSED_FILE
END
