PDS_VERSION_ID = PDS3
/* FILE DATA ELEMENTS */
RECORD_TYPE = STREAM
/* POINTERS TO DATA OBJECTS */
^COMPRESSED_FILE = "H1158_0000_S13.JP2"
/* IDENTIFICATION DATA ELEMENTS */
DATA_SET_ID = "MEX-M-HRSC-5-REFDR-MAPPROJECTED-V3.0"
DATA_SET_NAME = "MARS EXPRESS HRSC MAP PROJECTED REFDR V3.0"
DETECTOR_ID = MEX_HRSC_S1
EVENT_TYPE = "MARS-REGIONAL-MAPPING-Te-Fl-Gl"
INSTRUMENT_HOST_ID = MEX
INSTRUMENT_HOST_NAME = "MARS EXPRESS"
INSTRUMENT_ID = HRSC
INSTRUMENT_NAME = "HIGH RESOLUTION STEREO CAMERA"
MISSION_NAME = "MARS EXPRESS"
MISSION_PHASE_NAME = MR_Phase_3
PROCESSING_LEVEL_ID = 3
PRODUCT_CREATION_TIME = 2016-03-04T15:08:32.000Z
PRODUCT_ID = "H1158_0000_S13.JP2"
RELEASE_ID = 0015
REVISION_ID = 0000
/* QUALITY DATA ELEMENTS */
DATA_QUALITY_ID = 1
DATA_QUALITY_DESC = "Data calculated based on original SPICE kernels"
/* TIME DATA ELEMENTS */
SPACECRAFT_CLOCK_START_COUNT = "1/0050975134.57133"
SPACECRAFT_CLOCK_STOP_COUNT = "1/0050975505.32570"
START_TIME = 2004-12-12T23:45:42.717Z
STOP_TIME = 2004-12-12T23:50:58.964Z
/* ORBITAL DATA ELEMENTS */
ASCENDING_NODE_LONGITUDE = 204.36
MAXIMUM_RESOLUTION = 25
FOOTPRINT_POINT_LATITUDE = (40.3697,40.357,40.3408,40.2875,39.8579 ,39.4267,38.9929,38.3419,37.9044, 37.4659,37.2459,36.8163,36.1732,35.7434 ,35.3252,34.9061,34.4866,34.0711, 33.6634,33.0489,32.6384,32.2338,31.8361 ,31.4375,31.0364,30.6356,30.235,29.8433 ,29.2571,28.8667,28.4751,28.083,27.6886 ,27.2978,26.9201,26.5374,26.1498,25.78, 25.4005,25.018,24.6351,24.2512,23.8672, 23.4827,23.0977,22.5198,22.1153,21.7468 ,21.3596,20.972,20.5841,20.1885,20.193, 20.1954,20.5846,20.9727,21.3605,21.7481 ,22.1319,22.7092,23.1009,23.4864, 24.0633,24.4481,24.8317,25.2147,25.5972 ,25.98,26.3538,26.9189,27.304,27.8939, 28.2874,28.68,29.2674,29.8536,30.2461, 30.6475,31.0493,31.6509,32.0487,32.654, 33.0646,33.4741,34.0876,34.5038,35.1299 ,35.7621,36.4057,36.8353,37.2645,37.485 ,37.7046,38.1433,38.5812,39.0188, 39.4544,39.8869,40.3197,40.3697)
FOOTPRINT_POINT_LONGITUDE = (291.092,290.557,290.023,289.734, 289.765,289.796,289.825,289.868,289.895 ,289.921,289.934,289.958,289.993, 290.015,290.036,290.057,290.077,290.097 ,290.115,290.142,290.159,290.176, 290.191,290.207,290.221,290.235,290.249 ,290.261,290.279,290.291,290.302, 290.313,290.323,290.333,290.343,290.351 ,290.358,290.37,290.379,290.387,290.395 ,290.402,290.408,290.415,290.421,290.43 ,290.429,290.44,290.445,290.449,290.454 ,290.649,291.074,291.382,291.554, 291.553,291.552,291.551,291.551,291.55, 291.548,291.547,291.545,291.544,291.544 ,291.543,291.542,291.541,291.542, 291.543,291.541,291.538,291.537,291.536 ,291.534,291.533,291.531,291.53,291.529 ,291.527,291.526,291.524,291.523, 291.523,291.521,291.519,291.519,291.515 ,291.513,291.511,291.509,291.508, 291.507,291.506,291.504,291.501,291.499 ,291.497,291.495,291.092)
ORBIT_NUMBER = 1158
ORBITAL_ECCENTRICITY = 0.572
ORBITAL_INCLINATION = 86.62
ORBITAL_SEMIMAJOR_AXIS = 8613.99
PERIAPSIS_ALTITUDE = 294.01
PERIAPSIS_ARGUMENT_ANGLE = 157.48
PERIAPSIS_TIME = 2004-12-12T23:50:50.000Z
SPACECRAFT_ORIENTATION = (0.0,-1.0,0.0)
^MEX_ORIENTATION_DESC = "MEX_ORIENTATION_DESC.TXT"
SPACECRAFT_POINTING_MODE = ACROSSTRACK
^MEX_POINTING_DESC = "MEX_POINTING_DESC.TXT"
RIGHT_ASCENSION = -1e+32
DECLINATION = -1e+32
OFFSET_ANGLE = -0.05
SPACECRAFT_SOLAR_DISTANCE = 2.38017e+08
TARGET_NAME = MARS
/* CAMERA DATA ELEMENTS */
DETECTOR_TEMPERATURE = 17.5549
FOCAL_PLANE_TEMPERATURE = 8.5833
INST_CMPRS_NAME = "DISCRETE COSINE TRANSFORMATION (DCT)"
INST_CMPRS_RATIO = 9.84461
INST_CMPRS_QUALITY = 0
INST_CMPRS_QUANTZ_TBL_ID = 0
INSTRUMENT_TEMPERATURE = 11.234
LENS_TEMPERATURE = 8.9911
MACROPIXEL_SIZE = 2
MISSING_FRAMES = 0
PIXEL_SUBSAMPLING_FLAG = N
SIGNAL_CHAIN_ID = 1
/* RADIOMETRIC DATA ELEMENTS */
BANDWIDTH = 180.0
CENTER_FILTER_WAVELENGTH = 677.0
RADIANCE_OFFSET = 7.10466
RADIANCE_SCALING_FACTOR = 0.0233339
REFLECTANCE_SCALING_FACTOR = 0.000689677
MEX:REFLECTANCE_OFFSET = 0.209991
/* IMAGE OBJECT DEFINITIONS */
OBJECT = IMAGE
  INTERCHANGE_FORMAT = BINARY
  LINES = 47749
  LINE_SAMPLES = 3573
  SAMPLE_TYPE = UNSIGNED_INTEGER
  SAMPLE_BITS = 8
  BANDS = 1
  BAND_STORAGE_TYPE = BAND_SEQUENTIAL
  MAXIMUM = 153
  MEAN = 111.412
  MINIMUM = 69
  STANDARD_DEVIATION = 7.24224
END_OBJECT = IMAGE
/* MAP OBJECT DEFINITIONS */
OBJECT = IMAGE_MAP_PROJECTION
  ^DATA_SET_MAP_PROJECTION_CATALOG= "DSMAP.CAT"
  A_AXIS_RADIUS = 3396.0
  B_AXIS_RADIUS = 3396.0
  C_AXIS_RADIUS = 3396.0
  CENTER_LATITUDE = 0.0
  CENTER_LONGITUDE = 291.0
  COORDINATE_SYSTEM_NAME = PLANETOGRAPHIC
  COORDINATE_SYSTEM_TYPE = "BODY-FIXED ROTATING"
  EASTERNMOST_LONGITUDE = 291.554
  FIRST_STANDARD_PARALLEL = "N/A"
  LINE_FIRST_PIXEL = 1
  LINE_LAST_PIXEL = 47749
  LINE_PROJECTION_OFFSET = 95599.25
  MAP_PROJECTION_ROTATION = 0.0
  MAP_PROJECTION_TYPE = SINUSOIDAL
  MAP_RESOLUTION = 2370.85521546667
  MAP_SCALE = 0.025
  MAXIMUM_LATITUDE = 40.3697
  MINIMUM_LATITUDE = 20.1885
  POSITIVE_LONGITUDE_DIRECTION = EAST
  REFERENCE_LATITUDE = "N/A"
  REFERENCE_LONGITUDE = "N/A"
  SAMPLE_FIRST_PIXEL = 1
  SAMPLE_LAST_PIXEL = 3573
  SAMPLE_PROJECTION_OFFSET = 2260.75
  SECOND_STANDARD_PARALLEL = "N/A"
  WESTERNMOST_LONGITUDE = 289.734
END_OBJECT = IMAGE_MAP_PROJECTION
/* The JPEG2000 image data file associated with this label. */
OBJECT = COMPRESSED_FILE
  FILE_NAME = "H1158_0000_S13.JP2"
  RECORD_TYPE = UNDEFINED
  FILE_RECORDS = UNK
  ENCODING_TYPE = "JP2"
  INTERCHANGE_FORMAT = BINARY
  UNCOMPRESSED_FILE_NAME = "H1158_0000_S13.IMG"
  REQUIRED_STORAGE_BYTES = "170628615"
  ^DESCRIPTION = "JP2INFO.TXT"
END_OBJECT = COMPRESSED_FILE
END
