PDS_VERSION_ID = PDS3
/* FILE DATA ELEMENTS */
RECORD_TYPE = STREAM
/* POINTERS TO DATA OBJECTS */
^COMPRESSED_FILE = "H1167_0001_S23.JP2"
/* IDENTIFICATION DATA ELEMENTS */
DATA_SET_ID = "MEX-M-HRSC-5-REFDR-MAPPROJECTED-V3.0"
DATA_SET_NAME = "MARS EXPRESS HRSC MAP PROJECTED REFDR V3.0"
DETECTOR_ID = MEX_HRSC_S2
EVENT_TYPE = "MARS-REGIONAL-MAPPING-Vo-Te-Fl"
INSTRUMENT_HOST_ID = MEX
INSTRUMENT_HOST_NAME = "MARS EXPRESS"
INSTRUMENT_ID = HRSC
INSTRUMENT_NAME = "HIGH RESOLUTION STEREO CAMERA"
MISSION_NAME = "MARS EXPRESS"
MISSION_PHASE_NAME = MR_Phase_3
PROCESSING_LEVEL_ID = 3
PRODUCT_CREATION_TIME = 2016-03-04T15:08:32.000Z
PRODUCT_ID = "H1167_0001_S23.JP2"
RELEASE_ID = 0015
REVISION_ID = 0000
/* QUALITY DATA ELEMENTS */
DATA_QUALITY_ID = 1
DATA_QUALITY_DESC = "Data calculated based on original SPICE kernels"
/* TIME DATA ELEMENTS */
SPACECRAFT_CLOCK_START_COUNT = "1/0051193005.57280"
SPACECRAFT_CLOCK_STOP_COUNT = "1/0051193288.00474"
START_TIME = 2004-12-15T12:17:49.090Z
STOP_TIME = 2004-12-15T12:21:33.817Z
/* ORBITAL DATA ELEMENTS */
ASCENDING_NODE_LONGITUDE = 204.16
MAXIMUM_RESOLUTION = 25.5
FOOTPRINT_POINT_LATITUDE = (31.1252,31.1189,31.1062,31.0933, 30.7024,30.2586,29.9628,29.6672,29.3716 ,29.0761,28.7808,28.3319,27.8895, 27.5948,27.3005,27.0064,26.7124,26.2714 ,25.8311,25.553,25.2599,24.8204,24.5276 ,24.2352,23.943,23.6511,23.3591,23.0678 ,22.7766,22.4858,22.0498,21.7594, 21.4694,21.0348,20.7454,20.4565,20.1678 ,19.8795,19.592,19.3041,19.0169,18.5815 ,18.2845,17.9879,17.6915,17.2479, 16.9527,16.6578,16.3633,16.3634,16.368, 16.3726,16.3783,16.5324,16.8274,17.1226 ,17.4182,17.8625,18.3078,18.6049, 18.8977,19.1854,19.4726,19.7604,20.0488 ,20.4818,20.7708,21.0604,21.495,21.7852 ,22.0756,22.5114,22.9486,23.3862, 23.6784,23.9704,24.2628,24.5555,24.8486 ,25.1416,25.4349,25.8599,26.154,26.4476 ,26.8888,27.1831,27.6255,27.9203, 28.2151,28.5103,28.8119,29.1077,29.4035 ,29.6997,29.9955,30.2919,30.5881, 30.8846,31.1812,31.1252)
FOOTPRINT_POINT_LONGITUDE = (127.399,127.207,126.825,126.448, 126.355,126.366,126.373,126.379,126.385 ,126.392,126.397,126.406,126.414, 126.419,126.424,126.429,126.433,126.439 ,126.445,126.449,126.452,126.457, 126.461,126.463,126.466,126.469,126.471 ,126.474,126.476,126.478,126.48,126.482 ,126.483,126.485,126.486,126.487, 126.488,126.488,126.489,126.489,126.489 ,126.489,126.489,126.489,126.488, 126.487,126.487,126.486,126.485,126.83, 127.01,127.191,127.407,127.651,127.65, 127.648,127.647,127.646,127.644,127.643 ,127.642,127.642,127.641,127.64,127.639 ,127.638,127.637,127.636,127.635, 127.634,127.634,127.632,127.632,127.631 ,127.63,127.63,127.629,127.628,127.628, 127.627,127.627,127.626,127.626,127.625 ,127.624,127.623,127.622,127.622, 127.621,127.62,127.62,127.619,127.619, 127.618,127.618,127.617,127.617,127.616 ,127.616,127.399)
ORBIT_NUMBER = 1167
ORBITAL_ECCENTRICITY = 0.572
ORBITAL_INCLINATION = 86.61
ORBITAL_SEMIMAJOR_AXIS = 8612.05
PERIAPSIS_ALTITUDE = 295.23
PERIAPSIS_ARGUMENT_ANGLE = 155.87
PERIAPSIS_TIME = 2004-12-15T12:19:09.000Z
SPACECRAFT_ORIENTATION = (0.0,-1.0,0.0)
^MEX_ORIENTATION_DESC = "MEX_ORIENTATION_DESC.TXT"
SPACECRAFT_POINTING_MODE = ACROSSTRACK
^MEX_POINTING_DESC = "MEX_POINTING_DESC.TXT"
RIGHT_ASCENSION = -1e+32
DECLINATION = -1e+32
OFFSET_ANGLE = 0.38
SPACECRAFT_SOLAR_DISTANCE = 2.376e+08
TARGET_NAME = MARS
/* CAMERA DATA ELEMENTS */
DETECTOR_TEMPERATURE = 21.6329
FOCAL_PLANE_TEMPERATURE = 8.5833
INST_CMPRS_NAME = "DISCRETE COSINE TRANSFORMATION (DCT)"
INST_CMPRS_RATIO = 11.0117
INST_CMPRS_QUALITY = 0
INST_CMPRS_QUANTZ_TBL_ID = 0
INSTRUMENT_TEMPERATURE = 14.4964
LENS_TEMPERATURE = 9.195
MACROPIXEL_SIZE = 2
MISSING_FRAMES = 45
PIXEL_SUBSAMPLING_FLAG = N
SIGNAL_CHAIN_ID = 1
/* RADIOMETRIC DATA ELEMENTS */
BANDWIDTH = 178.0
CENTER_FILTER_WAVELENGTH = 679.0
RADIANCE_OFFSET = 5.82347
RADIANCE_SCALING_FACTOR = 0.0202997
REFLECTANCE_SCALING_FACTOR = 0.000606891
MEX:REFLECTANCE_OFFSET = 0.174102
/* IMAGE OBJECT DEFINITIONS */
OBJECT = IMAGE
  INTERCHANGE_FORMAT = BINARY
  LINES = 35126
  LINE_SAMPLES = 2926
  SAMPLE_TYPE = UNSIGNED_INTEGER
  SAMPLE_BITS = 8
  BANDS = 1
  BAND_STORAGE_TYPE = BAND_SEQUENTIAL
  MAXIMUM = 107
  MEAN = 80.6869
  MINIMUM = 46
  STANDARD_DEVIATION = 6.70552
END_OBJECT = IMAGE
/* MAP OBJECT DEFINITIONS */
OBJECT = IMAGE_MAP_PROJECTION
  ^DATA_SET_MAP_PROJECTION_CATALOG= "DSMAP.CAT"
  A_AXIS_RADIUS = 3396.0
  B_AXIS_RADIUS = 3396.0
  C_AXIS_RADIUS = 3396.0
  CENTER_LATITUDE = 0.0
  CENTER_LONGITUDE = 127.0
  COORDINATE_SYSTEM_NAME = PLANETOGRAPHIC
  COORDINATE_SYSTEM_TYPE = "BODY-FIXED ROTATING"
  EASTERNMOST_LONGITUDE = 127.651
  FIRST_STANDARD_PARALLEL = "N/A"
  LINE_FIRST_PIXEL = 1
  LINE_LAST_PIXEL = 35126
  LINE_PROJECTION_OFFSET = 73903.25
  MAP_PROJECTION_ROTATION = 0.0
  MAP_PROJECTION_TYPE = SINUSOIDAL
  MAP_RESOLUTION = 2370.85521546667
  MAP_SCALE = 0.025
  MAXIMUM_LATITUDE = 31.1812
  MINIMUM_LATITUDE = 16.3633
  POSITIVE_LONGITUDE_DIRECTION = EAST
  REFERENCE_LATITUDE = "N/A"
  REFERENCE_LONGITUDE = "N/A"
  SAMPLE_FIRST_PIXEL = 1
  SAMPLE_LAST_PIXEL = 2926
  SAMPLE_PROJECTION_OFFSET = 1362.25
  SECOND_STANDARD_PARALLEL = "N/A"
  WESTERNMOST_LONGITUDE = 126.355
END_OBJECT = IMAGE_MAP_PROJECTION
/* The JPEG2000 image data file associated with this label. */
OBJECT = COMPRESSED_FILE
  FILE_NAME = "H1167_0001_S23.JP2"
  RECORD_TYPE = UNDEFINED
  FILE_RECORDS = UNK
  ENCODING_TYPE = "JP2"
  INTERCHANGE_FORMAT = BINARY
  UNCOMPRESSED_FILE_NAME = "H1167_0001_S23.IMG"
  REQUIRED_STORAGE_BYTES = "102802084"
  ^DESCRIPTION = "JP2INFO.TXT"
END_OBJECT = COMPRESSED_FILE
END
