PDS_VERSION_ID = PDS3
/* FILE DATA ELEMENTS */
RECORD_TYPE = STREAM
/* POINTERS TO DATA OBJECTS */
^COMPRESSED_FILE = "H1169_0000_S23.JP2"
/* IDENTIFICATION DATA ELEMENTS */
DATA_SET_ID = "MEX-M-HRSC-5-REFDR-MAPPROJECTED-V3.0"
DATA_SET_NAME = "MARS EXPRESS HRSC MAP PROJECTED REFDR V3.0"
DETECTOR_ID = MEX_HRSC_S2
EVENT_TYPE = "MARS-REGIONAL-MAPPING-Gl-Pf-La"
INSTRUMENT_HOST_ID = MEX
INSTRUMENT_HOST_NAME = "MARS EXPRESS"
INSTRUMENT_ID = HRSC
INSTRUMENT_NAME = "HIGH RESOLUTION STEREO CAMERA"
MISSION_NAME = "MARS EXPRESS"
MISSION_PHASE_NAME = MR_Phase_3
PROCESSING_LEVEL_ID = 3
PRODUCT_CREATION_TIME = 2016-03-04T15:08:32.000Z
PRODUCT_ID = "H1169_0000_S23.JP2"
RELEASE_ID = 0015
REVISION_ID = 0000
/* QUALITY DATA ELEMENTS */
DATA_QUALITY_ID = 1
DATA_QUALITY_DESC = "Data calculated based on original SPICE kernels"
/* TIME DATA ELEMENTS */
SPACECRAFT_CLOCK_START_COUNT = "1/0051240210.57145"
SPACECRAFT_CLOCK_STOP_COUNT = "1/0051240713.54413"
START_TIME = 2004-12-16T01:29:41.814Z
STOP_TIME = 2004-12-16T01:31:59.760Z
/* ORBITAL DATA ELEMENTS */
ASCENDING_NODE_LONGITUDE = 204.12
MAXIMUM_RESOLUTION = 72.7
FOOTPRINT_POINT_LATITUDE = (85.9048,85.8057,85.6795,85.5225, 85.3904,85.2911,85.188,85.0156,84.8352, 84.6475,84.4529,84.252,84.0453,83.8334, 83.6486,83.4996,83.3021,83.1362,82.9183 ,82.737,82.5492,82.306,82.1563,81.9022, 81.6936,81.4201,80.7106,80.5964,80.4238 ,80.3075,80.1908,80.073,79.9544,79.8354 ,79.7158,79.5954,79.4138,79.2919, 79.1077,78.9845,78.8607,78.6739,78.5489 ,78.4231,78.2971,78.1702,78.0435,77.916 ,77.7236,77.799,77.8779,77.9438,78.0247 ,78.0925,78.1484,78.2091,78.2451, 78.2863,78.338,78.3799,78.429,78.4684, 78.5598,78.7011,78.8422,78.983,79.1236, 79.2645,79.4047,79.6148,79.7545,79.8939 ,80.0331,80.2417,80.5184,80.6564, 80.7953,81.0034,81.1397,81.2775,81.4152 ,81.5531,81.6907,81.8284,81.9672, 82.8346,83.113,83.3816,83.5836,83.8469, 84.1129,84.311,84.5754,84.7729,85.0322, 85.3561,85.6139,85.8042,86.058,85.9048)
FOOTPRINT_POINT_LONGITUDE = (272.507,269.486,266.211,262.758, 260.239,258.526,256.884,254.397,252.076 ,249.91,247.887,245.997,244.227,242.57, 240.821,242.799,245.152,246.93,249.052, 250.654,252.186,254.003,255.038,256.663 ,257.894,259.387,262.719,263.197, 263.891,264.342,264.78,265.211,265.632, 266.042,266.442,266.834,267.404,267.774 ,268.315,268.664,269.006,269.505, 269.828,270.146,270.455,270.759,271.055 ,271.345,271.771,272.969,274.017, 274.943,276.145,277.224,278.178,279.279 ,279.972,280.81,281.934,282.926,284.211 ,285.362,285.951,285.867,285.781, 285.693,285.602,285.51,285.414,285.266, 285.164,285.059,284.951,284.783,284.547 ,284.424,284.297,284.101,283.963, 283.822,283.676,283.526,283.371,283.211 ,283.047,281.831,281.376,280.898, 280.514,279.962,279.361,278.873,278.169 ,277.594,276.758,275.582,274.517, 273.635,272.324,272.507)
ORBIT_NUMBER = 1169
ORBITAL_ECCENTRICITY = 0.572
ORBITAL_INCLINATION = 86.62
ORBITAL_SEMIMAJOR_AXIS = 8611.73
PERIAPSIS_ALTITUDE = 295.35
PERIAPSIS_ARGUMENT_ANGLE = 155.52
PERIAPSIS_TIME = 2004-12-16T01:45:32.000Z
SPACECRAFT_ORIENTATION = (0.0,-1.0,0.0)
^MEX_ORIENTATION_DESC = "MEX_ORIENTATION_DESC.TXT"
SPACECRAFT_POINTING_MODE = ACROSSTRACK
^MEX_POINTING_DESC = "MEX_POINTING_DESC.TXT"
RIGHT_ASCENSION = -1e+32
DECLINATION = -1e+32
OFFSET_ANGLE = -0.07
SPACECRAFT_SOLAR_DISTANCE = 2.37506e+08
TARGET_NAME = MARS
/* CAMERA DATA ELEMENTS */
DETECTOR_TEMPERATURE = 18.5744
FOCAL_PLANE_TEMPERATURE = 7.9716
INST_CMPRS_NAME = "DISCRETE COSINE TRANSFORMATION (DCT)"
INST_CMPRS_RATIO = 10.847
INST_CMPRS_QUALITY = 0
INST_CMPRS_QUANTZ_TBL_ID = 0
INSTRUMENT_TEMPERATURE = 11.0301
LENS_TEMPERATURE = 8.3794
MACROPIXEL_SIZE = 2
MISSING_FRAMES = 100
PIXEL_SUBSAMPLING_FLAG = N
SIGNAL_CHAIN_ID = 1
/* RADIOMETRIC DATA ELEMENTS */
BANDWIDTH = 178.0
CENTER_FILTER_WAVELENGTH = 679.0
RADIANCE_OFFSET = 1.97376
RADIANCE_SCALING_FACTOR = 0.0312374
REFLECTANCE_SCALING_FACTOR = 0.000933176
MEX:REFLECTANCE_OFFSET = 0.0589635
/* IMAGE OBJECT DEFINITIONS */
OBJECT = IMAGE
  INTERCHANGE_FORMAT = BINARY
  LINES = 5088
  LINE_SAMPLES = 4092
  SAMPLE_TYPE = UNSIGNED_INTEGER
  SAMPLE_BITS = 8
  BANDS = 1
  BAND_STORAGE_TYPE = BAND_SEQUENTIAL
  MAXIMUM = 144
  MEAN = 83.8959
  MINIMUM = 26
  STANDARD_DEVIATION = 34.0164
END_OBJECT = IMAGE
/* MAP OBJECT DEFINITIONS */
OBJECT = IMAGE_MAP_PROJECTION
  ^DATA_SET_MAP_PROJECTION_CATALOG= "DSMAP.CAT"
  A_AXIS_RADIUS = 3396.0
  B_AXIS_RADIUS = 3396.0
  C_AXIS_RADIUS = 3396.0
  CENTER_LATITUDE = 0.0
  CENTER_LONGITUDE = 270.0
  COORDINATE_SYSTEM_NAME = PLANETOGRAPHIC
  COORDINATE_SYSTEM_TYPE = "BODY-FIXED ROTATING"
  EASTERNMOST_LONGITUDE = 285.951
  FIRST_STANDARD_PARALLEL = "N/A"
  LINE_FIRST_PIXEL = 1
  LINE_LAST_PIXEL = 5088
  LINE_PROJECTION_OFFSET = 51101.25
  MAP_PROJECTION_ROTATION = 0.0
  MAP_PROJECTION_TYPE = SINUSOIDAL
  MAP_RESOLUTION = 592.713803866667
  MAP_SCALE = 0.1
  MAXIMUM_LATITUDE = 86.05800000000001
  MINIMUM_LATITUDE = 77.7236
  POSITIVE_LONGITUDE_DIRECTION = EAST
  REFERENCE_LATITUDE = "N/A"
  REFERENCE_LONGITUDE = "N/A"
  SAMPLE_FIRST_PIXEL = 1
  SAMPLE_LAST_PIXEL = 4092
  SAMPLE_PROJECTION_OFFSET = 2139.25
  SECOND_STANDARD_PARALLEL = "N/A"
  WESTERNMOST_LONGITUDE = 240.821
END_OBJECT = IMAGE_MAP_PROJECTION
/* The JPEG2000 image data file associated with this label. */
OBJECT = COMPRESSED_FILE
  FILE_NAME = "H1169_0000_S23.JP2"
  RECORD_TYPE = UNDEFINED
  FILE_RECORDS = UNK
  ENCODING_TYPE = "JP2"
  INTERCHANGE_FORMAT = BINARY
  UNCOMPRESSED_FILE_NAME = "H1169_0000_S23.IMG"
  REQUIRED_STORAGE_BYTES = "20844648"
  ^DESCRIPTION = "JP2INFO.TXT"
END_OBJECT = COMPRESSED_FILE
END
