PDS_VERSION_ID = PDS3
/* FILE DATA ELEMENTS */
RECORD_TYPE = STREAM
/* POINTERS TO DATA OBJECTS */
^COMPRESSED_FILE = "H1177_0000_BL3.JP2"
/* IDENTIFICATION DATA ELEMENTS */
DATA_SET_ID = "MEX-M-HRSC-5-REFDR-MAPPROJECTED-V3.0"
DATA_SET_NAME = "MARS EXPRESS HRSC MAP PROJECTED REFDR V3.0"
DETECTOR_ID = MEX_HRSC_BLUE
EVENT_TYPE = "MARS-REGIONAL-MAPPING-Gl-Eo-La"
INSTRUMENT_HOST_ID = MEX
INSTRUMENT_HOST_NAME = "MARS EXPRESS"
INSTRUMENT_ID = HRSC
INSTRUMENT_NAME = "HIGH RESOLUTION STEREO CAMERA"
MISSION_NAME = "MARS EXPRESS"
MISSION_PHASE_NAME = MR_Phase_3
PROCESSING_LEVEL_ID = 3
PRODUCT_CREATION_TIME = 2016-03-04T15:08:32.000Z
PRODUCT_ID = "H1177_0000_BL3.JP2"
RELEASE_ID = 0015
REVISION_ID = 0000
/* QUALITY DATA ELEMENTS */
DATA_QUALITY_ID = 1
DATA_QUALITY_DESC = "Data calculated based on original SPICE kernels"
/* TIME DATA ELEMENTS */
SPACECRAFT_CLOCK_START_COUNT = "1/0051433202.57153"
SPACECRAFT_CLOCK_STOP_COUNT = "1/0051434278.41785"
START_TIME = 2004-12-18T07:08:17.010Z
STOP_TIME = 2004-12-18T07:16:51.082Z
/* ORBITAL DATA ELEMENTS */
ASCENDING_NODE_LONGITUDE = 203.95
MAXIMUM_RESOLUTION = 137.6
FOOTPRINT_POINT_LATITUDE = (80.2151,80.0532,79.8384,79.5673, 79.2435,78.8206,78.9753,79.7111,80.4354 ,81.1429,81.4879,81.8254,82.1533, 82.4713,82.7763,83.0673,83.3395,83.5918 ,83.8224,84.0252,84.1975,84.3362, 84.4382,84.5012,84.522,84.4992,84.4333, 84.3245,84.175,83.9863,83.7616,83.5038, 83.2196,82.9142,82.5912,82.2534,81.9038 ,81.5444,81.1773,80.8041,80.4262, 80.0445,79.6603,79.2742,78.887,78.4989, 77.7231,76.9492,76.1792,75.8771,76.0106 ,76.1922,76.3548,76.6334,77.4663, 78.3151,79.1774,79.6147,80.0559,80.5014 ,80.9506,81.4038,81.8612,82.3227, 82.7876,83.2566,83.7292,84.2049,84.682, 85.1635,85.646,86.1289,86.8389,87.2947, 87.7286,88.1281,88.4688,88.7069,88.7846 ,88.6765,88.423,88.083,87.6961,87.2837, 86.8574,86.4229,85.9841,85.543,85.1011, 84.6593,84.2181,83.7778,83.3393,82.9023 ,82.4665,82.0337,81.6027,81.1726, 80.3214,80.2151)
FOOTPRINT_POINT_LONGITUDE = (60.1783,65.0278,69.4169,73.5969, 77.5496,81.7178,84.2458,86.5036,89.1597 ,92.3051,94.0961,96.0543,98.1987, 100.546,103.119,105.936,109.016,112.375 ,116.026,119.97,124.2,128.694,133.417, 138.318,143.325,148.36,153.348,158.209, 162.887,167.324,171.488,175.362,178.9, 182.106,185.006,187.63,190.002,192.151, 194.098,195.869,197.48,198.952,200.297, 201.53,202.664,203.71,205.569,207.167, 208.557,210.76,212.643,215.694,219.288, 221.374,221.054,220.678,220.229,219.969 ,219.684,219.368,219.017,218.624, 218.181,217.677,217.102,216.437,215.663 ,214.753,213.648,212.328,210.688, 208.615,204.33,200.268,194.637,186.526, 174.51,157.072,135.022,113.644,97.4214, 86.3687,78.885,73.6264,69.8374,66.9602, 64.7346,62.9598,61.5227,60.3323,59.3327 ,58.4783,57.751,57.1166,56.5511,56.0689 ,55.6364,55.2365,54.5812,60.1783)
ORBIT_NUMBER = 1177
ORBITAL_ECCENTRICITY = 0.572
ORBITAL_INCLINATION = 86.63
ORBITAL_SEMIMAJOR_AXIS = 8613.23
PERIAPSIS_ALTITUDE = 296.21
PERIAPSIS_ARGUMENT_ANGLE = 154.05
PERIAPSIS_TIME = 2004-12-18T07:30:35.000Z
SPACECRAFT_ORIENTATION = (0.0,-1.0,0.0)
^MEX_ORIENTATION_DESC = "MEX_ORIENTATION_DESC.TXT"
SPACECRAFT_POINTING_MODE = NADIR
^MEX_POINTING_DESC = "MEX_POINTING_DESC.TXT"
RIGHT_ASCENSION = -1e+32
DECLINATION = -1e+32
OFFSET_ANGLE = -1e+32
SPACECRAFT_SOLAR_DISTANCE = 2.3713e+08
TARGET_NAME = MARS
/* CAMERA DATA ELEMENTS */
DETECTOR_TEMPERATURE = 18.3705
FOCAL_PLANE_TEMPERATURE = 8.3794
INST_CMPRS_NAME = "DISCRETE COSINE TRANSFORMATION (DCT)"
INST_CMPRS_RATIO = 17.9155
INST_CMPRS_QUALITY = 0
INST_CMPRS_QUANTZ_TBL_ID = 0
INSTRUMENT_TEMPERATURE = 11.234
LENS_TEMPERATURE = 8.7872
MACROPIXEL_SIZE = 4
MISSING_FRAMES = 0
PIXEL_SUBSAMPLING_FLAG = N
SIGNAL_CHAIN_ID = 2
/* RADIOMETRIC DATA ELEMENTS */
BANDWIDTH = 76.0
CENTER_FILTER_WAVELENGTH = 444.0
RADIANCE_OFFSET = 0.334226
RADIANCE_SCALING_FACTOR = 0.0176943
REFLECTANCE_SCALING_FACTOR = 0.0010223
MEX:REFLECTANCE_OFFSET = 0.0193101
/* IMAGE OBJECT DEFINITIONS */
OBJECT = IMAGE
  INTERCHANGE_FORMAT = BINARY
  LINES = 10796
  LINE_SAMPLES = 12110
  SAMPLE_TYPE = UNSIGNED_INTEGER
  SAMPLE_BITS = 8
  BANDS = 1
  BAND_STORAGE_TYPE = BAND_SEQUENTIAL
  MAXIMUM = 208
  MEAN = 58.5465
  MINIMUM = 10
  STANDARD_DEVIATION = 30.8243
END_OBJECT = IMAGE
/* MAP OBJECT DEFINITIONS */
OBJECT = IMAGE_MAP_PROJECTION
  ^DATA_SET_MAP_PROJECTION_CATALOG= "DSMAP.CAT"
  A_AXIS_RADIUS = 3396.0
  B_AXIS_RADIUS = 3396.0
  C_AXIS_RADIUS = 3396.0
  CENTER_LATITUDE = 90.0
  CENTER_LONGITUDE = 0.0
  COORDINATE_SYSTEM_NAME = PLANETOGRAPHIC
  COORDINATE_SYSTEM_TYPE = "BODY-FIXED ROTATING"
  EASTERNMOST_LONGITUDE = 221.374
  FIRST_STANDARD_PARALLEL = "N/A"
  LINE_FIRST_PIXEL = 1
  LINE_LAST_PIXEL = 10796
  LINE_PROJECTION_OFFSET = 7407.375
  MAP_PROJECTION_ROTATION = 0.0
  MAP_PROJECTION_TYPE = STEREOGRAPHIC
  MAP_RESOLUTION = 592.713803866667
  MAP_SCALE = 0.1
  MAXIMUM_LATITUDE = 88.7846
  MINIMUM_LATITUDE = 75.8771
  POSITIVE_LONGITUDE_DIRECTION = EAST
  REFERENCE_LATITUDE = "N/A"
  REFERENCE_LONGITUDE = "N/A"
  SAMPLE_FIRST_PIXEL = 1
  SAMPLE_LAST_PIXEL = 12110
  SAMPLE_PROJECTION_OFFSET = 5341.875
  SECOND_STANDARD_PARALLEL = "N/A"
  WESTERNMOST_LONGITUDE = 54.5812
END_OBJECT = IMAGE_MAP_PROJECTION
/* The JPEG2000 image data file associated with this label. */
OBJECT = COMPRESSED_FILE
  FILE_NAME = "H1177_0000_BL3.JP2"
  RECORD_TYPE = UNDEFINED
  FILE_RECORDS = UNK
  ENCODING_TYPE = "JP2"
  INTERCHANGE_FORMAT = BINARY
  UNCOMPRESSED_FILE_NAME = "H1177_0000_BL3.IMG"
  REQUIRED_STORAGE_BYTES = "130775890"
  ^DESCRIPTION = "JP2INFO.TXT"
END_OBJECT = COMPRESSED_FILE
END
