PDS_VERSION_ID = PDS3
/* FILE DATA ELEMENTS */
RECORD_TYPE = STREAM
/* POINTERS TO DATA OBJECTS */
^COMPRESSED_FILE = "H1177_0000_IR3.JP2"
/* IDENTIFICATION DATA ELEMENTS */
DATA_SET_ID = "MEX-M-HRSC-5-REFDR-MAPPROJECTED-V3.0"
DATA_SET_NAME = "MARS EXPRESS HRSC MAP PROJECTED REFDR V3.0"
DETECTOR_ID = MEX_HRSC_IR
EVENT_TYPE = "MARS-REGIONAL-MAPPING-Gl-Eo-La"
INSTRUMENT_HOST_ID = MEX
INSTRUMENT_HOST_NAME = "MARS EXPRESS"
INSTRUMENT_ID = HRSC
INSTRUMENT_NAME = "HIGH RESOLUTION STEREO CAMERA"
MISSION_NAME = "MARS EXPRESS"
MISSION_PHASE_NAME = MR_Phase_3
PROCESSING_LEVEL_ID = 3
PRODUCT_CREATION_TIME = 2016-03-04T15:08:32.000Z
PRODUCT_ID = "H1177_0000_IR3.JP2"
RELEASE_ID = 0015
REVISION_ID = 0000
/* QUALITY DATA ELEMENTS */
DATA_QUALITY_ID = 1
DATA_QUALITY_DESC = "Data calculated based on original SPICE kernels"
/* TIME DATA ELEMENTS */
SPACECRAFT_CLOCK_START_COUNT = "1/0051433202.57153"
SPACECRAFT_CLOCK_STOP_COUNT = "1/0051434278.41785"
START_TIME = 2004-12-18T07:02:12.745Z
STOP_TIME = 2004-12-18T07:14:50.959Z
/* ORBITAL DATA ELEMENTS */
ASCENDING_NODE_LONGITUDE = 203.95
MAXIMUM_RESOLUTION = 170.4
FOOTPRINT_POINT_LATITUDE = (79.8532,79.9009,79.8934,79.8581, 79.7953,79.7058,79.5904,79.4498,79.2851 ,79.097,78.8865,78.6545,78.4021,78.3095 ,78.8778,79.4487,80.0195,80.5872, 81.1462,81.6898,82.2107,82.6973,83.1356 ,83.5068,83.7915,83.8944,83.9671, 84.0082,84.015,83.9866,83.9216,83.8192, 83.6819,83.5089,83.3023,83.0634,82.7939 ,82.4959,82.1713,81.8219,81.4492,81.056 ,80.6431,80.2115,79.7625,79.2973, 78.8166,78.3225,77.8231,77.3232,76.8228 ,76.3223,75.8236,75.9095,76.0964, 76.2159,76.3522,76.4528,76.803,77.3551, 77.9159,78.4812,79.0535,79.6331,80.4995 ,81.0684,81.6305,82.186,82.7351,83.2777 ,83.8142,84.3434,84.8703,85.3874, 85.8971,86.401,86.8961,87.3829,87.8608, 88.3267,88.7727,89.177,89.4548,89.4089, 89.0962,88.7015,88.2846,87.862,87.4379, 87.0174,86.5992,85.7747,84.9643,84.172, 83.3969,82.6409,81.8988,81.1803,80.4688 ,79.8532)
FOOTPRINT_POINT_LONGITUDE = (47.322,52.4974,55.6779,58.8394,61.9686 ,65.0513,68.0742,71.0259,73.8992, 76.6866,79.3858,81.9941,84.5075,87.1314 ,88.7725,90.6515,92.8146,95.3248, 98.2454,101.649,105.649,110.347,115.865 ,122.222,129.44,133.367,137.469,141.686 ,146.002,150.349,154.688,158.971, 163.127,167.137,170.962,174.583,177.987 ,181.169,184.131,186.878,189.42,191.766 ,193.93,195.928,197.771,199.471,201.042 ,202.492,203.812,205.01,206.102,207.098 ,208.011,210.799,213.295,215.174, 217.776,220.288,222.689,222.588,222.471 ,222.344,222.202,222.04,221.764,221.556 ,221.324,221.063,220.766,220.425,220.03 ,219.571,218.997,218.329,217.51,216.464 ,215.122,213.306,210.697,206.663, 199.731,185.712,153.164,105.481,79.3503 ,67.9087,61.9686,58.3969,56.0312, 54.3394,53.0766,51.3061,50.1299,49.2768 ,48.6258,48.1003,47.6775,47.297,46.9955 ,47.322)
ORBIT_NUMBER = 1177
ORBITAL_ECCENTRICITY = 0.572
ORBITAL_INCLINATION = 86.63
ORBITAL_SEMIMAJOR_AXIS = 8613.23
PERIAPSIS_ALTITUDE = 296.21
PERIAPSIS_ARGUMENT_ANGLE = 154.05
PERIAPSIS_TIME = 2004-12-18T07:30:35.000Z
SPACECRAFT_ORIENTATION = (0.0,-1.0,0.0)
^MEX_ORIENTATION_DESC = "MEX_ORIENTATION_DESC.TXT"
SPACECRAFT_POINTING_MODE = NADIR
^MEX_POINTING_DESC = "MEX_POINTING_DESC.TXT"
RIGHT_ASCENSION = -1e+32
DECLINATION = -1e+32
OFFSET_ANGLE = -1e+32
SPACECRAFT_SOLAR_DISTANCE = 2.3713e+08
TARGET_NAME = MARS
/* CAMERA DATA ELEMENTS */
DETECTOR_TEMPERATURE = 17.5549
FOCAL_PLANE_TEMPERATURE = 8.3794
INST_CMPRS_NAME = "DISCRETE COSINE TRANSFORMATION (DCT)"
INST_CMPRS_RATIO = 15.8641
INST_CMPRS_QUALITY = 0
INST_CMPRS_QUANTZ_TBL_ID = 0
INSTRUMENT_TEMPERATURE = 11.234
LENS_TEMPERATURE = 8.7872
MACROPIXEL_SIZE = 4
MISSING_FRAMES = 0
PIXEL_SUBSAMPLING_FLAG = N
SIGNAL_CHAIN_ID = 2
/* RADIOMETRIC DATA ELEMENTS */
BANDWIDTH = 81.0
CENTER_FILTER_WAVELENGTH = 955.5
RADIANCE_OFFSET = 0.367794
RADIANCE_SCALING_FACTOR = 0.00978724
REFLECTANCE_SCALING_FACTOR = 0.00118734
MEX:REFLECTANCE_OFFSET = 0.0446191
/* IMAGE OBJECT DEFINITIONS */
OBJECT = IMAGE
  INTERCHANGE_FORMAT = BINARY
  LINES = 10796
  LINE_SAMPLES = 12110
  SAMPLE_TYPE = UNSIGNED_INTEGER
  SAMPLE_BITS = 8
  BANDS = 1
  BAND_STORAGE_TYPE = BAND_SEQUENTIAL
  MAXIMUM = 223
  MEAN = 88.4053
  MINIMUM = 26
  STANDARD_DEVIATION = 30.8943
END_OBJECT = IMAGE
/* MAP OBJECT DEFINITIONS */
OBJECT = IMAGE_MAP_PROJECTION
  ^DATA_SET_MAP_PROJECTION_CATALOG= "DSMAP.CAT"
  A_AXIS_RADIUS = 3396.0
  B_AXIS_RADIUS = 3396.0
  C_AXIS_RADIUS = 3396.0
  CENTER_LATITUDE = 90.0
  CENTER_LONGITUDE = 0.0
  COORDINATE_SYSTEM_NAME = PLANETOGRAPHIC
  COORDINATE_SYSTEM_TYPE = "BODY-FIXED ROTATING"
  EASTERNMOST_LONGITUDE = 222.689
  FIRST_STANDARD_PARALLEL = "N/A"
  LINE_FIRST_PIXEL = 1
  LINE_LAST_PIXEL = 10796
  LINE_PROJECTION_OFFSET = 7407.375
  MAP_PROJECTION_ROTATION = 0.0
  MAP_PROJECTION_TYPE = STEREOGRAPHIC
  MAP_RESOLUTION = 592.713803866667
  MAP_SCALE = 0.1
  MAXIMUM_LATITUDE = 89.45480000000001
  MINIMUM_LATITUDE = 75.8236
  POSITIVE_LONGITUDE_DIRECTION = EAST
  REFERENCE_LATITUDE = "N/A"
  REFERENCE_LONGITUDE = "N/A"
  SAMPLE_FIRST_PIXEL = 1
  SAMPLE_LAST_PIXEL = 12110
  SAMPLE_PROJECTION_OFFSET = 5341.875
  SECOND_STANDARD_PARALLEL = "N/A"
  WESTERNMOST_LONGITUDE = 46.9955
END_OBJECT = IMAGE_MAP_PROJECTION
/* The JPEG2000 image data file associated with this label. */
OBJECT = COMPRESSED_FILE
  FILE_NAME = "H1177_0000_IR3.JP2"
  RECORD_TYPE = UNDEFINED
  FILE_RECORDS = UNK
  ENCODING_TYPE = "JP2"
  INTERCHANGE_FORMAT = BINARY
  UNCOMPRESSED_FILE_NAME = "H1177_0000_IR3.IMG"
  REQUIRED_STORAGE_BYTES = "130775890"
  ^DESCRIPTION = "JP2INFO.TXT"
END_OBJECT = COMPRESSED_FILE
END
