PDS_VERSION_ID = PDS3
/* FILE DATA ELEMENTS */
RECORD_TYPE = STREAM
/* POINTERS TO DATA OBJECTS */
^COMPRESSED_FILE = "H1183_0000_IR3.JP2"
/* IDENTIFICATION DATA ELEMENTS */
DATA_SET_ID = "MEX-M-HRSC-5-REFDR-MAPPROJECTED-V3.0"
DATA_SET_NAME = "MARS EXPRESS HRSC MAP PROJECTED REFDR V3.0"
DETECTOR_ID = MEX_HRSC_IR
EVENT_TYPE = "MARS-REGIONAL-MAPPING-Lc-La-Tc"
INSTRUMENT_HOST_ID = MEX
INSTRUMENT_HOST_NAME = "MARS EXPRESS"
INSTRUMENT_ID = HRSC
INSTRUMENT_NAME = "HIGH RESOLUTION STEREO CAMERA"
MISSION_NAME = "MARS EXPRESS"
MISSION_PHASE_NAME = MR_Phase_3
PROCESSING_LEVEL_ID = 3
PRODUCT_CREATION_TIME = 2016-03-04T15:08:32.000Z
PRODUCT_ID = "H1183_0000_IR3.JP2"
RELEASE_ID = 0015
REVISION_ID = 0000
/* QUALITY DATA ELEMENTS */
DATA_QUALITY_ID = 1
DATA_QUALITY_DESC = "Data calculated based on original SPICE kernels"
/* TIME DATA ELEMENTS */
SPACECRAFT_CLOCK_START_COUNT = "1/0051580382.57157"
SPACECRAFT_CLOCK_STOP_COUNT = "1/0051580754.65435"
START_TIME = 2004-12-19T23:53:15.762Z
STOP_TIME = 2004-12-19T23:57:41.560Z
/* ORBITAL DATA ELEMENTS */
ASCENDING_NODE_LONGITUDE = 203.83
MAXIMUM_RESOLUTION = 56.6
FOOTPRINT_POINT_LATITUDE = (11.1,11.1045,10.9131,10.5568,10.0337, 9.68186,9.15469,8.80359,8.45251,7.92605 ,7.57621,7.05174,6.70167,6.17724, 5.82759,5.478,5.1291,4.60579,4.2568, 3.90831,3.5605,3.2146,2.86567,2.51969, 2.17315,1.82598,1.30892,0.96393, 0.619638,0.274586,-0.0697837,-0.412726, -0.755971,-1.09881,-1.44107,-1.78277, -2.12468,-2.46617,-2.98057,-3.48896, -3.82692,-4.33443,-4.67681,-5.00927, -5.34765,-5.68399,-6.18837,-6.24488, -6.25076,-6.2538,-6.26043,-6.10045, -5.76392,-5.25855,-4.921,-4.58281, -4.24434,-3.90485,-3.56557,-3.226, -2.88496,-2.54368,-2.20261,-1.86082, -1.51855,-1.17602,-0.832707,-0.489518, -0.145147,0.199519,0.716553,1.23429, 1.58007,1.92631,2.44534,2.79389,3.14118 ,3.48758,3.83556,4.1838,4.53312,4.88148 ,5.22976,5.57915,5.9297,6.28008,6.63004 ,6.98024,7.33038,7.85596,8.20642, 8.55714,8.90874,9.25802,9.6118,9.96327, 10.3157,10.6684,11.0209,11.1)
FOOTPRINT_POINT_LONGITUDE = (354.596,354.24,353.943,353.938,353.933 ,353.929,353.922,353.917,353.912, 353.905,353.899,353.891,353.886,353.877 ,353.871,353.865,353.858,353.848, 353.841,353.834,353.827,353.82,353.812, 353.805,353.797,353.789,353.777,353.769 ,353.761,353.753,353.744,353.735, 353.726,353.717,353.708,353.699,353.69, 353.68,353.664,353.65,353.64,353.625, 353.614,353.605,353.594,353.583,353.566 ,353.953,354.197,354.49,354.865,355.311 ,355.306,355.299,355.294,355.289, 355.285,355.28,355.276,355.272,355.268, 355.264,355.26,355.256,355.252,355.248, 355.244,355.241,355.237,355.233,355.228 ,355.223,355.22,355.216,355.212,355.208 ,355.205,355.203,355.2,355.197,355.194, 355.192,355.189,355.187,355.184,355.181 ,355.179,355.176,355.174,355.171, 355.169,355.168,355.165,355.165,355.162 ,355.16,355.158,355.156,355.154, 354.596)
ORBIT_NUMBER = 1183
ORBITAL_ECCENTRICITY = 0.571
ORBITAL_INCLINATION = 86.62
ORBITAL_SEMIMAJOR_AXIS = 8603.17
PERIAPSIS_ALTITUDE = 297.55
PERIAPSIS_ARGUMENT_ANGLE = 152.98
PERIAPSIS_TIME = 2004-12-19T23:49:39.000Z
SPACECRAFT_ORIENTATION = (0.0,-1.0,0.0)
^MEX_ORIENTATION_DESC = "MEX_ORIENTATION_DESC.TXT"
SPACECRAFT_POINTING_MODE = ACROSSTRACK
^MEX_POINTING_DESC = "MEX_POINTING_DESC.TXT"
RIGHT_ASCENSION = -1e+32
DECLINATION = -1e+32
OFFSET_ANGLE = 0.22
SPACECRAFT_SOLAR_DISTANCE = 2.36845e+08
TARGET_NAME = MARS
/* CAMERA DATA ELEMENTS */
DETECTOR_TEMPERATURE = 17.1471
FOCAL_PLANE_TEMPERATURE = 8.1755
INST_CMPRS_NAME = "DISCRETE COSINE TRANSFORMATION (DCT)"
INST_CMPRS_RATIO = 16.6998
INST_CMPRS_QUALITY = 0
INST_CMPRS_QUANTZ_TBL_ID = 0
INSTRUMENT_TEMPERATURE = 11.0301
LENS_TEMPERATURE = 8.5833
MACROPIXEL_SIZE = 4
MISSING_FRAMES = 0
PIXEL_SUBSAMPLING_FLAG = N
SIGNAL_CHAIN_ID = 2
/* RADIOMETRIC DATA ELEMENTS */
BANDWIDTH = 81.0
CENTER_FILTER_WAVELENGTH = 955.5
RADIANCE_OFFSET = 0.637806
RADIANCE_SCALING_FACTOR = 0.0101185
REFLECTANCE_SCALING_FACTOR = 0.00122454
MEX:REFLECTANCE_OFFSET = 0.077187
/* IMAGE OBJECT DEFINITIONS */
OBJECT = IMAGE
  INTERCHANGE_FORMAT = BINARY
  LINES = 20557
  LINE_SAMPLES = 2274
  SAMPLE_TYPE = UNSIGNED_INTEGER
  SAMPLE_BITS = 8
  BANDS = 1
  BAND_STORAGE_TYPE = BAND_SEQUENTIAL
  MAXIMUM = 237
  MEAN = 70.7701
  MINIMUM = 20
  STANDARD_DEVIATION = 21.2903
END_OBJECT = IMAGE
/* MAP OBJECT DEFINITIONS */
OBJECT = IMAGE_MAP_PROJECTION
  ^DATA_SET_MAP_PROJECTION_CATALOG= "DSMAP.CAT"
  A_AXIS_RADIUS = 3396.0
  B_AXIS_RADIUS = 3396.0
  C_AXIS_RADIUS = 3396.0
  CENTER_LATITUDE = 0.0
  CENTER_LONGITUDE = 354.0
  COORDINATE_SYSTEM_NAME = PLANETOGRAPHIC
  COORDINATE_SYSTEM_TYPE = "BODY-FIXED ROTATING"
  EASTERNMOST_LONGITUDE = 355.311
  FIRST_STANDARD_PARALLEL = "N/A"
  LINE_FIRST_PIXEL = 1
  LINE_LAST_PIXEL = 20557
  LINE_PROJECTION_OFFSET = 13144.875
  MAP_PROJECTION_ROTATION = 0.0
  MAP_PROJECTION_TYPE = SINUSOIDAL
  MAP_RESOLUTION = 1185.42760773333
  MAP_SCALE = 0.05
  MAXIMUM_LATITUDE = 11.1045
  MINIMUM_LATITUDE = -6.26043
  POSITIVE_LONGITUDE_DIRECTION = EAST
  REFERENCE_LATITUDE = "N/A"
  REFERENCE_LONGITUDE = "N/A"
  SAMPLE_FIRST_PIXEL = 1
  SAMPLE_LAST_PIXEL = 2274
  SAMPLE_PROJECTION_OFFSET = 611.625
  SECOND_STANDARD_PARALLEL = "N/A"
  WESTERNMOST_LONGITUDE = 353.566
END_OBJECT = IMAGE_MAP_PROJECTION
/* The JPEG2000 image data file associated with this label. */
OBJECT = COMPRESSED_FILE
  FILE_NAME = "H1183_0000_IR3.JP2"
  RECORD_TYPE = UNDEFINED
  FILE_RECORDS = UNK
  ENCODING_TYPE = "JP2"
  INTERCHANGE_FORMAT = BINARY
  UNCOMPRESSED_FILE_NAME = "H1183_0000_IR3.IMG"
  REQUIRED_STORAGE_BYTES = "46769358"
  ^DESCRIPTION = "JP2INFO.TXT"
END_OBJECT = COMPRESSED_FILE
END
