PDS_VERSION_ID = PDS3
/* FILE DATA ELEMENTS */
RECORD_TYPE = STREAM
/* POINTERS TO DATA OBJECTS */
^COMPRESSED_FILE = "H1193_0000_P23.JP2"
/* IDENTIFICATION DATA ELEMENTS */
DATA_SET_ID = "MEX-M-HRSC-5-REFDR-MAPPROJECTED-V3.0"
DATA_SET_NAME = "MARS EXPRESS HRSC MAP PROJECTED REFDR V3.0"
DETECTOR_ID = MEX_HRSC_P2
EVENT_TYPE = "MARS-REGIONAL-MAPPING-Gl-Eo-La"
INSTRUMENT_HOST_ID = MEX
INSTRUMENT_HOST_NAME = "MARS EXPRESS"
INSTRUMENT_ID = HRSC
INSTRUMENT_NAME = "HIGH RESOLUTION STEREO CAMERA"
MISSION_NAME = "MARS EXPRESS"
MISSION_PHASE_NAME = MR_Phase_3
PROCESSING_LEVEL_ID = 3
PRODUCT_CREATION_TIME = 2016-03-04T15:08:32.000Z
PRODUCT_ID = "H1193_0000_P23.JP2"
RELEASE_ID = 0015
REVISION_ID = 0000
/* QUALITY DATA ELEMENTS */
DATA_QUALITY_ID = 1
DATA_QUALITY_DESC = "Data calculated based on original SPICE kernels"
/* TIME DATA ELEMENTS */
SPACECRAFT_CLOCK_START_COUNT = "1/0051820928.57967"
SPACECRAFT_CLOCK_STOP_COUNT = "1/0051821463.13063"
START_TIME = 2004-12-22T18:46:28.183Z
STOP_TIME = 2004-12-22T18:50:47.307Z
/* ORBITAL DATA ELEMENTS */
ASCENDING_NODE_LONGITUDE = 203.61
MAXIMUM_RESOLUTION = 53.4
FOOTPRINT_POINT_LATITUDE = (84.6191,84.3856,84.1065,83.7998, 83.4692,83.1171,82.7929,82.5154,82.3119 ,82.1002,81.8812,81.6553,81.423,81.0638 ,80.8168,80.565,80.3085,79.9168,79.6535 ,79.3889,79.1234,78.8573,78.5907, 78.3235,78.0558,77.7885,77.5217,77.2548 ,76.9878,76.722,76.3237,75.9266,75.5314 ,75.1379,74.7464,74.4859,74.2271, 73.8408,73.5843,73.329,72.9477,72.6948, 72.4433,72.0683,71.8186,71.5717,71.0793 ,70.5919,70.2292,70.2544,70.3554, 70.4102,70.474,70.5223,70.8978,71.4035, 71.9154,72.1734,72.4333,72.694,72.9573, 73.2209,73.4874,73.8893,74.1586,74.4306 ,74.841,75.2552,75.533,75.8133,76.0944, 76.3776,76.6627,76.9493,77.238,77.5285, 77.8201,78.1137,78.4094,78.7068,79.0057 ,79.3064,79.6092,79.9133,80.2188, 80.5259,80.835,81.1469,81.4566,81.7695, 82.0788,82.5413,82.8474,83.3028,83.6031 ,83.902,84.1971,84.4899,84.7793, 84.6191)
FOOTPRINT_POINT_LONGITUDE = (68.1831,63.968,59.846,56.0928,52.6871, 49.5946,47.1215,48.9506,50.7366,52.4383 ,54.0495,55.5785,57.0259,59.0499, 60.3215,61.5228,62.6622,64.2611,65.2495 ,66.1809,67.0595,67.8896,68.6743, 69.4174,70.1216,70.7902,71.4212,72.0227 ,72.5955,73.1395,73.9086,74.626,75.2947 ,75.9204,76.506,76.8778,77.2329,77.738, 78.0593,78.3673,78.8089,79.089,79.3589, 79.745,79.9922,80.2291,80.6812,81.1029, 81.4012,82.8874,84.5781,85.6204,86.9883 ,88.1862,88.0775,87.9232,87.7575, 87.6701,87.5791,87.4848,87.3867,87.2849 ,87.1785,87.0109,86.8933,86.7704, 86.5758,86.3676,86.2208,86.0665,85.9051 ,85.7352,85.5565,85.3687,85.1705, 84.9612,84.7403,84.5065,84.2583,83.995, 83.7153,83.4169,83.0982,82.7578,82.3931 ,82.0015,81.5792,81.1236,80.6309, 80.0987,79.5255,78.5779,77.8793,76.7142 ,75.8475,74.8964,73.8505,72.6941, 71.4109,68.1831)
ORBIT_NUMBER = 1193
ORBITAL_ECCENTRICITY = 0.571
ORBITAL_INCLINATION = 86.63
ORBITAL_SEMIMAJOR_AXIS = 8608.42
PERIAPSIS_ALTITUDE = 297.84
PERIAPSIS_ARGUMENT_ANGLE = 151.2
PERIAPSIS_TIME = 2004-12-22T19:01:17.000Z
SPACECRAFT_ORIENTATION = (0.0,-1.0,0.0)
^MEX_ORIENTATION_DESC = "MEX_ORIENTATION_DESC.TXT"
SPACECRAFT_POINTING_MODE = ACROSSTRACK
^MEX_POINTING_DESC = "MEX_POINTING_DESC.TXT"
RIGHT_ASCENSION = -1e+32
DECLINATION = -1e+32
OFFSET_ANGLE = -0.56
SPACECRAFT_SOLAR_DISTANCE = 2.36365e+08
TARGET_NAME = MARS
/* CAMERA DATA ELEMENTS */
DETECTOR_TEMPERATURE = 18.7783
FOCAL_PLANE_TEMPERATURE = 8.3794
INST_CMPRS_NAME = "DISCRETE COSINE TRANSFORMATION (DCT)"
INST_CMPRS_RATIO = 7.72772
INST_CMPRS_QUALITY = 0
INST_CMPRS_QUANTZ_TBL_ID = 0
INSTRUMENT_TEMPERATURE = 11.0301
LENS_TEMPERATURE = 8.7872
MACROPIXEL_SIZE = 2
MISSING_FRAMES = 0
PIXEL_SUBSAMPLING_FLAG = N
SIGNAL_CHAIN_ID = 3
/* RADIOMETRIC DATA ELEMENTS */
BANDWIDTH = 177.0
CENTER_FILTER_WAVELENGTH = 676.5
RADIANCE_OFFSET = 1.55602
RADIANCE_SCALING_FACTOR = 0.0348959
REFLECTANCE_SCALING_FACTOR = 0.00103373
MEX:REFLECTANCE_OFFSET = 0.0460944
/* IMAGE OBJECT DEFINITIONS */
OBJECT = IMAGE
  INTERCHANGE_FORMAT = BINARY
  LINES = 17589
  LINE_SAMPLES = 8697
  SAMPLE_TYPE = UNSIGNED_INTEGER
  SAMPLE_BITS = 8
  BANDS = 1
  BAND_STORAGE_TYPE = BAND_SEQUENTIAL
  MAXIMUM = 234
  MEAN = 117.309
  MINIMUM = 29
  STANDARD_DEVIATION = 38.9712
END_OBJECT = IMAGE
/* MAP OBJECT DEFINITIONS */
OBJECT = IMAGE_MAP_PROJECTION
  ^DATA_SET_MAP_PROJECTION_CATALOG= "DSMAP.CAT"
  A_AXIS_RADIUS = 3396.0
  B_AXIS_RADIUS = 3396.0
  C_AXIS_RADIUS = 3396.0
  CENTER_LATITUDE = 0.0
  CENTER_LONGITUDE = 79.0
  COORDINATE_SYSTEM_NAME = PLANETOGRAPHIC
  COORDINATE_SYSTEM_TYPE = "BODY-FIXED ROTATING"
  EASTERNMOST_LONGITUDE = 88.1862
  FIRST_STANDARD_PARALLEL = "N/A"
  LINE_FIRST_PIXEL = 1
  LINE_LAST_PIXEL = 17589
  LINE_PROJECTION_OFFSET = 100733.75
  MAP_PROJECTION_ROTATION = 0.0
  MAP_PROJECTION_TYPE = SINUSOIDAL
  MAP_RESOLUTION = 1185.42760773333
  MAP_SCALE = 0.05
  MAXIMUM_LATITUDE = 84.77930000000001
  MINIMUM_LATITUDE = 70.22920000000001
  POSITIVE_LONGITUDE_DIRECTION = EAST
  REFERENCE_LATITUDE = "N/A"
  REFERENCE_LONGITUDE = "N/A"
  SAMPLE_FIRST_PIXEL = 1
  SAMPLE_LAST_PIXEL = 8697
  SAMPLE_PROJECTION_OFFSET = 5015.75
  SECOND_STANDARD_PARALLEL = "N/A"
  WESTERNMOST_LONGITUDE = 47.1215
END_OBJECT = IMAGE_MAP_PROJECTION
/* The JPEG2000 image data file associated with this label. */
OBJECT = COMPRESSED_FILE
  FILE_NAME = "H1193_0000_P23.JP2"
  RECORD_TYPE = UNDEFINED
  FILE_RECORDS = UNK
  ENCODING_TYPE = "JP2"
  INTERCHANGE_FORMAT = BINARY
  UNCOMPRESSED_FILE_NAME = "H1193_0000_P23.IMG"
  REQUIRED_STORAGE_BYTES = "153006321"
  ^DESCRIPTION = "JP2INFO.TXT"
END_OBJECT = COMPRESSED_FILE
END
