PDS_VERSION_ID = PDS3
/* FILE DATA ELEMENTS */
RECORD_TYPE = STREAM
/* POINTERS TO DATA OBJECTS */
^COMPRESSED_FILE = "H1193_0000_S13.JP2"
/* IDENTIFICATION DATA ELEMENTS */
DATA_SET_ID = "MEX-M-HRSC-5-REFDR-MAPPROJECTED-V3.0"
DATA_SET_NAME = "MARS EXPRESS HRSC MAP PROJECTED REFDR V3.0"
DETECTOR_ID = MEX_HRSC_S1
EVENT_TYPE = "MARS-REGIONAL-MAPPING-Gl-Eo-La"
INSTRUMENT_HOST_ID = MEX
INSTRUMENT_HOST_NAME = "MARS EXPRESS"
INSTRUMENT_ID = HRSC
INSTRUMENT_NAME = "HIGH RESOLUTION STEREO CAMERA"
MISSION_NAME = "MARS EXPRESS"
MISSION_PHASE_NAME = MR_Phase_3
PROCESSING_LEVEL_ID = 3
PRODUCT_CREATION_TIME = 2016-03-04T15:08:32.000Z
PRODUCT_ID = "H1193_0000_S13.JP2"
RELEASE_ID = 0015
REVISION_ID = 0000
/* QUALITY DATA ELEMENTS */
DATA_QUALITY_ID = 1
DATA_QUALITY_DESC = "Data calculated based on original SPICE kernels"
/* TIME DATA ELEMENTS */
SPACECRAFT_CLOCK_START_COUNT = "1/0051820928.57967"
SPACECRAFT_CLOCK_STOP_COUNT = "1/0051821463.13063"
START_TIME = 2004-12-22T18:42:16.777Z
STOP_TIME = 2004-12-22T18:48:33.282Z
/* ORBITAL DATA ELEMENTS */
ASCENDING_NODE_LONGITUDE = 203.61
MAXIMUM_RESOLUTION = 67.5
FOOTPRINT_POINT_LATITUDE = (85.4402,85.3012,85.0538,84.8658, 84.6613,84.442,84.2096,83.9656,83.7112, 83.4471,83.1742,82.8934,82.4956,82.2588 ,81.9693,81.6523,81.3102,80.8544, 80.3709,79.9579,79.5284,79.0807,78.6182 ,78.1409,77.8959,77.6478,77.3961, 77.1412,76.8826,76.6209,76.3562,76.0879 ,75.817,75.543,75.2656,74.9851,74.7021, 74.4158,74.1271,73.8348,73.5398,73.2424 ,72.9427,72.4872,72.1824,71.8789, 71.5764,71.2757,70.9762,70.678,70.381, 70.1285,70.2766,70.3832,70.4674,70.5326 ,70.6037,70.6594,70.9707,71.2838, 71.5988,71.9158,72.2352,72.5569,72.8806 ,73.2062,73.5325,73.857,74.1797,74.5004 ,74.8194,75.136,75.4507,75.7637,76.075, 76.3846,76.6916,76.997,77.3004,77.6015, 77.9012,78.1992,78.4953,78.7888,79.0811 ,79.3713,79.6597,79.9465,80.2315, 80.5148,81.0758,81.6289,82.041,82.5816, 82.9815,83.3781,84.0281,84.5367,85.0398 ,85.4402)
FOOTPRINT_POINT_LONGITUDE = (76.3999,72.5047,67.1233,63.8474, 60.8157,58.017,55.4402,53.0713,50.8932, 48.8875,47.0405,45.3374,43.2085,44.7203 ,47.6895,50.4839,53.0996,56.113,58.8596 ,60.8927,62.779,64.5327,66.1606,67.6733 ,68.3899,69.0808,69.7472,70.3901, 71.0107,71.6096,72.1877,72.746,73.2852, 73.8061,74.3095,74.796,75.2663,75.7211, 76.1609,76.5864,76.998,77.3965,77.7823, 78.338,78.6912,79.0294,79.3533,79.6639, 79.9616,80.2474,80.5219,81.3364,82.9803 ,84.3193,85.5085,86.5445,87.8245, 88.9779,88.9163,88.8524,88.7861,88.7171 ,88.645,88.5697,88.4911,88.4092,88.3241 ,88.2359,88.1446,88.0502,87.9524, 87.8516,87.7472,87.6387,87.5258,87.4083 ,87.2874,87.1614,87.0302,86.8947, 86.7525,86.6039,86.4488,86.2883,86.119, 85.9424,85.7571,85.5621,85.3573,85.1414 ,84.6738,84.1535,83.7142,83.0704, 82.5325,81.9319,80.7788,79.6933,78.3849 ,76.3999)
ORBIT_NUMBER = 1193
ORBITAL_ECCENTRICITY = 0.571
ORBITAL_INCLINATION = 86.63
ORBITAL_SEMIMAJOR_AXIS = 8608.42
PERIAPSIS_ALTITUDE = 297.84
PERIAPSIS_ARGUMENT_ANGLE = 151.2
PERIAPSIS_TIME = 2004-12-22T19:01:17.000Z
SPACECRAFT_ORIENTATION = (0.0,-1.0,0.0)
^MEX_ORIENTATION_DESC = "MEX_ORIENTATION_DESC.TXT"
SPACECRAFT_POINTING_MODE = ACROSSTRACK
^MEX_POINTING_DESC = "MEX_POINTING_DESC.TXT"
RIGHT_ASCENSION = -1e+32
DECLINATION = -1e+32
OFFSET_ANGLE = -0.56
SPACECRAFT_SOLAR_DISTANCE = 2.36365e+08
TARGET_NAME = MARS
/* CAMERA DATA ELEMENTS */
DETECTOR_TEMPERATURE = 17.5549
FOCAL_PLANE_TEMPERATURE = 8.3794
INST_CMPRS_NAME = "DISCRETE COSINE TRANSFORMATION (DCT)"
INST_CMPRS_RATIO = 10.8186
INST_CMPRS_QUALITY = 0
INST_CMPRS_QUANTZ_TBL_ID = 0
INSTRUMENT_TEMPERATURE = 11.0301
LENS_TEMPERATURE = 8.7872
MACROPIXEL_SIZE = 2
MISSING_FRAMES = 0
PIXEL_SUBSAMPLING_FLAG = N
SIGNAL_CHAIN_ID = 1
/* RADIOMETRIC DATA ELEMENTS */
BANDWIDTH = 180.0
CENTER_FILTER_WAVELENGTH = 677.0
RADIANCE_OFFSET = 1.87207
RADIANCE_SCALING_FACTOR = 0.0382804
REFLECTANCE_SCALING_FACTOR = 0.00111582
MEX:REFLECTANCE_OFFSET = 0.0545684
/* IMAGE OBJECT DEFINITIONS */
OBJECT = IMAGE
  INTERCHANGE_FORMAT = BINARY
  LINES = 17589
  LINE_SAMPLES = 8697
  SAMPLE_TYPE = UNSIGNED_INTEGER
  SAMPLE_BITS = 8
  BANDS = 1
  BAND_STORAGE_TYPE = BAND_SEQUENTIAL
  MAXIMUM = 184
  MEAN = 92.8863
  MINIMUM = 25
  STANDARD_DEVIATION = 33.7759
END_OBJECT = IMAGE
/* MAP OBJECT DEFINITIONS */
OBJECT = IMAGE_MAP_PROJECTION
  ^DATA_SET_MAP_PROJECTION_CATALOG= "DSMAP.CAT"
  A_AXIS_RADIUS = 3396.0
  B_AXIS_RADIUS = 3396.0
  C_AXIS_RADIUS = 3396.0
  CENTER_LATITUDE = 0.0
  CENTER_LONGITUDE = 79.0
  COORDINATE_SYSTEM_NAME = PLANETOGRAPHIC
  COORDINATE_SYSTEM_TYPE = "BODY-FIXED ROTATING"
  EASTERNMOST_LONGITUDE = 88.97790000000001
  FIRST_STANDARD_PARALLEL = "N/A"
  LINE_FIRST_PIXEL = 1
  LINE_LAST_PIXEL = 17589
  LINE_PROJECTION_OFFSET = 100733.75
  MAP_PROJECTION_ROTATION = 0.0
  MAP_PROJECTION_TYPE = SINUSOIDAL
  MAP_RESOLUTION = 1185.42760773333
  MAP_SCALE = 0.05
  MAXIMUM_LATITUDE = 85.4402
  MINIMUM_LATITUDE = 70.1285
  POSITIVE_LONGITUDE_DIRECTION = EAST
  REFERENCE_LATITUDE = "N/A"
  REFERENCE_LONGITUDE = "N/A"
  SAMPLE_FIRST_PIXEL = 1
  SAMPLE_LAST_PIXEL = 8697
  SAMPLE_PROJECTION_OFFSET = 5015.75
  SECOND_STANDARD_PARALLEL = "N/A"
  WESTERNMOST_LONGITUDE = 43.2085
END_OBJECT = IMAGE_MAP_PROJECTION
/* The JPEG2000 image data file associated with this label. */
OBJECT = COMPRESSED_FILE
  FILE_NAME = "H1193_0000_S13.JP2"
  RECORD_TYPE = UNDEFINED
  FILE_RECORDS = UNK
  ENCODING_TYPE = "JP2"
  INTERCHANGE_FORMAT = BINARY
  UNCOMPRESSED_FILE_NAME = "H1193_0000_S13.IMG"
  REQUIRED_STORAGE_BYTES = "153006321"
  ^DESCRIPTION = "JP2INFO.TXT"
END_OBJECT = COMPRESSED_FILE
END
