PDS_VERSION_ID = PDS3
/* FILE DATA ELEMENTS */
RECORD_TYPE = STREAM
/* POINTERS TO DATA OBJECTS */
^COMPRESSED_FILE = "H1193_0000_S23.JP2"
/* IDENTIFICATION DATA ELEMENTS */
DATA_SET_ID = "MEX-M-HRSC-5-REFDR-MAPPROJECTED-V3.0"
DATA_SET_NAME = "MARS EXPRESS HRSC MAP PROJECTED REFDR V3.0"
DETECTOR_ID = MEX_HRSC_S2
EVENT_TYPE = "MARS-REGIONAL-MAPPING-Gl-Eo-La"
INSTRUMENT_HOST_ID = MEX
INSTRUMENT_HOST_NAME = "MARS EXPRESS"
INSTRUMENT_ID = HRSC
INSTRUMENT_NAME = "HIGH RESOLUTION STEREO CAMERA"
MISSION_NAME = "MARS EXPRESS"
MISSION_PHASE_NAME = MR_Phase_3
PROCESSING_LEVEL_ID = 3
PRODUCT_CREATION_TIME = 2016-03-04T15:08:32.000Z
PRODUCT_ID = "H1193_0000_S23.JP2"
RELEASE_ID = 0015
REVISION_ID = 0000
/* QUALITY DATA ELEMENTS */
DATA_QUALITY_ID = 1
DATA_QUALITY_DESC = "Data calculated based on original SPICE kernels"
/* TIME DATA ELEMENTS */
SPACECRAFT_CLOCK_START_COUNT = "1/0051820928.57967"
SPACECRAFT_CLOCK_STOP_COUNT = "1/0051821463.13063"
START_TIME = 2004-12-22T18:47:03.025Z
STOP_TIME = 2004-12-22T18:51:09.071Z
/* ORBITAL DATA ELEMENTS */
ASCENDING_NODE_LONGITUDE = 203.61
MAXIMUM_RESOLUTION = 53.6
FOOTPRINT_POINT_LATITUDE = (84.4993,84.2605,83.9936,83.7022, 83.3889,83.0554,82.6617,82.3396,81.9974 ,81.7598,81.3926,81.1437,80.8892, 80.6334,80.3756,79.9843,79.7216,79.4578 ,79.1929,78.9277,78.6618,78.3953, 78.1291,77.8631,77.5964,77.3307,77.0654 ,76.7999,76.5358,76.1402,75.7461, 75.4838,75.2233,74.8339,74.5747,74.3176 ,74.0599,73.8054,73.5509,73.2975, 73.0448,72.7934,72.4187,72.1696,71.9232 ,71.6761,71.4319,71.1872,70.7029, 70.3427,70.1852,70.2662,70.3251,70.3753 ,70.4288,70.4682,70.8571,71.233,71.4836 ,71.7378,71.9917,72.2485,72.5056, 72.7652,73.0258,73.2885,73.552,73.8181, 74.0845,74.3537,74.6236,74.8961,75.3072 ,75.5828,75.8607,76.2803,76.5618, 76.8462,77.2753,77.7077,77.9977,78.2906 ,78.5849,79.0294,79.4775,79.778,80.0805 ,80.3848,80.69,81.1528,81.6149,81.9249, 82.2398,82.5521,82.8677,83.1842,83.6555 ,84.121,84.5798,84.4993)
FOOTPRINT_POINT_LONGITUDE = (67.7377,63.5006,59.599,56.0224,52.7494 ,49.7522,48.4882,51.3175,53.9359, 55.5583,57.8081,59.1783,60.4865,61.7015 ,62.8384,64.4257,65.4063,66.3284, 67.1993,68.022,68.8007,69.5372,70.2338, 70.8943,71.5229,72.1186,72.6849,73.2257 ,73.7387,74.4658,75.144,75.5721,75.9806 ,76.561,76.9287,77.2801,77.6208,77.9425 ,78.2542,78.5536,78.843,79.1207,79.5183 ,79.7719,80.015,80.2514,80.4785,80.6992 ,81.1175,81.4133,82.0038,83.3378, 84.4159,85.4311,86.6365,87.6513,88.0076 ,87.8914,87.811,87.7271,87.6406,87.5505 ,87.4573,87.3602,87.2596,87.1546, 87.0456,86.9318,86.8136,86.6899,86.5613 ,86.4263,86.2126,86.062,85.9037,85.6519 ,85.4736,85.2852,84.9843,84.6583, 84.4259,84.1788,83.9169,83.4934,83.028, 82.692,82.3317,81.9452,81.5303,80.8455, 80.0779,79.5109,78.8903,78.2151,77.4711 ,76.6515,75.2673,73.6648,71.7913, 67.7377)
ORBIT_NUMBER = 1193
ORBITAL_ECCENTRICITY = 0.571
ORBITAL_INCLINATION = 86.63
ORBITAL_SEMIMAJOR_AXIS = 8608.42
PERIAPSIS_ALTITUDE = 297.84
PERIAPSIS_ARGUMENT_ANGLE = 151.2
PERIAPSIS_TIME = 2004-12-22T19:01:17.000Z
SPACECRAFT_ORIENTATION = (0.0,-1.0,0.0)
^MEX_ORIENTATION_DESC = "MEX_ORIENTATION_DESC.TXT"
SPACECRAFT_POINTING_MODE = ACROSSTRACK
^MEX_POINTING_DESC = "MEX_POINTING_DESC.TXT"
RIGHT_ASCENSION = -1e+32
DECLINATION = -1e+32
OFFSET_ANGLE = -0.56
SPACECRAFT_SOLAR_DISTANCE = 2.36365e+08
TARGET_NAME = MARS
/* CAMERA DATA ELEMENTS */
DETECTOR_TEMPERATURE = 18.7783
FOCAL_PLANE_TEMPERATURE = 8.3794
INST_CMPRS_NAME = "DISCRETE COSINE TRANSFORMATION (DCT)"
INST_CMPRS_RATIO = 11.5542
INST_CMPRS_QUALITY = 0
INST_CMPRS_QUANTZ_TBL_ID = 0
INSTRUMENT_TEMPERATURE = 11.0301
LENS_TEMPERATURE = 8.7872
MACROPIXEL_SIZE = 2
MISSING_FRAMES = 0
PIXEL_SUBSAMPLING_FLAG = N
SIGNAL_CHAIN_ID = 1
/* RADIOMETRIC DATA ELEMENTS */
BANDWIDTH = 178.0
CENTER_FILTER_WAVELENGTH = 679.0
RADIANCE_OFFSET = 1.63937
RADIANCE_SCALING_FACTOR = 0.0365071
REFLECTANCE_SCALING_FACTOR = 0.00108015
MEX:REFLECTANCE_OFFSET = 0.0485047
/* IMAGE OBJECT DEFINITIONS */
OBJECT = IMAGE
  INTERCHANGE_FORMAT = BINARY
  LINES = 17589
  LINE_SAMPLES = 8697
  SAMPLE_TYPE = UNSIGNED_INTEGER
  SAMPLE_BITS = 8
  BANDS = 1
  BAND_STORAGE_TYPE = BAND_SEQUENTIAL
  MAXIMUM = 195
  MEAN = 104.177
  MINIMUM = 25
  STANDARD_DEVIATION = 34.3952
END_OBJECT = IMAGE
/* MAP OBJECT DEFINITIONS */
OBJECT = IMAGE_MAP_PROJECTION
  ^DATA_SET_MAP_PROJECTION_CATALOG= "DSMAP.CAT"
  A_AXIS_RADIUS = 3396.0
  B_AXIS_RADIUS = 3396.0
  C_AXIS_RADIUS = 3396.0
  CENTER_LATITUDE = 0.0
  CENTER_LONGITUDE = 79.0
  COORDINATE_SYSTEM_NAME = PLANETOGRAPHIC
  COORDINATE_SYSTEM_TYPE = "BODY-FIXED ROTATING"
  EASTERNMOST_LONGITUDE = 88.0076
  FIRST_STANDARD_PARALLEL = "N/A"
  LINE_FIRST_PIXEL = 1
  LINE_LAST_PIXEL = 17589
  LINE_PROJECTION_OFFSET = 100733.75
  MAP_PROJECTION_ROTATION = 0.0
  MAP_PROJECTION_TYPE = SINUSOIDAL
  MAP_RESOLUTION = 1185.42760773333
  MAP_SCALE = 0.05
  MAXIMUM_LATITUDE = 84.57980000000001
  MINIMUM_LATITUDE = 70.18519999999999
  POSITIVE_LONGITUDE_DIRECTION = EAST
  REFERENCE_LATITUDE = "N/A"
  REFERENCE_LONGITUDE = "N/A"
  SAMPLE_FIRST_PIXEL = 1
  SAMPLE_LAST_PIXEL = 8697
  SAMPLE_PROJECTION_OFFSET = 5015.75
  SECOND_STANDARD_PARALLEL = "N/A"
  WESTERNMOST_LONGITUDE = 48.4882
END_OBJECT = IMAGE_MAP_PROJECTION
/* The JPEG2000 image data file associated with this label. */
OBJECT = COMPRESSED_FILE
  FILE_NAME = "H1193_0000_S23.JP2"
  RECORD_TYPE = UNDEFINED
  FILE_RECORDS = UNK
  ENCODING_TYPE = "JP2"
  INTERCHANGE_FORMAT = BINARY
  UNCOMPRESSED_FILE_NAME = "H1193_0000_S23.IMG"
  REQUIRED_STORAGE_BYTES = "153006321"
  ^DESCRIPTION = "JP2INFO.TXT"
END_OBJECT = COMPRESSED_FILE
END
