PDS_VERSION_ID = PDS3
/* FILE DATA ELEMENTS */
RECORD_TYPE = STREAM
/* POINTERS TO DATA OBJECTS */
^COMPRESSED_FILE = "H1193_0001_S13.JP2"
/* IDENTIFICATION DATA ELEMENTS */
DATA_SET_ID = "MEX-M-HRSC-5-REFDR-MAPPROJECTED-V3.0"
DATA_SET_NAME = "MARS EXPRESS HRSC MAP PROJECTED REFDR V3.0"
DETECTOR_ID = MEX_HRSC_S1
EVENT_TYPE = "MARS-REGIONAL-MAPPING-Im-Fl-Ot"
INSTRUMENT_HOST_ID = MEX
INSTRUMENT_HOST_NAME = "MARS EXPRESS"
INSTRUMENT_ID = HRSC
INSTRUMENT_NAME = "HIGH RESOLUTION STEREO CAMERA"
MISSION_NAME = "MARS EXPRESS"
MISSION_PHASE_NAME = MR_Phase_3
PROCESSING_LEVEL_ID = 3
PRODUCT_CREATION_TIME = 2016-03-04T15:08:32.000Z
PRODUCT_ID = "H1193_0001_S13.JP2"
RELEASE_ID = 0015
REVISION_ID = 0000
/* QUALITY DATA ELEMENTS */
DATA_QUALITY_ID = 1
DATA_QUALITY_DESC = "Data calculated based on original SPICE kernels"
/* TIME DATA ELEMENTS */
SPACECRAFT_CLOCK_START_COUNT = "1/0051822283.56180"
SPACECRAFT_CLOCK_STOP_COUNT = "1/0051822559.48854"
START_TIME = 2004-12-22T19:04:51.674Z
STOP_TIME = 2004-12-22T19:07:56.022Z
/* ORBITAL DATA ELEMENTS */
ASCENDING_NODE_LONGITUDE = 203.61
MAXIMUM_RESOLUTION = 28.8
FOOTPRINT_POINT_LATITUDE = (12.7431,12.7367,12.7299,12.7227, 12.7152,12.7072,12.5611,12.3412,12.0115 ,11.7914,11.5714,11.2417,10.9117, 10.6862,10.4594,10.2327,10.0061,9.66625 ,9.32567,9.09458,8.86105,8.62755, 8.39405,8.01062,7.77686,7.53672,7.29685 ,7.05711,6.68963,6.44928,6.20349, 5.95729,5.71091,5.46488,5.21873,4.96683 ,4.71411,4.3357,4.08349,3.69892,3.44217 ,3.18604,2.79677,2.5343,2.26871,1.8732, 1.60341,1.19172,0.926686,0.651452, 0.491771,0.49609,0.500781,0.505285, 0.513679,0.66039,0.936798,1.20471, 1.61796,1.88644,2.15334,2.54882,2.81223 ,3.06763,3.32673,3.71538,3.97484, 4.22738,4.47832,4.73089,4.98344,5.35856 ,5.60443,5.85107,6.09755,6.34418, 6.70764,7.19545,7.43556,7.67454,7.914, 8.29794,8.53159,8.76516,8.99891,9.23277 ,9.46146,9.68789,10.0284,10.2554, 10.4822,10.7091,10.9355,11.1556,11.3758 ,11.706,11.9262,12.2564,12.4768, 12.7431)
FOOTPRINT_POINT_LONGITUDE = (91.5055,91.3204,91.1339,90.946,90.7569 ,90.5661,90.3646,90.3633,90.3612, 90.3595,90.3578,90.3551,90.352,90.3499, 90.3477,90.3455,90.3431,90.3394,90.335, 90.3323,90.3293,90.3263,90.3231,90.3178 ,90.3144,90.3108,90.3073,90.3037, 90.2977,90.2934,90.2895,90.2853,90.281, 90.2766,90.272,90.2674,90.2626,90.2555, 90.2505,90.2437,90.2395,90.2354,90.2276 ,90.2232,90.2169,90.2087,90.2028, 90.1949,90.1914,90.1845,90.3759,90.57, 90.9101,91.1314,91.4976,91.7048,91.7021 ,91.6998,91.696,91.6936,91.691,91.6874, 91.6851,91.683,91.6806,91.677,91.6747, 91.6724,91.6702,91.668,91.6657,91.6624, 91.6602,91.658,91.6558,91.6536,91.6504, 91.6461,91.644,91.642,91.6398,91.6365, 91.6344,91.6324,91.6304,91.6283,91.6263 ,91.6244,91.6214,91.6194,91.6175, 91.6155,91.6135,91.6116,91.6097,91.6068 ,91.6048,91.6019,91.6,91.5055)
ORBIT_NUMBER = 1193
ORBITAL_ECCENTRICITY = 0.571
ORBITAL_INCLINATION = 86.63
ORBITAL_SEMIMAJOR_AXIS = 8608.42
PERIAPSIS_ALTITUDE = 297.84
PERIAPSIS_ARGUMENT_ANGLE = 151.2
PERIAPSIS_TIME = 2004-12-22T19:01:17.000Z
SPACECRAFT_ORIENTATION = (0.0,-1.0,0.0)
^MEX_ORIENTATION_DESC = "MEX_ORIENTATION_DESC.TXT"
SPACECRAFT_POINTING_MODE = ACROSSTRACK
^MEX_POINTING_DESC = "MEX_POINTING_DESC.TXT"
RIGHT_ASCENSION = -1e+32
DECLINATION = -1e+32
OFFSET_ANGLE = -0.56
SPACECRAFT_SOLAR_DISTANCE = 2.36365e+08
TARGET_NAME = MARS
/* CAMERA DATA ELEMENTS */
DETECTOR_TEMPERATURE = 19.1861
FOCAL_PLANE_TEMPERATURE = 8.9911
INST_CMPRS_NAME = "DISCRETE COSINE TRANSFORMATION (DCT)"
INST_CMPRS_RATIO = 9.6713
INST_CMPRS_QUALITY = 0
INST_CMPRS_QUANTZ_TBL_ID = 0
INSTRUMENT_TEMPERATURE = 13.8847
LENS_TEMPERATURE = 9.3989
MACROPIXEL_SIZE = 2
MISSING_FRAMES = 13
PIXEL_SUBSAMPLING_FLAG = N
SIGNAL_CHAIN_ID = 1
/* RADIOMETRIC DATA ELEMENTS */
BANDWIDTH = 180.0
CENTER_FILTER_WAVELENGTH = 677.0
RADIANCE_OFFSET = 6.74068
RADIANCE_SCALING_FACTOR = 0.0181016
REFLECTANCE_SCALING_FACTOR = 0.000527624
MEX:REFLECTANCE_OFFSET = 0.196477
/* IMAGE OBJECT DEFINITIONS */
OBJECT = IMAGE
  INTERCHANGE_FORMAT = BINARY
  LINES = 28929
  LINE_SAMPLES = 4006
  SAMPLE_TYPE = UNSIGNED_INTEGER
  SAMPLE_BITS = 8
  BANDS = 1
  BAND_STORAGE_TYPE = BAND_SEQUENTIAL
  MAXIMUM = 160
  MEAN = 133.509
  MINIMUM = 64
  STANDARD_DEVIATION = 3.60428
END_OBJECT = IMAGE
/* MAP OBJECT DEFINITIONS */
OBJECT = IMAGE_MAP_PROJECTION
  ^DATA_SET_MAP_PROJECTION_CATALOG= "DSMAP.CAT"
  A_AXIS_RADIUS = 3396.0
  B_AXIS_RADIUS = 3396.0
  C_AXIS_RADIUS = 3396.0
  CENTER_LATITUDE = 0.0
  CENTER_LONGITUDE = 91.0
  COORDINATE_SYSTEM_NAME = PLANETOGRAPHIC
  COORDINATE_SYSTEM_TYPE = "BODY-FIXED ROTATING"
  EASTERNMOST_LONGITUDE = 91.70480000000001
  FIRST_STANDARD_PARALLEL = "N/A"
  LINE_FIRST_PIXEL = 1
  LINE_LAST_PIXEL = 28929
  LINE_PROJECTION_OFFSET = 30156.75
  MAP_PROJECTION_ROTATION = 0.0
  MAP_PROJECTION_TYPE = SINUSOIDAL
  MAP_RESOLUTION = 2370.85521546667
  MAP_SCALE = 0.025
  MAXIMUM_LATITUDE = 12.7431
  MINIMUM_LATITUDE = 0.491771
  POSITIVE_LONGITUDE_DIRECTION = EAST
  REFERENCE_LATITUDE = "N/A"
  REFERENCE_LONGITUDE = "N/A"
  SAMPLE_FIRST_PIXEL = 1
  SAMPLE_LAST_PIXEL = 4006
  SAMPLE_PROJECTION_OFFSET = 2185.75
  SECOND_STANDARD_PARALLEL = "N/A"
  WESTERNMOST_LONGITUDE = 90.1845
END_OBJECT = IMAGE_MAP_PROJECTION
/* The JPEG2000 image data file associated with this label. */
OBJECT = COMPRESSED_FILE
  FILE_NAME = "H1193_0001_S13.JP2"
  RECORD_TYPE = UNDEFINED
  FILE_RECORDS = UNK
  ENCODING_TYPE = "JP2"
  INTERCHANGE_FORMAT = BINARY
  UNCOMPRESSED_FILE_NAME = "H1193_0001_S13.IMG"
  REQUIRED_STORAGE_BYTES = "115913610"
  ^DESCRIPTION = "JP2INFO.TXT"
END_OBJECT = COMPRESSED_FILE
END
