PDS_VERSION_ID = PDS3
/* FILE DATA ELEMENTS */
RECORD_TYPE = STREAM
/* POINTERS TO DATA OBJECTS */
^COMPRESSED_FILE = "H1193_0009_SR3.JP2"
/* IDENTIFICATION DATA ELEMENTS */
DATA_SET_ID = "MEX-M-HRSC-5-REFDR-MAPPROJECTED-V3.0"
DATA_SET_NAME = "MARS EXPRESS HRSC MAP PROJECTED REFDR V3.0"
DETECTOR_ID = MEX_HRSC_SRC
EVENT_TYPE = "MARS-REGIONAL-MAPPING-Im-Fl-Ot"
INSTRUMENT_HOST_ID = MEX
INSTRUMENT_HOST_NAME = "MARS EXPRESS"
INSTRUMENT_ID = HRSC
INSTRUMENT_NAME = "HIGH RESOLUTION STEREO CAMERA"
MISSION_NAME = "MARS EXPRESS"
MISSION_PHASE_NAME = MR_Phase_3
PROCESSING_LEVEL_ID = 3
PRODUCT_CREATION_TIME = 2016-03-04T15:08:32.000Z
PRODUCT_ID = "H1193_0009_SR3.JP2"
RELEASE_ID = 0015
REVISION_ID = 0000
/* QUALITY DATA ELEMENTS */
DATA_QUALITY_ID = 1
DATA_QUALITY_DESC = "Data calculated based on original SPICE kernels"
/* TIME DATA ELEMENTS */
SPACECRAFT_CLOCK_START_COUNT = "1/0051822283.56180"
SPACECRAFT_CLOCK_STOP_COUNT = "1/0051822559.48854"
IMAGE_TIME = 2004-12-22T19:05:44.819Z
START_TIME = 2004-12-22T19:05:44.816Z
STOP_TIME = 2004-12-22T19:05:44.821Z
/* ORBITAL DATA ELEMENTS */
ASCENDING_NODE_LONGITUDE = 203.61
MAXIMUM_RESOLUTION = 3.312
FOOTPRINT_POINT_LATITUDE = (11.2058,11.2075,11.2101,11.2122, 11.2138,11.2169,11.2196,11.2214,11.224, 11.2274,11.2304,11.2325,11.2346,11.2368 ,11.2384,11.2398,11.2416,11.2442, 11.2462,11.2486,11.2509,11.2525,11.2545 ,11.256,11.2585,11.2613,11.2613,11.2613 ,11.2613,11.2613,11.2613,11.2613, 11.2613,11.2613,11.2613,11.2613,11.2613 ,11.2613,11.2613,11.2613,11.2613, 11.2613,11.2613,11.2613,11.2613,11.2613 ,11.2613,11.2613,11.2613,11.2613, 11.2613,11.2599,11.257,11.2548,11.2518, 11.2487,11.2464,11.2437,11.2409,11.2384 ,11.2361,11.2344,11.2321,11.23,11.2271, 11.2255,11.2233,11.2219,11.2191,11.2172 ,11.2156,11.2136,11.2102,11.208,11.205, 11.205,11.205,11.205,11.205,11.205, 11.205,11.205,11.205,11.205,11.205, 11.205,11.205,11.205,11.205,11.205, 11.205,11.205,11.205,11.205,11.205, 11.205,11.205,11.205,11.205,11.2058)
FOOTPRINT_POINT_LONGITUDE = (90.9671,90.9671,90.9671,90.9671, 90.9671,90.9671,90.9671,90.9671,90.9671 ,90.9671,90.9671,90.9671,90.9671, 90.9671,90.9671,90.9671,90.9671,90.9671 ,90.9671,90.9671,90.9671,90.9671, 90.9671,90.9671,90.9671,90.9677,90.97, 90.9723,90.9746,90.9769,90.9792,90.9815 ,90.9838,90.9861,90.9884,90.9907,90.993 ,90.9952,90.9975,90.9998,91.0021, 91.0044,91.0067,91.009,91.0113,91.0136, 91.0159,91.0182,91.0205,91.0228,91.0251 ,91.0254,91.0254,91.0254,91.0254, 91.0254,91.0254,91.0254,91.0254,91.0254 ,91.0254,91.0254,91.0254,91.0254, 91.0254,91.0254,91.0254,91.0254,91.0254 ,91.0254,91.0254,91.0254,91.0254, 91.0254,91.0248,91.0225,91.0202,91.0179 ,91.0156,91.0133,91.011,91.0087,91.0064 ,91.0042,91.0019,90.9996,90.9973,90.995 ,90.9927,90.9904,90.9881,90.9858, 90.9835,90.9812,90.9789,90.9766,90.9743 ,90.972,90.9697,90.9671)
ORBIT_NUMBER = 1193
ORBITAL_ECCENTRICITY = 0.571
ORBITAL_INCLINATION = 86.63
ORBITAL_SEMIMAJOR_AXIS = 8608.42
PERIAPSIS_ALTITUDE = 297.84
PERIAPSIS_ARGUMENT_ANGLE = 151.2
PERIAPSIS_TIME = 2004-12-22T19:01:17.000Z
SPACECRAFT_ORIENTATION = (0.0,-1.0,0.0)
^MEX_ORIENTATION_DESC = "MEX_ORIENTATION_DESC.TXT"
SPACECRAFT_POINTING_MODE = ACROSSTRACK
^MEX_POINTING_DESC = "MEX_POINTING_DESC.TXT"
RIGHT_ASCENSION = -1e+32
DECLINATION = -1e+32
OFFSET_ANGLE = -0.56
SPACECRAFT_SOLAR_DISTANCE = 2.36365e+08
TARGET_NAME = MARS
/* CAMERA DATA ELEMENTS */
BUFFER_MODE_ID = BUFFER_8
EXPOSURE_DURATION = 5.04
INST_CMPRS_NAME = NONE
INST_CMPRS_RATIO = 1.0
INST_CMPRS_QUALITY = -2147483648
INST_CMPRS_QUANTZ_TBL_ID = -2147483648
INSTRUMENT_TEMPERATURE = 7.61177
MISSING_FRAMES = 0
START_BIT = 0
/* RADIOMETRIC DATA ELEMENTS */
BANDWIDTH = 250.0
CENTER_FILTER_WAVELENGTH = 600.0
RADIANCE_OFFSET = -9.99e+31
RADIANCE_SCALING_FACTOR = -9.99e+31
REFLECTANCE_SCALING_FACTOR = -9.99e+31
MEX:REFLECTANCE_OFFSET = -9.99e+31
/* IMAGE OBJECT DEFINITIONS */
OBJECT = IMAGE
  INTERCHANGE_FORMAT = BINARY
  LINES = 1380
  LINE_SAMPLES = 1400
  SAMPLE_TYPE = UNSIGNED_INTEGER
  SAMPLE_BITS = 8
  BANDS = 1
  BAND_STORAGE_TYPE = BAND_SEQUENTIAL
  MAXIMUM = 7909
  MEAN = 7221.21
  MINIMUM = 6147
  STANDARD_DEVIATION = 117.825
END_OBJECT = IMAGE
/* MAP OBJECT DEFINITIONS */
OBJECT = IMAGE_MAP_PROJECTION
  ^DATA_SET_MAP_PROJECTION_CATALOG= "DSMAP.CAT"
  A_AXIS_RADIUS = 3396.19
  B_AXIS_RADIUS = 3396.19
  C_AXIS_RADIUS = 3396.19
  CENTER_LATITUDE = 0.0
  CENTER_LONGITUDE = 91.0
  COORDINATE_SYSTEM_NAME = PLANETOGRAPHIC
  COORDINATE_SYSTEM_TYPE = "BODY-FIXED ROTATING"
  EASTERNMOST_LONGITUDE = 91.0254
  FIRST_STANDARD_PARALLEL = "N/A"
  LINE_FIRST_PIXEL = 1
  LINE_LAST_PIXEL = 1380
  LINE_PROJECTION_OFFSET = 267003.0
  MAP_PROJECTION_ROTATION = 0.0
  MAP_PROJECTION_TYPE = SINUSOIDAL
  MAP_RESOLUTION = 23709.8786048756
  MAP_SCALE = 0.0025
  MAXIMUM_LATITUDE = 11.2613
  MINIMUM_LATITUDE = 11.205
  POSITIVE_LONGITUDE_DIRECTION = EAST
  REFERENCE_LATITUDE = "N/A"
  REFERENCE_LONGITUDE = "N/A"
  SAMPLE_FIRST_PIXEL = 1
  SAMPLE_LAST_PIXEL = 1400
  SAMPLE_PROJECTION_OFFSET = 810.0
  SECOND_STANDARD_PARALLEL = "N/A"
  WESTERNMOST_LONGITUDE = 90.9671
END_OBJECT = IMAGE_MAP_PROJECTION
/* The JPEG2000 image data file associated with this label. */
OBJECT = COMPRESSED_FILE
  FILE_NAME = "H1193_0009_SR3.JP2"
  RECORD_TYPE = UNDEFINED
  FILE_RECORDS = UNK
  ENCODING_TYPE = "JP2"
  INTERCHANGE_FORMAT = BINARY
  UNCOMPRESSED_FILE_NAME = "H1193_0009_SR3.IMG"
  REQUIRED_STORAGE_BYTES = "1951600"
  ^DESCRIPTION = "JP2INFO.TXT"
END_OBJECT = COMPRESSED_FILE
END
