PDS_VERSION_ID = PDS3
/* FILE DATA ELEMENTS */
RECORD_TYPE = STREAM
/* POINTERS TO DATA OBJECTS */
^COMPRESSED_FILE = "H1194_0000_S23.JP2"
/* IDENTIFICATION DATA ELEMENTS */
DATA_SET_ID = "MEX-M-HRSC-5-REFDR-MAPPROJECTED-V3.0"
DATA_SET_NAME = "MARS EXPRESS HRSC MAP PROJECTED REFDR V3.0"
DETECTOR_ID = MEX_HRSC_S2
EVENT_TYPE = "MARS-LOCAL-MAPPING-Te-Lc"
INSTRUMENT_HOST_ID = MEX
INSTRUMENT_HOST_NAME = "MARS EXPRESS"
INSTRUMENT_ID = HRSC
INSTRUMENT_NAME = "HIGH RESOLUTION STEREO CAMERA"
MISSION_NAME = "MARS EXPRESS"
MISSION_PHASE_NAME = MR_Phase_3
PROCESSING_LEVEL_ID = 3
PRODUCT_CREATION_TIME = 2016-03-04T15:08:32.000Z
PRODUCT_ID = "H1194_0000_S23.JP2"
RELEASE_ID = 0015
REVISION_ID = 0000
/* QUALITY DATA ELEMENTS */
DATA_QUALITY_ID = 1
DATA_QUALITY_DESC = "Data calculated based on original SPICE kernels"
/* TIME DATA ELEMENTS */
SPACECRAFT_CLOCK_START_COUNT = "1/0051845979.56200"
SPACECRAFT_CLOCK_STOP_COUNT = "1/0051846230.13772"
START_TIME = 2004-12-23T01:40:53.801Z
STOP_TIME = 2004-12-23T01:43:56.033Z
/* ORBITAL DATA ELEMENTS */
ASCENDING_NODE_LONGITUDE = 203.59
MAXIMUM_RESOLUTION = 25.9
FOOTPRINT_POINT_LATITUDE = (44.8131,44.8091,44.8048,44.8001, 44.7951,44.7897,44.7843,44.4781,44.0839 ,43.8207,43.5575,43.1627,42.7812, 42.5264,42.2718,41.89,41.6356,41.2534, 40.8786,40.6325,40.3863,40.14,39.8937, 39.6473,39.401,39.0315,38.7857,38.4195, 38.1816,37.9443,37.7069,37.3508,36.9943 ,36.6381,36.4005,36.1642,35.9272, 35.6877,35.3321,35.0947,34.8595,34.6254 ,34.3968,34.1689,33.9417,33.7131, 33.3707,33.0287,32.8009,32.6814,32.6822 ,32.6826,32.6833,32.6836,32.6846, 33.0262,33.2539,33.4819,33.7094,33.9385 ,34.282,34.5108,34.7404,34.9765,35.214, 35.5716,35.8113,36.0486,36.2859,36.6429 ,36.8809,37.1186,37.4754,37.7133, 37.9498,38.1885,38.4271,38.7939,39.0406 ,39.4104,39.6576,40.0277,40.2744, 40.6446,40.8917,41.2677,41.5226,41.778, 42.0332,42.4166,42.672,42.9275,43.1829, 43.4466,43.8419,44.1057,44.3693,44.6318 ,44.8964,44.8131)
FOOTPRINT_POINT_LONGITUDE = (353.151,352.896,352.639,352.383, 352.126,351.868,351.625,351.598,351.632 ,351.654,351.676,351.708,351.737, 351.757,351.776,351.803,351.821,351.848 ,351.873,351.889,351.905,351.921, 351.937,351.952,351.967,351.989,352.003 ,352.023,352.037,352.049,352.062,352.08 ,352.098,352.116,352.127,352.138, 352.149,352.161,352.176,352.187,352.196 ,352.207,352.216,352.225,352.233, 352.242,352.255,352.268,352.276,352.515 ,352.713,352.948,353.132,353.329, 353.553,353.548,353.544,353.541,353.537 ,353.534,353.529,353.525,353.521, 353.518,353.514,353.508,353.504,353.5, 353.496,353.49,353.486,353.481,353.474, 353.47,353.465,353.461,353.456,353.449, 353.444,353.436,353.431,353.423,353.418 ,353.41,353.404,353.396,353.389,353.383 ,353.377,353.368,353.361,353.355, 353.348,353.341,353.331,353.324,353.316 ,353.309,353.301,353.151)
ORBIT_NUMBER = 1194
ORBITAL_ECCENTRICITY = 0.571
ORBITAL_INCLINATION = 86.63
ORBITAL_SEMIMAJOR_AXIS = 8600.36
PERIAPSIS_ALTITUDE = 298.96
PERIAPSIS_ARGUMENT_ANGLE = 151.02
PERIAPSIS_TIME = 2004-12-23T01:44:26.000Z
SPACECRAFT_ORIENTATION = (0.0,-1.0,0.0)
^MEX_ORIENTATION_DESC = "MEX_ORIENTATION_DESC.TXT"
SPACECRAFT_POINTING_MODE = ACROSSTRACK
^MEX_POINTING_DESC = "MEX_POINTING_DESC.TXT"
RIGHT_ASCENSION = -1e+32
DECLINATION = -1e+32
OFFSET_ANGLE = -0.18
SPACECRAFT_SOLAR_DISTANCE = 2.36317e+08
TARGET_NAME = MARS
/* CAMERA DATA ELEMENTS */
DETECTOR_TEMPERATURE = 18.7783
FOCAL_PLANE_TEMPERATURE = 8.3794
INST_CMPRS_NAME = "DISCRETE COSINE TRANSFORMATION (DCT)"
INST_CMPRS_RATIO = 13.3703
INST_CMPRS_QUALITY = 0
INST_CMPRS_QUANTZ_TBL_ID = 0
INSTRUMENT_TEMPERATURE = 10.8262
LENS_TEMPERATURE = 8.9911
MACROPIXEL_SIZE = 2
MISSING_FRAMES = 0
PIXEL_SUBSAMPLING_FLAG = N
SIGNAL_CHAIN_ID = 1
/* RADIOMETRIC DATA ELEMENTS */
BANDWIDTH = 178.0
CENTER_FILTER_WAVELENGTH = 679.0
RADIANCE_OFFSET = 4.27378
RADIANCE_SCALING_FACTOR = 0.0308167
REFLECTANCE_SCALING_FACTOR = 0.000911397
MEX:REFLECTANCE_OFFSET = 0.126396
/* IMAGE OBJECT DEFINITIONS */
OBJECT = IMAGE
  INTERCHANGE_FORMAT = BINARY
  LINES = 29026
  LINE_SAMPLES = 3582
  SAMPLE_TYPE = UNSIGNED_INTEGER
  SAMPLE_BITS = 8
  BANDS = 1
  BAND_STORAGE_TYPE = BAND_SEQUENTIAL
  MAXIMUM = 92
  MEAN = 58.8431
  MINIMUM = 28
  STANDARD_DEVIATION = 12.2891
END_OBJECT = IMAGE
/* MAP OBJECT DEFINITIONS */
OBJECT = IMAGE_MAP_PROJECTION
  ^DATA_SET_MAP_PROJECTION_CATALOG= "DSMAP.CAT"
  A_AXIS_RADIUS = 3396.0
  B_AXIS_RADIUS = 3396.0
  C_AXIS_RADIUS = 3396.0
  CENTER_LATITUDE = 0.0
  CENTER_LONGITUDE = 353.0
  COORDINATE_SYSTEM_NAME = PLANETOGRAPHIC
  COORDINATE_SYSTEM_TYPE = "BODY-FIXED ROTATING"
  EASTERNMOST_LONGITUDE = 353.553
  FIRST_STANDARD_PARALLEL = "N/A"
  LINE_FIRST_PIXEL = 1
  LINE_LAST_PIXEL = 29026
  LINE_PROJECTION_OFFSET = 106478.25
  MAP_PROJECTION_ROTATION = 0.0
  MAP_PROJECTION_TYPE = SINUSOIDAL
  MAP_RESOLUTION = 2370.85521546667
  MAP_SCALE = 0.025
  MAXIMUM_LATITUDE = 44.8964
  MINIMUM_LATITUDE = 32.6814
  POSITIVE_LONGITUDE_DIRECTION = EAST
  REFERENCE_LATITUDE = "N/A"
  REFERENCE_LONGITUDE = "N/A"
  SAMPLE_FIRST_PIXEL = 1
  SAMPLE_LAST_PIXEL = 3582
  SAMPLE_PROJECTION_OFFSET = 2452.75
  SECOND_STANDARD_PARALLEL = "N/A"
  WESTERNMOST_LONGITUDE = 351.598
END_OBJECT = IMAGE_MAP_PROJECTION
/* The JPEG2000 image data file associated with this label. */
OBJECT = COMPRESSED_FILE
  FILE_NAME = "H1194_0000_S23.JP2"
  RECORD_TYPE = UNDEFINED
  FILE_RECORDS = UNK
  ENCODING_TYPE = "JP2"
  INTERCHANGE_FORMAT = BINARY
  UNCOMPRESSED_FILE_NAME = "H1194_0000_S23.IMG"
  REQUIRED_STORAGE_BYTES = "103992624"
  ^DESCRIPTION = "JP2INFO.TXT"
END_OBJECT = COMPRESSED_FILE
END
