PDS_VERSION_ID = PDS3
/* FILE DATA ELEMENTS */
RECORD_TYPE = STREAM
/* POINTERS TO DATA OBJECTS */
^COMPRESSED_FILE = "H1201_0001_P23.JP2"
/* IDENTIFICATION DATA ELEMENTS */
DATA_SET_ID = "MEX-M-HRSC-5-REFDR-MAPPROJECTED-V3.0"
DATA_SET_NAME = "MARS EXPRESS HRSC MAP PROJECTED REFDR V3.0"
DETECTOR_ID = MEX_HRSC_P2
EVENT_TYPE = "MARS-LOCAL-STEREO-Im-Lc-La"
INSTRUMENT_HOST_ID = MEX
INSTRUMENT_HOST_NAME = "MARS EXPRESS"
INSTRUMENT_ID = HRSC
INSTRUMENT_NAME = "HIGH RESOLUTION STEREO CAMERA"
MISSION_NAME = "MARS EXPRESS"
MISSION_PHASE_NAME = MR_Phase_3
PROCESSING_LEVEL_ID = 3
PRODUCT_CREATION_TIME = 2016-03-04T18:37:05.000Z
PRODUCT_ID = "H1201_0001_P23.JP2"
RELEASE_ID = 0016
REVISION_ID = 0000
/* QUALITY DATA ELEMENTS */
DATA_QUALITY_ID = 1
DATA_QUALITY_DESC = "Data calculated based on original SPICE kernels"
/* TIME DATA ELEMENTS */
SPACECRAFT_CLOCK_START_COUNT = "1/0052016088.57940"
SPACECRAFT_CLOCK_STOP_COUNT = "1/0052016330.30478"
START_TIME = 2004-12-25T00:56:26.009Z
STOP_TIME = 2004-12-25T00:58:25.613Z
/* ORBITAL DATA ELEMENTS */
ASCENDING_NODE_LONGITUDE = 203.44
MAXIMUM_RESOLUTION = 96.7
FOOTPRINT_POINT_LATITUDE = (-4.61749,-4.61556,-4.61369,-4.6117, -4.60981,-4.60752,-4.60477,-4.60007, -4.59717,-4.59413,-4.59093,-4.58761, -4.58412,-4.72061,-4.84693,-4.97352, -5.09973,-5.22594,-5.3515,-5.47703, -5.60266,-5.72691,-5.85189,-6.03882, -6.16292,-6.2869,-6.47234,-6.65748, -6.84261,-6.96603,-7.08903,-7.21216, -7.33497,-7.45752,-7.58055,-7.76284, -7.88469,-8.00635,-8.12824,-8.25027, -8.37392,-8.61394,-8.91186,-9.09094, -9.26995,-9.50886,-9.74722,-9.92584, -10.1625,-10.396,-10.5722,-10.7107, -10.719,-10.7224,-10.7279,-10.7315, -10.7346,-10.7379,-10.7418,-10.7447, -10.7471,-10.7504,-10.7538,-10.694, -10.3989,-10.1623,-9.92443,-9.68642, -9.38767,-9.20622,-8.96854,-8.66751, -8.42573,-8.24412,-8.00092,-7.81752, -7.63398,-7.51118,-7.32763,-7.20502, -7.08088,-6.95764,-6.83485,-6.7108, -6.58727,-6.46385,-6.34013,-6.21619, -6.09184,-5.96772,-5.84276,-5.71748, -5.59198,-5.46469,-5.33887,-5.21383, -5.08768,-4.96051,-4.83375,-4.61749)
FOOTPRINT_POINT_LONGITUDE = (26.0642,25.8915,25.7381,25.5847, 25.4504,25.2968,25.1237,24.8544,24.7004 ,24.5462,24.3918,24.237,24.082,24.038, 24.0325,24.0272,24.0217,24.0163,24.0106 ,24.005,23.9996,23.9934,23.9878,23.9791 ,23.9732,23.9672,23.9582,23.9491, 23.9402,23.9344,23.9284,23.9225,23.9166 ,23.9106,23.9049,23.8953,23.8892, 23.8831,23.8771,23.8713,23.8664,23.853, 23.8357,23.8257,23.8158,23.803,23.7902, 23.7807,23.7675,23.753,23.7428,23.8991, 24.1129,24.2778,24.5131,24.701,24.8419, 25.0296,25.2409,25.4284,25.5924,25.8264 ,26.0837,26.2545,26.2459,26.2389, 26.2322,26.2254,26.217,26.2127,26.2051, 26.1968,26.1903,26.1853,26.179,26.1744, 26.1698,26.1669,26.1621,26.1589,26.1562 ,26.1532,26.1499,26.1471,26.144,26.1408 ,26.1377,26.1346,26.1316,26.1284, 26.1255,26.1227,26.1199,26.1178,26.115, 26.1119,26.1091,26.1067,26.104,26.0642)
ORBIT_NUMBER = 1201
ORBITAL_ECCENTRICITY = 0.571
ORBITAL_INCLINATION = 86.62
ORBITAL_SEMIMAJOR_AXIS = 8603.61
PERIAPSIS_ALTITUDE = 299.72
PERIAPSIS_ARGUMENT_ANGLE = 149.8
PERIAPSIS_TIME = 2004-12-25T00:46:37.000Z
SPACECRAFT_ORIENTATION = (0.0,-1.0,0.0)
^MEX_ORIENTATION_DESC = "MEX_ORIENTATION_DESC.TXT"
SPACECRAFT_POINTING_MODE = ACROSSTRACK
^MEX_POINTING_DESC = "MEX_POINTING_DESC.TXT"
RIGHT_ASCENSION = -1e+32
DECLINATION = -1e+32
OFFSET_ANGLE = -0.2
SPACECRAFT_SOLAR_DISTANCE = 2.35977e+08
TARGET_NAME = MARS
/* CAMERA DATA ELEMENTS */
DETECTOR_TEMPERATURE = 21.2251
FOCAL_PLANE_TEMPERATURE = 9.195
INST_CMPRS_NAME = "DISCRETE COSINE TRANSFORMATION (DCT)"
INST_CMPRS_RATIO = 9.6921
INST_CMPRS_QUALITY = 0
INST_CMPRS_QUANTZ_TBL_ID = 0
INSTRUMENT_TEMPERATURE = 13.8847
LENS_TEMPERATURE = 9.6028
MACROPIXEL_SIZE = 4
MISSING_FRAMES = 0
PIXEL_SUBSAMPLING_FLAG = N
SIGNAL_CHAIN_ID = 3
/* RADIOMETRIC DATA ELEMENTS */
BANDWIDTH = 177.0
CENTER_FILTER_WAVELENGTH = 676.5
RADIANCE_OFFSET = 2.86941
RADIANCE_SCALING_FACTOR = 0.0243423
REFLECTANCE_SCALING_FACTOR = 0.000718713
MEX:REFLECTANCE_OFFSET = 0.08472
/* IMAGE OBJECT DEFINITIONS */
OBJECT = IMAGE
  INTERCHANGE_FORMAT = BINARY
  LINES = 3654
  LINE_SAMPLES = 1402
  SAMPLE_TYPE = UNSIGNED_INTEGER
  SAMPLE_BITS = 8
  BANDS = 1
  BAND_STORAGE_TYPE = BAND_SEQUENTIAL
  MAXIMUM = 163
  MEAN = 83.9179
  MINIMUM = 46
  STANDARD_DEVIATION = 15.315
END_OBJECT = IMAGE
/* MAP OBJECT DEFINITIONS */
OBJECT = IMAGE_MAP_PROJECTION
  ^DATA_SET_MAP_PROJECTION_CATALOG= "DSMAP.CAT"
  A_AXIS_RADIUS = 3396.0
  B_AXIS_RADIUS = 3396.0
  C_AXIS_RADIUS = 3396.0
  CENTER_LATITUDE = 0.0
  CENTER_LONGITUDE = 25.0
  COORDINATE_SYSTEM_NAME = PLANETOGRAPHIC
  COORDINATE_SYSTEM_TYPE = "BODY-FIXED ROTATING"
  EASTERNMOST_LONGITUDE = 26.2545
  FIRST_STANDARD_PARALLEL = "N/A"
  LINE_FIRST_PIXEL = 1
  LINE_LAST_PIXEL = 3654
  LINE_PROJECTION_OFFSET = -2733.125
  MAP_PROJECTION_ROTATION = 0.0
  MAP_PROJECTION_TYPE = SINUSOIDAL
  MAP_RESOLUTION = 592.713803866667
  MAP_SCALE = 0.1
  MAXIMUM_LATITUDE = -4.58412
  MINIMUM_LATITUDE = -10.7538
  POSITIVE_LONGITUDE_DIRECTION = EAST
  REFERENCE_LATITUDE = "N/A"
  REFERENCE_LONGITUDE = "N/A"
  SAMPLE_FIRST_PIXEL = 1
  SAMPLE_LAST_PIXEL = 1402
  SAMPLE_PROJECTION_OFFSET = 706.375
  SECOND_STANDARD_PARALLEL = "N/A"
  WESTERNMOST_LONGITUDE = 23.7428
END_OBJECT = IMAGE_MAP_PROJECTION
/* The JPEG2000 image data file associated with this label. */
OBJECT = COMPRESSED_FILE
  FILE_NAME = "H1201_0001_P23.JP2"
  RECORD_TYPE = UNDEFINED
  FILE_RECORDS = UNK
  ENCODING_TYPE = "JP2"
  INTERCHANGE_FORMAT = BINARY
  UNCOMPRESSED_FILE_NAME = "H1201_0001_P23.IMG"
  REQUIRED_STORAGE_BYTES = "5142536"
  ^DESCRIPTION = "JP2INFO.TXT"
END_OBJECT = COMPRESSED_FILE
END
