PDS_VERSION_ID = PDS3
/* FILE DATA ELEMENTS */
RECORD_TYPE = STREAM
/* POINTERS TO DATA OBJECTS */
^COMPRESSED_FILE = "H1201_0003_SR3.JP2"
/* IDENTIFICATION DATA ELEMENTS */
DATA_SET_ID = "MEX-M-HRSC-5-REFDR-MAPPROJECTED-V3.0"
DATA_SET_NAME = "MARS EXPRESS HRSC MAP PROJECTED REFDR V3.0"
DETECTOR_ID = MEX_HRSC_SRC
EVENT_TYPE = "MARS-LOCAL-STEREO-Im-Lc-La"
INSTRUMENT_HOST_ID = MEX
INSTRUMENT_HOST_NAME = "MARS EXPRESS"
INSTRUMENT_ID = HRSC
INSTRUMENT_NAME = "HIGH RESOLUTION STEREO CAMERA"
MISSION_NAME = "MARS EXPRESS"
MISSION_PHASE_NAME = MR_Phase_3
PROCESSING_LEVEL_ID = 3
PRODUCT_CREATION_TIME = 2016-03-04T18:37:05.000Z
PRODUCT_ID = "H1201_0003_SR3.JP2"
RELEASE_ID = 0016
REVISION_ID = 0000
/* QUALITY DATA ELEMENTS */
DATA_QUALITY_ID = 1
DATA_QUALITY_DESC = "Data calculated based on original SPICE kernels"
/* TIME DATA ELEMENTS */
SPACECRAFT_CLOCK_START_COUNT = "1/0052016088.57940"
SPACECRAFT_CLOCK_STOP_COUNT = "1/0052016330.30478"
IMAGE_TIME = 2004-12-25T00:56:50.291Z
START_TIME = 2004-12-25T00:56:50.289Z
STOP_TIME = 2004-12-25T00:56:50.294Z
/* ORBITAL DATA ELEMENTS */
ASCENDING_NODE_LONGITUDE = 203.44
MAXIMUM_RESOLUTION = 5.575
FOOTPRINT_POINT_LATITUDE = (-8.31849,-8.31482,-8.31012,-8.30636, -8.30288,-8.29733,-8.2915,-8.28661, -8.28304,-8.27852,-8.27354,-8.27053, -8.26761,-8.2631,-8.26028,-8.25595, -8.25341,-8.24937,-8.2456,-8.2425, -8.23742,-8.23225,-8.22886,-8.22644, -8.22649,-8.22653,-8.22657,-8.22662, -8.22666,-8.22671,-8.22675,-8.22679, -8.22684,-8.22688,-8.22693,-8.22697, -8.22701,-8.22706,-8.2271,-8.22714, -8.22719,-8.22723,-8.22727,-8.22732, -8.22736,-8.22741,-8.22745,-8.22749, -8.228,-8.23336,-8.23646,-8.24126, -8.24512,-8.24794,-8.2517,-8.25565, -8.25828,-8.26176,-8.26467,-8.2674, -8.27069,-8.27558,-8.27953,-8.28244, -8.28564,-8.28912,-8.29448,-8.29909, -8.30323,-8.30605,-8.30934,-8.31432, -8.31902,-8.32222,-8.32218,-8.32213, -8.32209,-8.32205,-8.32201,-8.32196, -8.32192,-8.32188,-8.32183,-8.32179, -8.32175,-8.3217,-8.32166,-8.32162, -8.32158,-8.32153,-8.32149,-8.32145, -8.3214,-8.32136,-8.32132,-8.32127, -8.32123,-8.32119,-8.32114,-8.31849)
FOOTPRINT_POINT_LONGITUDE = (24.9879,24.9879,24.988,24.988,24.9881, 24.9881,24.9882,24.9883,24.9883,24.9883 ,24.9884,24.9884,24.9885,24.9885, 24.9886,24.9886,24.9886,24.9887,24.9887 ,24.9888,24.9888,24.9889,24.9889,24.991 ,24.9948,24.9986,25.0024,25.0062,25.01, 25.0138,25.0176,25.0214,25.0252,25.029, 25.0328,25.0366,25.0404,25.0442,25.048, 25.0518,25.0556,25.0594,25.0632,25.067, 25.0708,25.0746,25.0784,25.0822,25.0856 ,25.0856,25.0855,25.0855,25.0854, 25.0854,25.0853,25.0853,25.0853,25.0852 ,25.0852,25.0852,25.0851,25.0851,25.085 ,25.085,25.0849,25.0849,25.0848,25.0848 ,25.0847,25.0847,25.0847,25.0846, 25.0846,25.0844,25.0806,25.0768,25.073, 25.0692,25.0654,25.0616,25.0578,25.054, 25.0502,25.0464,25.0426,25.0388,25.035, 25.0312,25.0274,25.0236,25.0198,25.016, 25.0122,25.0084,25.0046,25.0008,24.997, 24.9932,24.9894,24.9879)
ORBIT_NUMBER = 1201
ORBITAL_ECCENTRICITY = 0.571
ORBITAL_INCLINATION = 86.62
ORBITAL_SEMIMAJOR_AXIS = 8603.61
PERIAPSIS_ALTITUDE = 299.72
PERIAPSIS_ARGUMENT_ANGLE = 149.8
PERIAPSIS_TIME = 2004-12-25T00:46:37.000Z
SPACECRAFT_ORIENTATION = (0.0,-1.0,0.0)
^MEX_ORIENTATION_DESC = "MEX_ORIENTATION_DESC.TXT"
SPACECRAFT_POINTING_MODE = ACROSSTRACK
^MEX_POINTING_DESC = "MEX_POINTING_DESC.TXT"
RIGHT_ASCENSION = -1e+32
DECLINATION = -1e+32
OFFSET_ANGLE = -0.2
SPACECRAFT_SOLAR_DISTANCE = 2.35977e+08
TARGET_NAME = MARS
/* CAMERA DATA ELEMENTS */
BUFFER_MODE_ID = BUFFER_8
EXPOSURE_DURATION = 5.04
INST_CMPRS_NAME = NONE
INST_CMPRS_RATIO = 1.0
INST_CMPRS_QUALITY = -2147483648
INST_CMPRS_QUANTZ_TBL_ID = -2147483648
INSTRUMENT_TEMPERATURE = 8.18182
MISSING_FRAMES = 0
START_BIT = 0
/* RADIOMETRIC DATA ELEMENTS */
BANDWIDTH = 250.0
CENTER_FILTER_WAVELENGTH = 600.0
RADIANCE_OFFSET = -9.99e+31
RADIANCE_SCALING_FACTOR = -9.99e+31
REFLECTANCE_SCALING_FACTOR = -9.99e+31
MEX:REFLECTANCE_OFFSET = -9.99e+31
/* IMAGE OBJECT DEFINITIONS */
OBJECT = IMAGE
  INTERCHANGE_FORMAT = BINARY
  LINES = 1177
  LINE_SAMPLES = 1188
  SAMPLE_TYPE = UNSIGNED_INTEGER
  SAMPLE_BITS = 8
  BANDS = 1
  BAND_STORAGE_TYPE = BAND_SEQUENTIAL
  MAXIMUM = 4066
  MEAN = 3382.27
  MINIMUM = 2779
  STANDARD_DEVIATION = 109.186
END_OBJECT = IMAGE
/* MAP OBJECT DEFINITIONS */
OBJECT = IMAGE_MAP_PROJECTION
  ^DATA_SET_MAP_PROJECTION_CATALOG= "DSMAP.CAT"
  A_AXIS_RADIUS = 3396.19
  B_AXIS_RADIUS = 3396.19
  C_AXIS_RADIUS = 3396.19
  CENTER_LATITUDE = 0.0
  CENTER_LONGITUDE = 25.0
  COORDINATE_SYSTEM_NAME = PLANETOGRAPHIC
  COORDINATE_SYSTEM_TYPE = "BODY-FIXED ROTATING"
  EASTERNMOST_LONGITUDE = 25.0856
  FIRST_STANDARD_PARALLEL = "N/A"
  LINE_FIRST_PIXEL = 1
  LINE_LAST_PIXEL = 1177
  LINE_PROJECTION_OFFSET = -97500.0
  MAP_PROJECTION_ROTATION = 0.0
  MAP_PROJECTION_TYPE = SINUSOIDAL
  MAP_RESOLUTION = 11854.9393024378
  MAP_SCALE = 0.005
  MAXIMUM_LATITUDE = -8.22644
  MINIMUM_LATITUDE = -8.32222
  POSITIVE_LONGITUDE_DIRECTION = EAST
  REFERENCE_LATITUDE = "N/A"
  REFERENCE_LONGITUDE = "N/A"
  SAMPLE_FIRST_PIXEL = 1
  SAMPLE_LAST_PIXEL = 1188
  SAMPLE_PROJECTION_OFFSET = 163.0
  SECOND_STANDARD_PARALLEL = "N/A"
  WESTERNMOST_LONGITUDE = 24.9879
END_OBJECT = IMAGE_MAP_PROJECTION
/* The JPEG2000 image data file associated with this label. */
OBJECT = COMPRESSED_FILE
  FILE_NAME = "H1201_0003_SR3.JP2"
  RECORD_TYPE = UNDEFINED
  FILE_RECORDS = UNK
  ENCODING_TYPE = "JP2"
  INTERCHANGE_FORMAT = BINARY
  UNCOMPRESSED_FILE_NAME = "H1201_0003_SR3.IMG"
  REQUIRED_STORAGE_BYTES = "1417284"
  ^DESCRIPTION = "JP2INFO.TXT"
END_OBJECT = COMPRESSED_FILE
END
