PDS_VERSION_ID = PDS3
/* FILE DATA ELEMENTS */
RECORD_TYPE = STREAM
/* POINTERS TO DATA OBJECTS */
^COMPRESSED_FILE = "H1202_0000_BL3.JP2"
/* IDENTIFICATION DATA ELEMENTS */
DATA_SET_ID = "MEX-M-HRSC-5-REFDR-MAPPROJECTED-V3.0"
DATA_SET_NAME = "MARS EXPRESS HRSC MAP PROJECTED REFDR V3.0"
DETECTOR_ID = MEX_HRSC_BLUE
EVENT_TYPE = "MARS-REGIONAL-MAPPING-Te-Fl"
INSTRUMENT_HOST_ID = MEX
INSTRUMENT_HOST_NAME = "MARS EXPRESS"
INSTRUMENT_ID = HRSC
INSTRUMENT_NAME = "HIGH RESOLUTION STEREO CAMERA"
MISSION_NAME = "MARS EXPRESS"
MISSION_PHASE_NAME = MR_Phase_3
PROCESSING_LEVEL_ID = 3
PRODUCT_CREATION_TIME = 2016-03-04T18:37:05.000Z
PRODUCT_ID = "H1202_0000_BL3.JP2"
RELEASE_ID = 0016
REVISION_ID = 0000
/* QUALITY DATA ELEMENTS */
DATA_QUALITY_ID = 1
DATA_QUALITY_DESC = "Data calculated based on original SPICE kernels"
/* TIME DATA ELEMENTS */
SPACECRAFT_CLOCK_START_COUNT = "1/0052039723.56191"
SPACECRAFT_CLOCK_STOP_COUNT = "1/0052040107.30936"
START_TIME = 2004-12-25T07:29:23.280Z
STOP_TIME = 2004-12-25T07:34:43.630Z
/* ORBITAL DATA ELEMENTS */
ASCENDING_NODE_LONGITUDE = 203.41
MAXIMUM_RESOLUTION = 95.7
FOOTPRINT_POINT_LATITUDE = (32.5491,32.5446,32.5392,32.1162, 31.6928,31.0577,30.6338,30.2104,29.788, 29.1532,28.7301,28.3072,27.8843,27.4617 ,27.0392,26.6169,26.1948,25.7731, 25.3516,24.9305,24.5096,24.089,23.6688, 23.2491,22.8298,22.4103,21.9918,21.5731 ,21.1554,20.7369,20.3215,19.9044, 19.2793,18.8644,18.2417,17.8274,17.2059 ,16.7934,16.3823,15.9709,15.355,14.9451 ,14.5359,14.1274,13.7196,13.3125, 12.9058,12.4999,12.095,11.6909,11.6875, 11.6866,11.6861,12.0906,12.4959,12.9019 ,13.3087,13.7161,14.1243,14.7385, 15.1477,15.5582,15.9695,16.3811,16.7936 ,17.2066,17.62,18.0351,18.6571,19.073, 19.6975,20.1133,20.5304,20.9517,21.5778 ,21.9974,22.4156,22.8349,23.2548, 23.6752,24.0949,24.5157,24.9378,25.3597 ,25.7835,26.2047,26.6269,27.0493, 27.4722,27.8953,28.3187,28.7422,29.1658 ,29.8002,30.2244,30.8603,31.4965, 31.9207,32.5568,32.5491)
FOOTPRINT_POINT_LONGITUDE = (287.121,286.815,286.497,286.323, 286.335,286.352,286.363,286.374,286.382 ,286.396,286.405,286.413,286.421, 286.428,286.435,286.442,286.448,286.454 ,286.459,286.463,286.468,286.472, 286.475,286.478,286.48,286.483,286.485, 286.487,286.488,286.491,286.488,286.49, 286.491,286.49,286.49,286.489,286.489, 286.487,286.483,286.481,286.476,286.473 ,286.47,286.466,286.462,286.458,286.454 ,286.449,286.444,286.439,286.804, 287.195,287.741,287.738,287.734,287.73, 287.726,287.723,287.719,287.715,287.71, 287.706,287.703,287.699,287.695,287.692 ,287.688,287.686,287.68,287.677,287.672 ,287.666,287.662,287.665,287.657, 287.654,287.649,287.644,287.64,287.636, 287.631,287.626,287.623,287.62,287.619, 287.613,287.609,287.604,287.6,287.595, 287.591,287.587,287.582,287.573,287.569 ,287.561,287.554,287.549,287.541, 287.121)
ORBIT_NUMBER = 1202
ORBITAL_ECCENTRICITY = 0.571
ORBITAL_INCLINATION = 86.62
ORBITAL_SEMIMAJOR_AXIS = 8604.51
PERIAPSIS_ALTITUDE = 299.6
PERIAPSIS_ARGUMENT_ANGLE = 149.63
PERIAPSIS_TIME = 2004-12-25T07:29:52.000Z
SPACECRAFT_ORIENTATION = (0.0,-1.0,0.0)
^MEX_ORIENTATION_DESC = "MEX_ORIENTATION_DESC.TXT"
SPACECRAFT_POINTING_MODE = NADIR
^MEX_POINTING_DESC = "MEX_POINTING_DESC.TXT"
RIGHT_ASCENSION = -1e+32
DECLINATION = -1e+32
OFFSET_ANGLE = -1e+32
SPACECRAFT_SOLAR_DISTANCE = 2.35928e+08
TARGET_NAME = MARS
/* CAMERA DATA ELEMENTS */
DETECTOR_TEMPERATURE = 18.3705
FOCAL_PLANE_TEMPERATURE = 8.5833
INST_CMPRS_NAME = "DISCRETE COSINE TRANSFORMATION (DCT)"
INST_CMPRS_RATIO = 27.4649
INST_CMPRS_QUALITY = 0
INST_CMPRS_QUANTZ_TBL_ID = 0
INSTRUMENT_TEMPERATURE = 11.234
LENS_TEMPERATURE = 8.9911
MACROPIXEL_SIZE = 8
MISSING_FRAMES = 0
PIXEL_SUBSAMPLING_FLAG = N
SIGNAL_CHAIN_ID = 2
/* RADIOMETRIC DATA ELEMENTS */
BANDWIDTH = 76.0
CENTER_FILTER_WAVELENGTH = 444.0
RADIANCE_OFFSET = 0.872855
RADIANCE_SCALING_FACTOR = 0.0045232
REFLECTANCE_SCALING_FACTOR = 0.00025868
MEX:REFLECTANCE_OFFSET = 0.0499182
/* IMAGE OBJECT DEFINITIONS */
OBJECT = IMAGE
  INTERCHANGE_FORMAT = BINARY
  LINES = 12370
  LINE_SAMPLES = 822
  SAMPLE_TYPE = UNSIGNED_INTEGER
  SAMPLE_BITS = 8
  BANDS = 1
  BAND_STORAGE_TYPE = BAND_SEQUENTIAL
  MAXIMUM = 133
  MEAN = 79.2074
  MINIMUM = 54
  STANDARD_DEVIATION = 9.90356
END_OBJECT = IMAGE
/* MAP OBJECT DEFINITIONS */
OBJECT = IMAGE_MAP_PROJECTION
  ^DATA_SET_MAP_PROJECTION_CATALOG= "DSMAP.CAT"
  A_AXIS_RADIUS = 3396.0
  B_AXIS_RADIUS = 3396.0
  C_AXIS_RADIUS = 3396.0
  CENTER_LATITUDE = 0.0
  CENTER_LONGITUDE = 287.0
  COORDINATE_SYSTEM_NAME = PLANETOGRAPHIC
  COORDINATE_SYSTEM_TYPE = "BODY-FIXED ROTATING"
  EASTERNMOST_LONGITUDE = 287.741
  FIRST_STANDARD_PARALLEL = "N/A"
  LINE_FIRST_PIXEL = 1
  LINE_LAST_PIXEL = 12370
  LINE_PROJECTION_OFFSET = 19298.9375
  MAP_PROJECTION_ROTATION = 0.0
  MAP_PROJECTION_TYPE = SINUSOIDAL
  MAP_RESOLUTION = 592.713803866667
  MAP_SCALE = 0.1
  MAXIMUM_LATITUDE = 32.5568
  MINIMUM_LATITUDE = 11.6861
  POSITIVE_LONGITUDE_DIRECTION = EAST
  REFERENCE_LATITUDE = "N/A"
  REFERENCE_LONGITUDE = "N/A"
  SAMPLE_FIRST_PIXEL = 1
  SAMPLE_LAST_PIXEL = 822
  SAMPLE_PROJECTION_OFFSET = 370.0625
  SECOND_STANDARD_PARALLEL = "N/A"
  WESTERNMOST_LONGITUDE = 286.323
END_OBJECT = IMAGE_MAP_PROJECTION
/* The JPEG2000 image data file associated with this label. */
OBJECT = COMPRESSED_FILE
  FILE_NAME = "H1202_0000_BL3.JP2"
  RECORD_TYPE = UNDEFINED
  FILE_RECORDS = UNK
  ENCODING_TYPE = "JP2"
  INTERCHANGE_FORMAT = BINARY
  UNCOMPRESSED_FILE_NAME = "H1202_0000_BL3.IMG"
  REQUIRED_STORAGE_BYTES = "10186224"
  ^DESCRIPTION = "JP2INFO.TXT"
END_OBJECT = COMPRESSED_FILE
END
