PDS_VERSION_ID = PDS3
/* FILE DATA ELEMENTS */
RECORD_TYPE = STREAM
/* POINTERS TO DATA OBJECTS */
^COMPRESSED_FILE = "H1202_0006_SR3.JP2"
/* IDENTIFICATION DATA ELEMENTS */
DATA_SET_ID = "MEX-M-HRSC-5-REFDR-MAPPROJECTED-V3.0"
DATA_SET_NAME = "MARS EXPRESS HRSC MAP PROJECTED REFDR V3.0"
DETECTOR_ID = MEX_HRSC_SRC
EVENT_TYPE = "MARS-REGIONAL-MAPPING-Te-Fl"
INSTRUMENT_HOST_ID = MEX
INSTRUMENT_HOST_NAME = "MARS EXPRESS"
INSTRUMENT_ID = HRSC
INSTRUMENT_NAME = "HIGH RESOLUTION STEREO CAMERA"
MISSION_NAME = "MARS EXPRESS"
MISSION_PHASE_NAME = MR_Phase_3
PROCESSING_LEVEL_ID = 3
PRODUCT_CREATION_TIME = 2016-03-04T18:37:05.000Z
PRODUCT_ID = "H1202_0006_SR3.JP2"
RELEASE_ID = 0016
REVISION_ID = 0000
/* QUALITY DATA ELEMENTS */
DATA_QUALITY_ID = 1
DATA_QUALITY_DESC = "Data calculated based on original SPICE kernels"
/* TIME DATA ELEMENTS */
SPACECRAFT_CLOCK_START_COUNT = "1/0052039723.56191"
SPACECRAFT_CLOCK_STOP_COUNT = "1/0052040107.30936"
IMAGE_TIME = 2004-12-25T07:32:07.065Z
START_TIME = 2004-12-25T07:32:07.062Z
STOP_TIME = 2004-12-25T07:32:07.067Z
/* ORBITAL DATA ELEMENTS */
ASCENDING_NODE_LONGITUDE = 203.41
MAXIMUM_RESOLUTION = 2.876
FOOTPRINT_POINT_LATITUDE = (21.4022,21.4052,21.4069,21.4081, 21.4105,21.4125,21.4149,21.4167,21.4193 ,21.4211,21.4225,21.424,21.4264,21.4283 ,21.43,21.4317,21.4342,21.4359,21.4378, 21.44,21.4431,21.4455,21.447,21.4483, 21.4499,21.4499,21.45,21.45,21.45,21.45 ,21.45,21.45,21.45,21.4501,21.4501, 21.4501,21.4501,21.4501,21.4501,21.4501 ,21.4501,21.4502,21.4502,21.4502, 21.4502,21.4502,21.4502,21.4502,21.4502 ,21.45,21.4483,21.447,21.4447,21.4427, 21.4408,21.4386,21.4371,21.4354,21.4326 ,21.4303,21.4289,21.4276,21.4258, 21.4235,21.4219,21.4198,21.4182,21.4165 ,21.4142,21.4109,21.408,21.4061,21.4042 ,21.4029,21.4013,21.4013,21.4013, 21.4013,21.4013,21.4013,21.4012,21.4012 ,21.4012,21.4012,21.4012,21.4012, 21.4012,21.4012,21.4011,21.4011,21.4011 ,21.4011,21.4011,21.4011,21.4011, 21.4011,21.401,21.401,21.401,21.4022)
FOOTPRINT_POINT_LONGITUDE = (287.043,287.043,287.043,287.043, 287.043,287.043,287.043,287.043,287.043 ,287.043,287.043,287.043,287.043, 287.043,287.043,287.043,287.043,287.043 ,287.043,287.043,287.043,287.043, 287.043,287.043,287.043,287.045,287.047 ,287.05,287.052,287.054,287.057,287.059 ,287.061,287.064,287.066,287.068,287.07 ,287.072,287.074,287.076,287.078,287.08 ,287.082,287.084,287.086,287.088,287.09 ,287.092,287.094,287.096,287.096, 287.096,287.096,287.096,287.096,287.096 ,287.096,287.096,287.096,287.096, 287.096,287.096,287.096,287.096,287.096 ,287.096,287.096,287.096,287.096, 287.096,287.096,287.096,287.096,287.096 ,287.095,287.093,287.09,287.088,287.086 ,287.085,287.083,287.08,287.079,287.077 ,287.075,287.073,287.071,287.068, 287.066,287.064,287.062,287.059,287.057 ,287.055,287.053,287.051,287.05,287.047 ,287.045,287.043)
ORBIT_NUMBER = 1202
ORBITAL_ECCENTRICITY = 0.571
ORBITAL_INCLINATION = 86.62
ORBITAL_SEMIMAJOR_AXIS = 8604.51
PERIAPSIS_ALTITUDE = 299.6
PERIAPSIS_ARGUMENT_ANGLE = 149.63
PERIAPSIS_TIME = 2004-12-25T07:29:52.000Z
SPACECRAFT_ORIENTATION = (0.0,-1.0,0.0)
^MEX_ORIENTATION_DESC = "MEX_ORIENTATION_DESC.TXT"
SPACECRAFT_POINTING_MODE = NADIR
^MEX_POINTING_DESC = "MEX_POINTING_DESC.TXT"
RIGHT_ASCENSION = -1e+32
DECLINATION = -1e+32
OFFSET_ANGLE = -1e+32
SPACECRAFT_SOLAR_DISTANCE = 2.35928e+08
TARGET_NAME = MARS
/* CAMERA DATA ELEMENTS */
BUFFER_MODE_ID = BUFFER_8
EXPOSURE_DURATION = 5.04
INST_CMPRS_NAME = NONE
INST_CMPRS_RATIO = 1.0
INST_CMPRS_QUALITY = -2147483648
INST_CMPRS_QUANTZ_TBL_ID = -2147483648
INSTRUMENT_TEMPERATURE = 11.2121
MISSING_FRAMES = 0
START_BIT = 0
/* RADIOMETRIC DATA ELEMENTS */
BANDWIDTH = 250.0
CENTER_FILTER_WAVELENGTH = 600.0
RADIANCE_OFFSET = -9.99e+31
RADIANCE_SCALING_FACTOR = -9.99e+31
REFLECTANCE_SCALING_FACTOR = -9.99e+31
MEX:REFLECTANCE_OFFSET = -9.99e+31
/* IMAGE OBJECT DEFINITIONS */
OBJECT = IMAGE
  INTERCHANGE_FORMAT = BINARY
  LINES = 1218
  LINE_SAMPLES = 1230
  SAMPLE_TYPE = UNSIGNED_INTEGER
  SAMPLE_BITS = 8
  BANDS = 1
  BAND_STORAGE_TYPE = BAND_SEQUENTIAL
  MAXIMUM = 8253
  MEAN = 7627.61
  MINIMUM = 6612
  STANDARD_DEVIATION = 130.321
END_OBJECT = IMAGE
/* MAP OBJECT DEFINITIONS */
OBJECT = IMAGE_MAP_PROJECTION
  ^DATA_SET_MAP_PROJECTION_CATALOG= "DSMAP.CAT"
  A_AXIS_RADIUS = 3396.19
  B_AXIS_RADIUS = 3396.19
  C_AXIS_RADIUS = 3396.19
  CENTER_LATITUDE = 0.0
  CENTER_LONGITUDE = 287.0
  COORDINATE_SYSTEM_NAME = PLANETOGRAPHIC
  COORDINATE_SYSTEM_TYPE = "BODY-FIXED ROTATING"
  EASTERNMOST_LONGITUDE = 287.096
  FIRST_STANDARD_PARALLEL = "N/A"
  LINE_FIRST_PIXEL = 1
  LINE_LAST_PIXEL = 1218
  LINE_PROJECTION_OFFSET = 508469.0
  MAP_PROJECTION_ROTATION = 0.0
  MAP_PROJECTION_TYPE = SINUSOIDAL
  MAP_RESOLUTION = 23709.8786048756
  MAP_SCALE = 0.0025
  MAXIMUM_LATITUDE = 21.4502
  MINIMUM_LATITUDE = 21.401
  POSITIVE_LONGITUDE_DIRECTION = EAST
  REFERENCE_LATITUDE = "N/A"
  REFERENCE_LONGITUDE = "N/A"
  SAMPLE_FIRST_PIXEL = 1
  SAMPLE_LAST_PIXEL = 1230
  SAMPLE_PROJECTION_OFFSET = -916.0
  SECOND_STANDARD_PARALLEL = "N/A"
  WESTERNMOST_LONGITUDE = 287.043
END_OBJECT = IMAGE_MAP_PROJECTION
/* The JPEG2000 image data file associated with this label. */
OBJECT = COMPRESSED_FILE
  FILE_NAME = "H1202_0006_SR3.JP2"
  RECORD_TYPE = UNDEFINED
  FILE_RECORDS = UNK
  ENCODING_TYPE = "JP2"
  INTERCHANGE_FORMAT = BINARY
  UNCOMPRESSED_FILE_NAME = "H1202_0006_SR3.IMG"
  REQUIRED_STORAGE_BYTES = "1516590"
  ^DESCRIPTION = "JP2INFO.TXT"
END_OBJECT = COMPRESSED_FILE
END
