PDS_VERSION_ID = PDS3
/* FILE DATA ELEMENTS */
RECORD_TYPE = STREAM
/* POINTERS TO DATA OBJECTS */
^COMPRESSED_FILE = "H1206_0001_BL3.JP2"
/* IDENTIFICATION DATA ELEMENTS */
DATA_SET_ID = "MEX-M-HRSC-5-REFDR-MAPPROJECTED-V3.0"
DATA_SET_NAME = "MARS EXPRESS HRSC MAP PROJECTED REFDR V3.0"
DETECTOR_ID = MEX_HRSC_BLUE
EVENT_TYPE = "MARS-REGIONAL-MAPPING-Vo-Te"
INSTRUMENT_HOST_ID = MEX
INSTRUMENT_HOST_NAME = "MARS EXPRESS"
INSTRUMENT_ID = HRSC
INSTRUMENT_NAME = "HIGH RESOLUTION STEREO CAMERA"
MISSION_NAME = "MARS EXPRESS"
MISSION_PHASE_NAME = MR_Phase_3
PROCESSING_LEVEL_ID = 3
PRODUCT_CREATION_TIME = 2016-03-04T18:37:05.000Z
PRODUCT_ID = "H1206_0001_BL3.JP2"
RELEASE_ID = 0016
REVISION_ID = 0000
/* QUALITY DATA ELEMENTS */
DATA_QUALITY_ID = 1
DATA_QUALITY_DESC = "Data calculated based on original SPICE kernels"
/* TIME DATA ELEMENTS */
SPACECRAFT_CLOCK_START_COUNT = "1/0052136750.57162"
SPACECRAFT_CLOCK_STOP_COUNT = "1/0052136981.14119"
START_TIME = 2004-12-26T10:26:33.961Z
STOP_TIME = 2004-12-26T10:29:10.548Z
/* ORBITAL DATA ELEMENTS */
ASCENDING_NODE_LONGITUDE = 203.33
MAXIMUM_RESOLUTION = 110.4
FOOTPRINT_POINT_LATITUDE = (15.5827,15.5827,15.5825,15.5821, 15.5817,15.5811,15.4888,15.313,15.1373, 14.9617,14.7863,14.6111,14.436,14.2609, 14.0859,13.9107,13.7358,13.5605,13.2985 ,13.1235,12.9481,12.7734,12.5987, 12.4244,12.2501,12.0757,11.8144,11.641, 11.4681,11.2952,11.1229,10.8643,10.6924 ,9.56617,9.39541,9.22527,9.05464, 8.88426,8.7141,8.54416,8.37422,8.20453, 8.03503,7.86574,7.69658,7.52757,7.19005 ,6.85325,6.51715,6.18169,5.84706, 5.79139,5.78984,5.78817,5.78713,5.78742 ,6.12257,6.45835,6.79472,7.13168,7.3004 ,7.46926,7.63836,7.80784,7.97723, 8.14692,8.40116,8.57057,8.74026,8.91052 ,9.08036,9.25064,9.50602,10.6293, 10.8012,10.9733,11.1457,11.3182,11.491, 11.6639,11.8371,12.0108,12.2724,12.5348 ,12.71,12.8849,13.0605,13.2366,13.413, 13.589,13.8525,14.0282,14.2037,14.3795, 14.6431,14.8188,14.9948,15.1707,15.3467 ,15.5827)
FOOTPRINT_POINT_LONGITUDE = (254.803,254.615,254.404,254.217, 254.031,253.845,253.644,253.642,253.64, 253.639,253.637,253.635,253.633,253.631 ,253.629,253.628,253.626,253.625, 253.622,253.62,253.62,253.618,253.617, 253.615,253.613,253.612,253.61,253.608, 253.605,253.603,253.6,253.596,253.593, 253.571,253.567,253.563,253.56,253.557, 253.553,253.55,253.546,253.543,253.539, 253.535,253.532,253.528,253.52,253.512, 253.504,253.496,253.488,253.731,254.075 ,254.448,254.67,254.958,254.954,254.95, 254.946,254.941,254.939,254.937,254.934 ,254.933,254.931,254.929,254.924, 254.921,254.918,254.915,254.912,254.909 ,254.903,254.879,254.877,254.874, 254.872,254.871,254.869,254.867,254.866 ,254.865,254.866,254.869,254.871, 254.871,254.873,254.876,254.88,254.882, 254.884,254.884,254.884,254.884,254.884 ,254.883,254.883,254.882,254.881, 254.803)
ORBIT_NUMBER = 1206
ORBITAL_ECCENTRICITY = 0.571
ORBITAL_INCLINATION = 86.62
ORBITAL_SEMIMAJOR_AXIS = 8610.0
PERIAPSIS_ALTITUDE = 299.8
PERIAPSIS_ARGUMENT_ANGLE = 148.88
PERIAPSIS_TIME = 2004-12-26T10:22:32.000Z
SPACECRAFT_ORIENTATION = (0.0,-1.0,0.0)
^MEX_ORIENTATION_DESC = "MEX_ORIENTATION_DESC.TXT"
SPACECRAFT_POINTING_MODE = ACROSSTRACK
^MEX_POINTING_DESC = "MEX_POINTING_DESC.TXT"
RIGHT_ASCENSION = -1e+32
DECLINATION = -1e+32
OFFSET_ANGLE = 0.25
SPACECRAFT_SOLAR_DISTANCE = 2.35733e+08
TARGET_NAME = MARS
/* CAMERA DATA ELEMENTS */
DETECTOR_TEMPERATURE = 19.5939
FOCAL_PLANE_TEMPERATURE = 8.3794
INST_CMPRS_NAME = "DISCRETE COSINE TRANSFORMATION (DCT)"
INST_CMPRS_RATIO = 28.5377
INST_CMPRS_QUALITY = 0
INST_CMPRS_QUANTZ_TBL_ID = 0
INSTRUMENT_TEMPERATURE = 13.0691
LENS_TEMPERATURE = 8.7872
MACROPIXEL_SIZE = 8
MISSING_FRAMES = 79
PIXEL_SUBSAMPLING_FLAG = N
SIGNAL_CHAIN_ID = 2
/* RADIOMETRIC DATA ELEMENTS */
BANDWIDTH = 76.0
CENTER_FILTER_WAVELENGTH = 444.0
RADIANCE_OFFSET = 1.04511
RADIANCE_SCALING_FACTOR = 0.00523691
REFLECTANCE_SCALING_FACTOR = 0.000298997
MEX:REFLECTANCE_OFFSET = 0.0596695
/* IMAGE OBJECT DEFINITIONS */
OBJECT = IMAGE
  INTERCHANGE_FORMAT = BINARY
  LINES = 5804
  LINE_SAMPLES = 935
  SAMPLE_TYPE = UNSIGNED_INTEGER
  SAMPLE_BITS = 8
  BANDS = 1
  BAND_STORAGE_TYPE = BAND_SEQUENTIAL
  MAXIMUM = 125
  MEAN = 82.6515
  MINIMUM = 53
  STANDARD_DEVIATION = 13.4553
END_OBJECT = IMAGE
/* MAP OBJECT DEFINITIONS */
OBJECT = IMAGE_MAP_PROJECTION
  ^DATA_SET_MAP_PROJECTION_CATALOG= "DSMAP.CAT"
  A_AXIS_RADIUS = 3396.0
  B_AXIS_RADIUS = 3396.0
  C_AXIS_RADIUS = 3396.0
  CENTER_LATITUDE = 0.0
  CENTER_LONGITUDE = 254.0
  COORDINATE_SYSTEM_NAME = PLANETOGRAPHIC
  COORDINATE_SYSTEM_TYPE = "BODY-FIXED ROTATING"
  EASTERNMOST_LONGITUDE = 254.958
  FIRST_STANDARD_PARALLEL = "N/A"
  LINE_FIRST_PIXEL = 1
  LINE_LAST_PIXEL = 5804
  LINE_PROJECTION_OFFSET = 9239.4375
  MAP_PROJECTION_ROTATION = 0.0
  MAP_PROJECTION_TYPE = SINUSOIDAL
  MAP_RESOLUTION = 592.713803866667
  MAP_SCALE = 0.1
  MAXIMUM_LATITUDE = 15.5827
  MINIMUM_LATITUDE = 5.78713
  POSITIVE_LONGITUDE_DIRECTION = EAST
  REFERENCE_LATITUDE = "N/A"
  REFERENCE_LONGITUDE = "N/A"
  SAMPLE_FIRST_PIXEL = 1
  SAMPLE_LAST_PIXEL = 935
  SAMPLE_PROJECTION_OFFSET = 329.3125
  SECOND_STANDARD_PARALLEL = "N/A"
  WESTERNMOST_LONGITUDE = 253.488
END_OBJECT = IMAGE_MAP_PROJECTION
/* The JPEG2000 image data file associated with this label. */
OBJECT = COMPRESSED_FILE
  FILE_NAME = "H1206_0001_BL3.JP2"
  RECORD_TYPE = UNDEFINED
  FILE_RECORDS = UNK
  ENCODING_TYPE = "JP2"
  INTERCHANGE_FORMAT = BINARY
  UNCOMPRESSED_FILE_NAME = "H1206_0001_BL3.IMG"
  REQUIRED_STORAGE_BYTES = "5444505"
  ^DESCRIPTION = "JP2INFO.TXT"
END_OBJECT = COMPRESSED_FILE
END
