PDS_VERSION_ID = PDS3
/* FILE DATA ELEMENTS */
RECORD_TYPE = STREAM
/* POINTERS TO DATA OBJECTS */
^COMPRESSED_FILE = "H1210_0000_BL3.JP2"
/* IDENTIFICATION DATA ELEMENTS */
DATA_SET_ID = "MEX-M-HRSC-5-REFDR-MAPPROJECTED-V3.0"
DATA_SET_NAME = "MARS EXPRESS HRSC MAP PROJECTED REFDR V3.0"
DETECTOR_ID = MEX_HRSC_BLUE
EVENT_TYPE = "MARS-REGIONAL-MAPPING-Vo-Te"
INSTRUMENT_HOST_ID = MEX
INSTRUMENT_HOST_NAME = "MARS EXPRESS"
INSTRUMENT_ID = HRSC
INSTRUMENT_NAME = "HIGH RESOLUTION STEREO CAMERA"
MISSION_NAME = "MARS EXPRESS"
MISSION_PHASE_NAME = MR_Phase_3
PROCESSING_LEVEL_ID = 3
PRODUCT_CREATION_TIME = 2016-03-04T18:37:05.000Z
PRODUCT_ID = "H1210_0000_BL3.JP2"
RELEASE_ID = 0016
REVISION_ID = 0000
/* QUALITY DATA ELEMENTS */
DATA_QUALITY_ID = 1
DATA_QUALITY_DESC = "Data calculated based on original SPICE kernels"
/* TIME DATA ELEMENTS */
SPACECRAFT_CLOCK_START_COUNT = "1/0052233136.57965"
SPACECRAFT_CLOCK_STOP_COUNT = "1/0052233275.40933"
START_TIME = 2004-12-27T13:12:59.965Z
STOP_TIME = 2004-12-27T13:14:18.611Z
/* ORBITAL DATA ELEMENTS */
ASCENDING_NODE_LONGITUDE = 203.25
MAXIMUM_RESOLUTION = 98.3
FOOTPRINT_POINT_LATITUDE = (40.5825,40.5802,40.5763,40.5721, 40.5675,40.5625,40.5573,40.5105,40.4062 ,40.3019,40.1976,40.0933,39.989,39.8845 ,39.78,39.675,39.5703,39.4665,39.3618, 39.2566,39.1522,38.9948,38.8375,38.7323 ,38.6276,38.5244,38.4198,38.3148, 38.2103,38.1057,38.0011,37.8965,37.792, 37.6352,37.5307,37.4266,37.2245,37.0225 ,36.8707,36.7694,36.5676,36.416,36.2137 ,36.0619,35.9607,35.8595,35.7584, 35.6571,35.5558,35.404,35.3745,35.3778, 35.3825,35.3868,35.39,35.3919,35.4457, 35.5471,35.6485,35.7499,35.8513,35.9526 ,36.0538,36.2057,36.307,36.4082,36.56, 36.6613,36.8132,36.9144,37.0156,37.1672 ,37.3693,37.4704,37.5751,37.68,37.8369, 37.994,38.0989,38.2042,38.3089,38.4658, 38.623,38.728,38.8325,38.9363,39.0408, 39.1457,39.2506,39.3555,39.5129,39.6703 ,39.7753,39.9323,40.0369,40.1414, 40.2459,40.3504,40.4549,40.5825)
FOOTPRINT_POINT_LONGITUDE = (222.585,222.442,222.215,221.992, 221.771,221.553,221.338,221.144,221.148 ,221.151,221.155,221.159,221.163, 221.167,221.17,221.173,221.176,221.181, 221.184,221.186,221.19,221.194,221.198, 221.2,221.203,221.209,221.212,221.214, 221.218,221.221,221.224,221.227,221.23, 221.235,221.238,221.242,221.247,221.253 ,221.257,221.259,221.265,221.269, 221.274,221.277,221.28,221.282,221.284, 221.286,221.289,221.292,221.523,221.685 ,221.912,222.107,222.362,222.53,222.646 ,222.646,222.647,222.647,222.648, 222.648,222.648,222.648,222.648,222.648 ,222.648,222.649,222.649,222.649, 222.649,222.647,222.646,222.645,222.645 ,222.645,222.644,222.644,222.645, 222.648,222.648,222.647,222.648,222.65, 222.649,222.644,222.643,222.645,222.646 ,222.648,222.651,222.654,222.657, 222.658,222.658,222.659,222.658,222.658 ,222.659,222.585)
ORBIT_NUMBER = 1210
ORBITAL_ECCENTRICITY = 0.571
ORBITAL_INCLINATION = 86.63
ORBITAL_SEMIMAJOR_AXIS = 8601.7
PERIAPSIS_ALTITUDE = 300.48
PERIAPSIS_ARGUMENT_ANGLE = 148.17
PERIAPSIS_TIME = 2004-12-27T13:15:08.000Z
SPACECRAFT_ORIENTATION = (0.0,-1.0,0.0)
^MEX_ORIENTATION_DESC = "MEX_ORIENTATION_DESC.TXT"
SPACECRAFT_POINTING_MODE = ACROSSTRACK
^MEX_POINTING_DESC = "MEX_POINTING_DESC.TXT"
RIGHT_ASCENSION = -1e+32
DECLINATION = -1e+32
OFFSET_ANGLE = 0.99
SPACECRAFT_SOLAR_DISTANCE = 2.35536e+08
TARGET_NAME = MARS
/* CAMERA DATA ELEMENTS */
DETECTOR_TEMPERATURE = 18.1666
FOCAL_PLANE_TEMPERATURE = 7.7677
INST_CMPRS_NAME = "DISCRETE COSINE TRANSFORMATION (DCT)"
INST_CMPRS_RATIO = 32.0155
INST_CMPRS_QUALITY = 0
INST_CMPRS_QUANTZ_TBL_ID = 0
INSTRUMENT_TEMPERATURE = 11.0301
LENS_TEMPERATURE = 8.3794
MACROPIXEL_SIZE = 8
MISSING_FRAMES = 0
PIXEL_SUBSAMPLING_FLAG = N
SIGNAL_CHAIN_ID = 2
/* RADIOMETRIC DATA ELEMENTS */
BANDWIDTH = 76.0
CENTER_FILTER_WAVELENGTH = 444.0
RADIANCE_OFFSET = 0.91029
RADIANCE_SCALING_FACTOR = 0.00202827
REFLECTANCE_SCALING_FACTOR = 0.000115611
MEX:REFLECTANCE_OFFSET = 0.0518861
/* IMAGE OBJECT DEFINITIONS */
OBJECT = IMAGE
  INTERCHANGE_FORMAT = BINARY
  LINES = 3095
  LINE_SAMPLES = 764
  SAMPLE_TYPE = UNSIGNED_INTEGER
  SAMPLE_BITS = 8
  BANDS = 1
  BAND_STORAGE_TYPE = BAND_SEQUENTIAL
  MAXIMUM = 70
  MEAN = 57.9677
  MINIMUM = 43
  STANDARD_DEVIATION = 2.0994
END_OBJECT = IMAGE
/* MAP OBJECT DEFINITIONS */
OBJECT = IMAGE_MAP_PROJECTION
  ^DATA_SET_MAP_PROJECTION_CATALOG= "DSMAP.CAT"
  A_AXIS_RADIUS = 3396.0
  B_AXIS_RADIUS = 3396.0
  C_AXIS_RADIUS = 3396.0
  CENTER_LATITUDE = 0.0
  CENTER_LONGITUDE = 222.0
  COORDINATE_SYSTEM_NAME = PLANETOGRAPHIC
  COORDINATE_SYSTEM_TYPE = "BODY-FIXED ROTATING"
  EASTERNMOST_LONGITUDE = 222.659
  FIRST_STANDARD_PARALLEL = "N/A"
  LINE_FIRST_PIXEL = 1
  LINE_LAST_PIXEL = 3095
  LINE_PROJECTION_OFFSET = 24066.1875
  MAP_PROJECTION_ROTATION = 0.0
  MAP_PROJECTION_TYPE = SINUSOIDAL
  MAP_RESOLUTION = 592.713803866667
  MAP_SCALE = 0.1
  MAXIMUM_LATITUDE = 40.5825
  MINIMUM_LATITUDE = 35.3745
  POSITIVE_LONGITUDE_DIRECTION = EAST
  REFERENCE_LATITUDE = "N/A"
  REFERENCE_LONGITUDE = "N/A"
  SAMPLE_FIRST_PIXEL = 1
  SAMPLE_LAST_PIXEL = 764
  SAMPLE_PROJECTION_OFFSET = 405.8125
  SECOND_STANDARD_PARALLEL = "N/A"
  WESTERNMOST_LONGITUDE = 221.144
END_OBJECT = IMAGE_MAP_PROJECTION
/* The JPEG2000 image data file associated with this label. */
OBJECT = COMPRESSED_FILE
  FILE_NAME = "H1210_0000_BL3.JP2"
  RECORD_TYPE = UNDEFINED
  FILE_RECORDS = UNK
  ENCODING_TYPE = "JP2"
  INTERCHANGE_FORMAT = BINARY
  UNCOMPRESSED_FILE_NAME = "H1210_0000_BL3.IMG"
  REQUIRED_STORAGE_BYTES = "2382916"
  ^DESCRIPTION = "JP2INFO.TXT"
END_OBJECT = COMPRESSED_FILE
END
