PDS_VERSION_ID = PDS3
/* FILE DATA ELEMENTS */
RECORD_TYPE = STREAM
/* POINTERS TO DATA OBJECTS */
^COMPRESSED_FILE = "H1210_0000_P13.JP2"
/* IDENTIFICATION DATA ELEMENTS */
DATA_SET_ID = "MEX-M-HRSC-5-REFDR-MAPPROJECTED-V3.0"
DATA_SET_NAME = "MARS EXPRESS HRSC MAP PROJECTED REFDR V3.0"
DETECTOR_ID = MEX_HRSC_P1
EVENT_TYPE = "MARS-REGIONAL-MAPPING-Vo-Te"
INSTRUMENT_HOST_ID = MEX
INSTRUMENT_HOST_NAME = "MARS EXPRESS"
INSTRUMENT_ID = HRSC
INSTRUMENT_NAME = "HIGH RESOLUTION STEREO CAMERA"
MISSION_NAME = "MARS EXPRESS"
MISSION_PHASE_NAME = MR_Phase_3
PROCESSING_LEVEL_ID = 3
PRODUCT_CREATION_TIME = 2016-03-04T18:37:05.000Z
PRODUCT_ID = "H1210_0000_P13.JP2"
RELEASE_ID = 0016
REVISION_ID = 0000
/* QUALITY DATA ELEMENTS */
DATA_QUALITY_ID = 1
DATA_QUALITY_DESC = "Data calculated based on original SPICE kernels"
/* TIME DATA ELEMENTS */
SPACECRAFT_CLOCK_START_COUNT = "1/0052233136.57965"
SPACECRAFT_CLOCK_STOP_COUNT = "1/0052233275.40933"
START_TIME = 2004-12-27T13:12:35.305Z
STOP_TIME = 2004-12-27T13:13:55.498Z
/* ORBITAL DATA ELEMENTS */
ASCENDING_NODE_LONGITUDE = 203.25
MAXIMUM_RESOLUTION = 50.8
FOOTPRINT_POINT_LATITUDE = (40.6239,40.6285,40.6346,40.6401, 40.6449,40.6492,40.6529,40.656,40.5074, 40.3494,40.244,40.1384,40.0327,39.9271, 39.8218,39.664,39.5605,39.4533,39.3473, 39.2434,39.1178,38.9134,38.7621,38.6611 ,38.556,38.4515,38.3496,38.247,38.1443, 38.0416,37.9387,37.7839,37.6288,37.4739 ,37.3707,37.2676,37.1644,37.061,36.9059 ,36.752,36.6485,36.5441,36.4406,36.2856 ,36.1306,36.0272,35.8747,35.6252, 35.4256,35.411,35.4059,35.4,35.3923, 35.3848,35.3795,35.3753,35.5251,35.7246 ,35.925,36.0804,36.1842,36.2876,36.3912 ,36.4947,36.6497,36.8049,36.9083, 37.0119,37.1158,37.2195,37.3231,37.4267 ,37.5304,37.6333,37.7357,37.8403, 37.9436,38.0459,38.1475,38.2497,38.3534 ,38.4566,38.559,38.6607,38.7633,38.8678 ,39.0237,39.1489,39.2541,39.3587, 39.4637,39.621,39.7784,39.9361,40.0418, 40.1475,40.2533,40.3589,40.4644, 40.6239)
FOOTPRINT_POINT_LONGITUDE = (222.605,222.443,222.212,221.983, 221.757,221.534,221.314,221.097,221.121 ,221.127,221.131,221.135,221.139, 221.143,221.147,221.153,221.155,221.16, 221.164,221.166,221.171,221.176,221.18, 221.183,221.188,221.192,221.195,221.198 ,221.202,221.205,221.208,221.213, 221.218,221.223,221.226,221.229,221.232 ,221.235,221.24,221.244,221.247,221.25, 221.253,221.257,221.261,221.263,221.267 ,221.273,221.278,221.425,221.625, 221.853,222.01,222.233,222.517,222.656, 222.657,222.659,222.66,222.66,222.66, 222.66,222.66,222.661,222.661,222.661, 222.661,222.661,222.661,222.66,222.66, 222.659,222.659,222.659,222.661,222.658 ,222.658,222.659,222.662,222.663, 222.662,222.662,222.663,222.665,222.665 ,222.662,222.66,222.661,222.663,222.666 ,222.668,222.671,222.674,222.676, 222.677,222.677,222.677,222.677,222.678 ,222.605)
ORBIT_NUMBER = 1210
ORBITAL_ECCENTRICITY = 0.571
ORBITAL_INCLINATION = 86.63
ORBITAL_SEMIMAJOR_AXIS = 8601.7
PERIAPSIS_ALTITUDE = 300.48
PERIAPSIS_ARGUMENT_ANGLE = 148.17
PERIAPSIS_TIME = 2004-12-27T13:15:08.000Z
SPACECRAFT_ORIENTATION = (0.0,-1.0,0.0)
^MEX_ORIENTATION_DESC = "MEX_ORIENTATION_DESC.TXT"
SPACECRAFT_POINTING_MODE = ACROSSTRACK
^MEX_POINTING_DESC = "MEX_POINTING_DESC.TXT"
RIGHT_ASCENSION = -1e+32
DECLINATION = -1e+32
OFFSET_ANGLE = 0.99
SPACECRAFT_SOLAR_DISTANCE = 2.35536e+08
TARGET_NAME = MARS
/* CAMERA DATA ELEMENTS */
DETECTOR_TEMPERATURE = 17.5549
FOCAL_PLANE_TEMPERATURE = 7.7677
INST_CMPRS_NAME = "DISCRETE COSINE TRANSFORMATION (DCT)"
INST_CMPRS_RATIO = 11.035
INST_CMPRS_QUALITY = 0
INST_CMPRS_QUANTZ_TBL_ID = 0
INSTRUMENT_TEMPERATURE = 11.0301
LENS_TEMPERATURE = 8.3794
MACROPIXEL_SIZE = 4
MISSING_FRAMES = 3
PIXEL_SUBSAMPLING_FLAG = N
SIGNAL_CHAIN_ID = 3
/* RADIOMETRIC DATA ELEMENTS */
BANDWIDTH = 174.0
CENTER_FILTER_WAVELENGTH = 675.0
RADIANCE_OFFSET = 7.44308
RADIANCE_SCALING_FACTOR = 0.0211366
REFLECTANCE_SCALING_FACTOR = 0.000630717
MEX:REFLECTANCE_OFFSET = 0.222102
/* IMAGE OBJECT DEFINITIONS */
OBJECT = IMAGE
  INTERCHANGE_FORMAT = BINARY
  LINES = 6190
  LINE_SAMPLES = 1528
  SAMPLE_TYPE = UNSIGNED_INTEGER
  SAMPLE_BITS = 8
  BANDS = 1
  BAND_STORAGE_TYPE = BAND_SEQUENTIAL
  MAXIMUM = 153
  MEAN = 122.895
  MINIMUM = 84
  STANDARD_DEVIATION = 5.69487
END_OBJECT = IMAGE
/* MAP OBJECT DEFINITIONS */
OBJECT = IMAGE_MAP_PROJECTION
  ^DATA_SET_MAP_PROJECTION_CATALOG= "DSMAP.CAT"
  A_AXIS_RADIUS = 3396.0
  B_AXIS_RADIUS = 3396.0
  C_AXIS_RADIUS = 3396.0
  CENTER_LATITUDE = 0.0
  CENTER_LONGITUDE = 222.0
  COORDINATE_SYSTEM_NAME = PLANETOGRAPHIC
  COORDINATE_SYSTEM_TYPE = "BODY-FIXED ROTATING"
  EASTERNMOST_LONGITUDE = 222.678
  FIRST_STANDARD_PARALLEL = "N/A"
  LINE_FIRST_PIXEL = 1
  LINE_LAST_PIXEL = 6190
  LINE_PROJECTION_OFFSET = 48132.875
  MAP_PROJECTION_ROTATION = 0.0
  MAP_PROJECTION_TYPE = SINUSOIDAL
  MAP_RESOLUTION = 1185.42760773333
  MAP_SCALE = 0.05
  MAXIMUM_LATITUDE = 40.656
  MINIMUM_LATITUDE = 35.3753
  POSITIVE_LONGITUDE_DIRECTION = EAST
  REFERENCE_LATITUDE = "N/A"
  REFERENCE_LONGITUDE = "N/A"
  SAMPLE_FIRST_PIXEL = 1
  SAMPLE_LAST_PIXEL = 1528
  SAMPLE_PROJECTION_OFFSET = 812.125
  SECOND_STANDARD_PARALLEL = "N/A"
  WESTERNMOST_LONGITUDE = 221.097
END_OBJECT = IMAGE_MAP_PROJECTION
/* The JPEG2000 image data file associated with this label. */
OBJECT = COMPRESSED_FILE
  FILE_NAME = "H1210_0000_P13.JP2"
  RECORD_TYPE = UNDEFINED
  FILE_RECORDS = UNK
  ENCODING_TYPE = "JP2"
  INTERCHANGE_FORMAT = BINARY
  UNCOMPRESSED_FILE_NAME = "H1210_0000_P13.IMG"
  REQUIRED_STORAGE_BYTES = "9478184"
  ^DESCRIPTION = "JP2INFO.TXT"
END_OBJECT = COMPRESSED_FILE
END
