PDS_VERSION_ID = PDS3
/* FILE DATA ELEMENTS */
RECORD_TYPE = STREAM
/* POINTERS TO DATA OBJECTS */
^COMPRESSED_FILE = "H1210_0009_SR3.JP2"
/* IDENTIFICATION DATA ELEMENTS */
DATA_SET_ID = "MEX-M-HRSC-5-REFDR-MAPPROJECTED-V3.0"
DATA_SET_NAME = "MARS EXPRESS HRSC MAP PROJECTED REFDR V3.0"
DETECTOR_ID = MEX_HRSC_SRC
EVENT_TYPE = "MARS-REGIONAL-MAPPING-Vo-Gl"
INSTRUMENT_HOST_ID = MEX
INSTRUMENT_HOST_NAME = "MARS EXPRESS"
INSTRUMENT_ID = HRSC
INSTRUMENT_NAME = "HIGH RESOLUTION STEREO CAMERA"
MISSION_NAME = "MARS EXPRESS"
MISSION_PHASE_NAME = MR_Phase_3
PROCESSING_LEVEL_ID = 3
PRODUCT_CREATION_TIME = 2016-03-04T18:37:05.000Z
PRODUCT_ID = "H1210_0009_SR3.JP2"
RELEASE_ID = 0016
REVISION_ID = 0000
/* QUALITY DATA ELEMENTS */
DATA_QUALITY_ID = 1
DATA_QUALITY_DESC = "Data calculated based on original SPICE kernels"
/* TIME DATA ELEMENTS */
SPACECRAFT_CLOCK_START_COUNT = "1/0052233396.57928"
SPACECRAFT_CLOCK_STOP_COUNT = "1/0052233609.32159"
IMAGE_TIME = 2004-12-27T13:18:21.936Z
START_TIME = 2004-12-27T13:18:21.933Z
STOP_TIME = 2004-12-27T13:18:21.938Z
/* ORBITAL DATA ELEMENTS */
ASCENDING_NODE_LONGITUDE = 203.25
MAXIMUM_RESOLUTION = 3.008
FOOTPRINT_POINT_LATITUDE = (19.0001,19.002,19.0034,19.0056,19.0085 ,19.0098,19.0124,19.0141,19.0163, 19.0185,19.0213,19.0244,19.0271,19.0288 ,19.0302,19.0321,19.0351,19.0369, 19.0382,19.0402,19.043,19.0449,19.0475, 19.0481,19.0481,19.0481,19.0481,19.0481 ,19.0481,19.0481,19.0481,19.0481, 19.0481,19.0481,19.0481,19.0481,19.0481 ,19.0481,19.0481,19.0481,19.0481, 19.0481,19.0481,19.0481,19.0481,19.0481 ,19.0481,19.0481,19.0464,19.0448, 19.0435,19.0412,19.0386,19.0365,19.0347 ,19.0331,19.0309,19.0286,19.0259,19.024 ,19.022,19.0204,19.0182,19.0162,19.0135 ,19.0119,19.0097,19.0082,19.006,19.0046 ,19.0021,19.0,18.9983,18.997,18.997, 18.997,18.997,18.997,18.997,18.997, 18.997,18.997,18.997,18.997,18.9971, 18.9971,18.9971,18.9971,18.9971,18.9971 ,18.9971,18.9971,18.9971,18.9971, 18.9971,18.9971,18.9971,18.9971,18.9971 ,19.0001)
FOOTPRINT_POINT_LONGITUDE = (221.922,221.922,221.922,221.922, 221.922,221.922,221.922,221.922,221.922 ,221.922,221.922,221.922,221.922, 221.922,221.922,221.922,221.922,221.922 ,221.922,221.922,221.922,221.922, 221.922,221.923,221.926,221.928,221.93, 221.932,221.934,221.937,221.939,221.941 ,221.943,221.945,221.947,221.95,221.952 ,221.954,221.956,221.958,221.961, 221.963,221.965,221.967,221.969,221.972 ,221.974,221.976,221.978,221.978, 221.978,221.978,221.978,221.978,221.978 ,221.978,221.978,221.978,221.978, 221.978,221.978,221.978,221.978,221.978 ,221.978,221.978,221.978,221.978, 221.978,221.978,221.978,221.978,221.978 ,221.978,221.975,221.973,221.971, 221.968,221.966,221.964,221.962,221.96, 221.957,221.955,221.953,221.951,221.949 ,221.947,221.944,221.942,221.94,221.938 ,221.936,221.933,221.931,221.929, 221.927,221.925,221.923,221.922)
ORBIT_NUMBER = 1210
ORBITAL_ECCENTRICITY = 0.571
ORBITAL_INCLINATION = 86.63
ORBITAL_SEMIMAJOR_AXIS = 8601.7
PERIAPSIS_ALTITUDE = 300.48
PERIAPSIS_ARGUMENT_ANGLE = 148.17
PERIAPSIS_TIME = 2004-12-27T13:15:08.000Z
SPACECRAFT_ORIENTATION = (0.0,-1.0,0.0)
^MEX_ORIENTATION_DESC = "MEX_ORIENTATION_DESC.TXT"
SPACECRAFT_POINTING_MODE = ACROSSTRACK
^MEX_POINTING_DESC = "MEX_POINTING_DESC.TXT"
RIGHT_ASCENSION = -1e+32
DECLINATION = -1e+32
OFFSET_ANGLE = 0.99
SPACECRAFT_SOLAR_DISTANCE = 2.35536e+08
TARGET_NAME = MARS
/* CAMERA DATA ELEMENTS */
BUFFER_MODE_ID = BUFFER_8
EXPOSURE_DURATION = 5.04
INST_CMPRS_NAME = NONE
INST_CMPRS_RATIO = 1.0
INST_CMPRS_QUALITY = -2147483648
INST_CMPRS_QUANTZ_TBL_ID = -2147483648
INSTRUMENT_TEMPERATURE = 8.18182
MISSING_FRAMES = 0
START_BIT = 0
/* RADIOMETRIC DATA ELEMENTS */
BANDWIDTH = 250.0
CENTER_FILTER_WAVELENGTH = 600.0
RADIANCE_OFFSET = -9.99e+31
RADIANCE_SCALING_FACTOR = -9.99e+31
REFLECTANCE_SCALING_FACTOR = -9.99e+31
MEX:REFLECTANCE_OFFSET = -9.99e+31
/* IMAGE OBJECT DEFINITIONS */
OBJECT = IMAGE
  INTERCHANGE_FORMAT = BINARY
  LINES = 1261
  LINE_SAMPLES = 1298
  SAMPLE_TYPE = UNSIGNED_INTEGER
  SAMPLE_BITS = 8
  BANDS = 1
  BAND_STORAGE_TYPE = BAND_SEQUENTIAL
  MAXIMUM = 11776
  MEAN = 11056.8
  MINIMUM = 9137
  STANDARD_DEVIATION = 222.338
END_OBJECT = IMAGE
/* MAP OBJECT DEFINITIONS */
OBJECT = IMAGE_MAP_PROJECTION
  ^DATA_SET_MAP_PROJECTION_CATALOG= "DSMAP.CAT"
  A_AXIS_RADIUS = 3396.19
  B_AXIS_RADIUS = 3396.19
  C_AXIS_RADIUS = 3396.19
  CENTER_LATITUDE = 0.0
  CENTER_LONGITUDE = 222.0
  COORDINATE_SYSTEM_NAME = PLANETOGRAPHIC
  COORDINATE_SYSTEM_TYPE = "BODY-FIXED ROTATING"
  EASTERNMOST_LONGITUDE = 221.978
  FIRST_STANDARD_PARALLEL = "N/A"
  LINE_FIRST_PIXEL = 1
  LINE_LAST_PIXEL = 1261
  LINE_PROJECTION_OFFSET = 451568.0
  MAP_PROJECTION_ROTATION = 0.0
  MAP_PROJECTION_TYPE = SINUSOIDAL
  MAP_RESOLUTION = 23709.8786048756
  MAP_SCALE = 0.0025
  MAXIMUM_LATITUDE = 19.0481
  MINIMUM_LATITUDE = 18.997
  POSITIVE_LONGITUDE_DIRECTION = EAST
  REFERENCE_LATITUDE = "N/A"
  REFERENCE_LONGITUDE = "N/A"
  SAMPLE_FIRST_PIXEL = 1
  SAMPLE_LAST_PIXEL = 1298
  SAMPLE_PROJECTION_OFFSET = 1613.0
  SECOND_STANDARD_PARALLEL = "N/A"
  WESTERNMOST_LONGITUDE = 221.922
END_OBJECT = IMAGE_MAP_PROJECTION
/* The JPEG2000 image data file associated with this label. */
OBJECT = COMPRESSED_FILE
  FILE_NAME = "H1210_0009_SR3.JP2"
  RECORD_TYPE = UNDEFINED
  FILE_RECORDS = UNK
  ENCODING_TYPE = "JP2"
  INTERCHANGE_FORMAT = BINARY
  UNCOMPRESSED_FILE_NAME = "H1210_0009_SR3.IMG"
  REQUIRED_STORAGE_BYTES = "1656248"
  ^DESCRIPTION = "JP2INFO.TXT"
END_OBJECT = COMPRESSED_FILE
END
