PDS_VERSION_ID = PDS3
/* FILE DATA ELEMENTS */
RECORD_TYPE = STREAM
/* POINTERS TO DATA OBJECTS */
^COMPRESSED_FILE = "H1216_0003_SR3.JP2"
/* IDENTIFICATION DATA ELEMENTS */
DATA_SET_ID = "MEX-M-HRSC-5-REFDR-MAPPROJECTED-V3.0"
DATA_SET_NAME = "MARS EXPRESS HRSC MAP PROJECTED REFDR V3.0"
DETECTOR_ID = MEX_HRSC_SRC
EVENT_TYPE = "MARS-LOCAL-MAPPING-Te-Mw-Ot"
INSTRUMENT_HOST_ID = MEX
INSTRUMENT_HOST_NAME = "MARS EXPRESS"
INSTRUMENT_ID = HRSC
INSTRUMENT_NAME = "HIGH RESOLUTION STEREO CAMERA"
MISSION_NAME = "MARS EXPRESS"
MISSION_PHASE_NAME = MR_Phase_3
PROCESSING_LEVEL_ID = 3
PRODUCT_CREATION_TIME = 2016-03-04T18:37:05.000Z
PRODUCT_ID = "H1216_0003_SR3.JP2"
RELEASE_ID = 0016
REVISION_ID = 0000
/* QUALITY DATA ELEMENTS */
DATA_QUALITY_ID = 1
DATA_QUALITY_DESC = "Data calculated based on original SPICE kernels"
/* TIME DATA ELEMENTS */
SPACECRAFT_CLOCK_START_COUNT = "1/0052378247.56197"
SPACECRAFT_CLOCK_STOP_COUNT = "1/0052378494.32539"
IMAGE_TIME = 2004-12-29T05:32:30.215Z
START_TIME = 2004-12-29T05:32:30.212Z
STOP_TIME = 2004-12-29T05:32:30.217Z
/* ORBITAL DATA ELEMENTS */
ASCENDING_NODE_LONGITUDE = 203.12
MAXIMUM_RESOLUTION = 2.924
FOOTPRINT_POINT_LATITUDE = (40.2425,40.2456,40.2475,40.249,40.2504 ,40.2526,40.2551,40.2568,40.259,40.2604 ,40.2635,40.2655,40.2671,40.2688, 40.2704,40.2718,40.274,40.2757,40.2778, 40.2795,40.2821,40.2837,40.2862,40.2889 ,40.2918,40.2925,40.2926,40.2926, 40.2927,40.2928,40.2928,40.2929,40.293, 40.293,40.2931,40.2932,40.2932,40.2933, 40.2934,40.2934,40.2935,40.2936,40.2937 ,40.2937,40.2938,40.2939,40.2939,40.294 ,40.2941,40.2941,40.2917,40.2897, 40.2879,40.2849,40.2831,40.2815,40.2797 ,40.2775,40.2761,40.2746,40.2727, 40.2702,40.2687,40.2668,40.2652,40.2634 ,40.2606,40.2591,40.2568,40.2552, 40.2532,40.2512,40.2485,40.2468,40.2443 ,40.2442,40.2442,40.2441,40.244,40.244, 40.2439,40.2438,40.2438,40.2437,40.2436 ,40.2436,40.2435,40.2434,40.2433, 40.2433,40.2432,40.2431,40.2431,40.243, 40.2429,40.2429,40.2428,40.2427,40.2426 ,40.2425)
FOOTPRINT_POINT_LONGITUDE = (350.431,350.43,350.43,350.43,350.43, 350.43,350.43,350.43,350.43,350.43, 350.43,350.429,350.429,350.429,350.429, 350.429,350.429,350.429,350.429,350.429 ,350.429,350.429,350.428,350.428, 350.428,350.432,350.434,350.437,350.439 ,350.442,350.445,350.447,350.45,350.452 ,350.455,350.458,350.46,350.463,350.465 ,350.468,350.471,350.473,350.476, 350.478,350.481,350.484,350.486,350.489 ,350.491,350.494,350.494,350.495, 350.495,350.495,350.495,350.495,350.495 ,350.495,350.495,350.495,350.495, 350.495,350.495,350.496,350.496,350.496 ,350.496,350.496,350.496,350.496, 350.496,350.496,350.496,350.496,350.496 ,350.494,350.491,350.489,350.486, 350.483,350.481,350.478,350.476,350.473 ,350.471,350.468,350.465,350.463,350.46 ,350.458,350.455,350.452,350.45,350.447 ,350.445,350.442,350.439,350.437, 350.434,350.431)
ORBIT_NUMBER = 1216
ORBITAL_ECCENTRICITY = 0.57
ORBITAL_INCLINATION = 86.62
ORBITAL_SEMIMAJOR_AXIS = 8594.55
PERIAPSIS_ALTITUDE = 301.76
PERIAPSIS_ARGUMENT_ANGLE = 147.09
PERIAPSIS_TIME = 2004-12-29T05:34:23.000Z
SPACECRAFT_ORIENTATION = (0.0,-1.0,0.0)
^MEX_ORIENTATION_DESC = "MEX_ORIENTATION_DESC.TXT"
SPACECRAFT_POINTING_MODE = ACROSSTRACK
^MEX_POINTING_DESC = "MEX_POINTING_DESC.TXT"
RIGHT_ASCENSION = -1e+32
DECLINATION = -1e+32
OFFSET_ANGLE = -0.26
SPACECRAFT_SOLAR_DISTANCE = 2.35239e+08
TARGET_NAME = MARS
/* CAMERA DATA ELEMENTS */
BUFFER_MODE_ID = BUFFER_8
EXPOSURE_DURATION = 5.04
INST_CMPRS_NAME = NONE
INST_CMPRS_RATIO = 1.0
INST_CMPRS_QUALITY = -2147483648
INST_CMPRS_QUANTZ_TBL_ID = -2147483648
INSTRUMENT_TEMPERATURE = 8.12492
MISSING_FRAMES = 0
START_BIT = 0
/* RADIOMETRIC DATA ELEMENTS */
BANDWIDTH = 250.0
CENTER_FILTER_WAVELENGTH = 600.0
RADIANCE_OFFSET = -9.99e+31
RADIANCE_SCALING_FACTOR = -9.99e+31
REFLECTANCE_SCALING_FACTOR = -9.99e+31
MEX:REFLECTANCE_OFFSET = -9.99e+31
/* IMAGE OBJECT DEFINITIONS */
OBJECT = IMAGE
  INTERCHANGE_FORMAT = BINARY
  LINES = 1296
  LINE_SAMPLES = 1315
  SAMPLE_TYPE = UNSIGNED_INTEGER
  SAMPLE_BITS = 8
  BANDS = 1
  BAND_STORAGE_TYPE = BAND_SEQUENTIAL
  MAXIMUM = 6736
  MEAN = 5715.22
  MINIMUM = 4708
  STANDARD_DEVIATION = 208.653
END_OBJECT = IMAGE
/* MAP OBJECT DEFINITIONS */
OBJECT = IMAGE_MAP_PROJECTION
  ^DATA_SET_MAP_PROJECTION_CATALOG= "DSMAP.CAT"
  A_AXIS_RADIUS = 3396.19
  B_AXIS_RADIUS = 3396.19
  C_AXIS_RADIUS = 3396.19
  CENTER_LATITUDE = 0.0
  CENTER_LONGITUDE = 350.0
  COORDINATE_SYSTEM_NAME = PLANETOGRAPHIC
  COORDINATE_SYSTEM_TYPE = "BODY-FIXED ROTATING"
  EASTERNMOST_LONGITUDE = 350.496
  FIRST_STANDARD_PARALLEL = "N/A"
  LINE_FIRST_PIXEL = 1
  LINE_LAST_PIXEL = 1296
  LINE_PROJECTION_OFFSET = 954557.0
  MAP_PROJECTION_ROTATION = 0.0
  MAP_PROJECTION_TYPE = SINUSOIDAL
  MAP_RESOLUTION = 23709.8786048756
  MAP_SCALE = 0.0025
  MAXIMUM_LATITUDE = 40.2941
  MINIMUM_LATITUDE = 40.2425
  POSITIVE_LONGITUDE_DIRECTION = EAST
  REFERENCE_LATITUDE = "N/A"
  REFERENCE_LONGITUDE = "N/A"
  SAMPLE_FIRST_PIXEL = 1
  SAMPLE_LAST_PIXEL = 1315
  SAMPLE_PROJECTION_OFFSET = -7509.0
  SECOND_STANDARD_PARALLEL = "N/A"
  WESTERNMOST_LONGITUDE = 350.428
END_OBJECT = IMAGE_MAP_PROJECTION
/* The JPEG2000 image data file associated with this label. */
OBJECT = COMPRESSED_FILE
  FILE_NAME = "H1216_0003_SR3.JP2"
  RECORD_TYPE = UNDEFINED
  FILE_RECORDS = UNK
  ENCODING_TYPE = "JP2"
  INTERCHANGE_FORMAT = BINARY
  UNCOMPRESSED_FILE_NAME = "H1216_0003_SR3.IMG"
  REQUIRED_STORAGE_BYTES = "1722650"
  ^DESCRIPTION = "JP2INFO.TXT"
END_OBJECT = COMPRESSED_FILE
END
