PDS_VERSION_ID = PDS3
/* FILE DATA ELEMENTS */
RECORD_TYPE = STREAM
/* POINTERS TO DATA OBJECTS */
^COMPRESSED_FILE = "H1217_0000_IR3.JP2"
/* IDENTIFICATION DATA ELEMENTS */
DATA_SET_ID = "MEX-M-HRSC-5-REFDR-MAPPROJECTED-V3.0"
DATA_SET_NAME = "MARS EXPRESS HRSC MAP PROJECTED REFDR V3.0"
DETECTOR_ID = MEX_HRSC_IR
EVENT_TYPE = "MARS-REGIONAL-MAPPING-Vo-Te"
INSTRUMENT_HOST_ID = MEX
INSTRUMENT_HOST_NAME = "MARS EXPRESS"
INSTRUMENT_ID = HRSC
INSTRUMENT_NAME = "HIGH RESOLUTION STEREO CAMERA"
MISSION_NAME = "MARS EXPRESS"
MISSION_PHASE_NAME = MR_Phase_3
PROCESSING_LEVEL_ID = 3
PRODUCT_CREATION_TIME = 2016-03-04T18:37:05.000Z
PRODUCT_ID = "H1217_0000_IR3.JP2"
RELEASE_ID = 0016
REVISION_ID = 0000
/* QUALITY DATA ELEMENTS */
DATA_QUALITY_ID = 1
DATA_QUALITY_DESC = "Data calculated based on original SPICE kernels"
/* TIME DATA ELEMENTS */
SPACECRAFT_CLOCK_START_COUNT = "1/0052402325.57287"
SPACECRAFT_CLOCK_STOP_COUNT = "1/0052402740.40917"
START_TIME = 2004-12-29T12:12:20.374Z
STOP_TIME = 2004-12-29T12:18:17.089Z
/* ORBITAL DATA ELEMENTS */
ASCENDING_NODE_LONGITUDE = 203.1
MAXIMUM_RESOLUTION = 99.1
FOOTPRINT_POINT_LATITUDE = (51.7465,51.7344,51.7159,51.6297, 51.1786,50.7256,50.2713,49.8153,49.3581 ,48.8996,48.4408,47.9814,47.5197, 46.8268,46.1326,45.4359,44.968,44.4976, 44.0245,43.5503,42.8403,42.1484,41.6865 ,41.2237,40.7654,40.3152,39.864,39.3854 ,39.0812,38.6263,38.175,37.7332,37.2916 ,36.6298,36.1872,35.7434,35.0775, 34.6314,34.1865,33.757,33.1109,32.6798, 32.2488,31.8175,31.3854,30.9535,30.3045 ,29.655,29.2221,28.8984,28.8978,29.1139 ,29.5474,29.981,30.6313,31.2806,31.7133 ,32.1457,32.5772,33.2226,33.6565, 34.0871,34.7527,35.4202,35.8666,36.3111 ,36.7538,37.4163,37.8573,38.2981, 38.7529,39.208,39.5376,39.9911,40.4431, 40.8943,41.5907,42.055,42.5186,42.9819, 43.2209,43.4594,43.6977,44.1727,44.645, 45.114,45.8166,46.2831,46.7486,47.2128, 47.9088,48.3717,48.834,49.2951,49.7549, 50.2135,50.6705,51.1263,51.5805, 51.7465)
FOOTPRINT_POINT_LONGITUDE = (252.729,252.224,251.6,251.071,251.13, 251.187,251.242,251.296,251.348,251.399 ,251.448,251.496,251.542,251.61,251.674 ,251.736,251.775,251.812,251.848, 251.882,251.932,251.977,252.007,252.035 ,252.062,252.088,252.112,252.137, 252.152,252.174,252.195,252.214,252.233 ,252.261,252.278,252.294,252.318, 252.333,252.347,252.36,252.379,252.391, 252.403,252.414,252.424,252.434,252.448 ,252.461,252.469,252.748,253.279, 253.654,253.65,253.646,253.64,253.634, 253.629,253.625,253.62,253.614,253.608, 253.603,253.594,253.585,253.579,253.572 ,253.567,253.558,253.552,253.546, 253.539,253.533,253.527,253.52,253.514, 253.507,253.496,253.489,253.481,253.473 ,253.468,253.464,253.459,253.451, 253.443,253.436,253.425,253.418,253.411 ,253.403,253.389,253.379,253.368, 253.356,253.345,253.332,253.32,253.307, 253.294,252.729)
ORBIT_NUMBER = 1217
ORBITAL_ECCENTRICITY = 0.571
ORBITAL_INCLINATION = 86.62
ORBITAL_SEMIMAJOR_AXIS = 8606.76
PERIAPSIS_ALTITUDE = 301.17
PERIAPSIS_ARGUMENT_ANGLE = 146.92
PERIAPSIS_TIME = 2004-12-29T12:17:36.000Z
SPACECRAFT_ORIENTATION = (0.0,-1.0,0.0)
^MEX_ORIENTATION_DESC = "MEX_ORIENTATION_DESC.TXT"
SPACECRAFT_POINTING_MODE = ACROSSTRACK
^MEX_POINTING_DESC = "MEX_POINTING_DESC.TXT"
RIGHT_ASCENSION = -1e+32
DECLINATION = -1e+32
OFFSET_ANGLE = 0.2
SPACECRAFT_SOLAR_DISTANCE = 2.35189e+08
TARGET_NAME = MARS
/* CAMERA DATA ELEMENTS */
DETECTOR_TEMPERATURE = 17.5549
FOCAL_PLANE_TEMPERATURE = 8.5833
INST_CMPRS_NAME = "DISCRETE COSINE TRANSFORMATION (DCT)"
INST_CMPRS_RATIO = 15.5878
INST_CMPRS_QUALITY = 0
INST_CMPRS_QUANTZ_TBL_ID = 0
INSTRUMENT_TEMPERATURE = 11.234
LENS_TEMPERATURE = 8.9911
MACROPIXEL_SIZE = 8
MISSING_FRAMES = 8
PIXEL_SUBSAMPLING_FLAG = N
SIGNAL_CHAIN_ID = 2
/* RADIOMETRIC DATA ELEMENTS */
BANDWIDTH = 81.0
CENTER_FILTER_WAVELENGTH = 955.5
RADIANCE_OFFSET = 1.43545
RADIANCE_SCALING_FACTOR = 0.0082428
REFLECTANCE_SCALING_FACTOR = 0.00098365
MEX:REFLECTANCE_OFFSET = 0.171299
/* IMAGE OBJECT DEFINITIONS */
OBJECT = IMAGE
  INTERCHANGE_FORMAT = BINARY
  LINES = 13510
  LINE_SAMPLES = 1078
  SAMPLE_TYPE = UNSIGNED_INTEGER
  SAMPLE_BITS = 8
  BANDS = 1
  BAND_STORAGE_TYPE = BAND_SEQUENTIAL
  MAXIMUM = 145
  MEAN = 110.413
  MINIMUM = 52
  STANDARD_DEVIATION = 12.4189
END_OBJECT = IMAGE
/* MAP OBJECT DEFINITIONS */
OBJECT = IMAGE_MAP_PROJECTION
  ^DATA_SET_MAP_PROJECTION_CATALOG= "DSMAP.CAT"
  A_AXIS_RADIUS = 3396.0
  B_AXIS_RADIUS = 3396.0
  C_AXIS_RADIUS = 3396.0
  CENTER_LATITUDE = 0.0
  CENTER_LONGITUDE = 253.0
  COORDINATE_SYSTEM_NAME = PLANETOGRAPHIC
  COORDINATE_SYSTEM_TYPE = "BODY-FIXED ROTATING"
  EASTERNMOST_LONGITUDE = 253.654
  FIRST_STANDARD_PARALLEL = "N/A"
  LINE_FIRST_PIXEL = 1
  LINE_LAST_PIXEL = 13510
  LINE_PROJECTION_OFFSET = 30620.0625
  MAP_PROJECTION_ROTATION = 0.0
  MAP_PROJECTION_TYPE = SINUSOIDAL
  MAP_RESOLUTION = 592.713803866667
  MAP_SCALE = 0.1
  MAXIMUM_LATITUDE = 51.7465
  MINIMUM_LATITUDE = 28.8978
  POSITIVE_LONGITUDE_DIRECTION = EAST
  REFERENCE_LATITUDE = "N/A"
  REFERENCE_LONGITUDE = "N/A"
  SAMPLE_FIRST_PIXEL = 1
  SAMPLE_LAST_PIXEL = 1078
  SAMPLE_PROJECTION_OFFSET = 703.8125
  SECOND_STANDARD_PARALLEL = "N/A"
  WESTERNMOST_LONGITUDE = 251.071
END_OBJECT = IMAGE_MAP_PROJECTION
/* The JPEG2000 image data file associated with this label. */
OBJECT = COMPRESSED_FILE
  FILE_NAME = "H1217_0000_IR3.JP2"
  RECORD_TYPE = UNDEFINED
  FILE_RECORDS = UNK
  ENCODING_TYPE = "JP2"
  INTERCHANGE_FORMAT = BINARY
  UNCOMPRESSED_FILE_NAME = "H1217_0000_IR3.IMG"
  REQUIRED_STORAGE_BYTES = "14582106"
  ^DESCRIPTION = "JP2INFO.TXT"
END_OBJECT = COMPRESSED_FILE
END
