PDS_VERSION_ID = PDS3
/* FILE DATA ELEMENTS */
RECORD_TYPE = STREAM
/* POINTERS TO DATA OBJECTS */
^COMPRESSED_FILE = "H1219_0000_GR3.JP2"
/* IDENTIFICATION DATA ELEMENTS */
DATA_SET_ID = "MEX-M-HRSC-5-REFDR-MAPPROJECTED-V3.0"
DATA_SET_NAME = "MARS EXPRESS HRSC MAP PROJECTED REFDR V3.0"
DETECTOR_ID = MEX_HRSC_GREEN
EVENT_TYPE = "MARS-REGIONAL-MAPPING-Gl-Pf-Eo"
INSTRUMENT_HOST_ID = MEX
INSTRUMENT_HOST_NAME = "MARS EXPRESS"
INSTRUMENT_ID = HRSC
INSTRUMENT_NAME = "HIGH RESOLUTION STEREO CAMERA"
MISSION_NAME = "MARS EXPRESS"
MISSION_PHASE_NAME = MR_Phase_3
PROCESSING_LEVEL_ID = 3
PRODUCT_CREATION_TIME = 2016-03-04T18:37:05.000Z
PRODUCT_ID = "H1219_0000_GR3.JP2"
RELEASE_ID = 0016
REVISION_ID = 0000
/* QUALITY DATA ELEMENTS */
DATA_QUALITY_ID = 1
DATA_QUALITY_DESC = "Data calculated based on original SPICE kernels"
/* TIME DATA ELEMENTS */
SPACECRAFT_CLOCK_START_COUNT = "1/0052450049.57303"
SPACECRAFT_CLOCK_STOP_COUNT = "1/0052450447.35635"
START_TIME = 2004-12-30T01:29:32.665Z
STOP_TIME = 2004-12-30T01:32:55.761Z
/* ORBITAL DATA ELEMENTS */
ASCENDING_NODE_LONGITUDE = 203.05
MAXIMUM_RESOLUTION = 109.1
FOOTPRINT_POINT_LATITUDE = (83.833,83.745,83.65,83.5482,83.4397, 83.2952,83.1732,83.0455,82.9125,82.7744 ,82.6314,82.4834,82.331,82.0613,81.9064 ,81.7485,81.5877,81.4237,81.2569,81.088 ,80.9167,80.6542,80.3873,80.2069,80.027 ,79.7533,79.4802,79.2974,79.1146, 78.8399,78.6563,78.4729,78.1977,78.014, 77.8308,77.5562,77.3727,77.1904,77.0075 ,76.8255,76.6429,76.4615,76.2798,76.099 ,75.7376,75.3779,74.9305,74.5748, 74.3087,73.9558,73.5176,73.2345,73.305, 73.3922,73.4625,73.5657,73.6284,73.7052 ,74.0712,74.441,74.7203,75.0949,75.3772 ,75.7575,76.141,76.334,76.5275,76.8198, 77.0147,77.2117,77.4085,77.6072,77.9057 ,78.1057,78.3068,78.5083,78.7112, 79.0166,79.2213,79.4272,79.7371,79.9446 ,80.1533,80.4672,80.6775,80.8889, 81.1005,81.3135,81.5279,81.8483,82.167, 82.3784,82.5887,82.7982,83.007,83.2146, 83.4212,83.6267,83.8311,83.833)
FOOTPRINT_POINT_LONGITUDE = (40.1576,38.1958,36.292,34.4445,32.6545 ,30.4984,28.8426,27.2445,25.7034, 24.2183,22.7873,21.4074,20.0799,20.4558 ,21.4901,22.4871,23.4482,24.3733, 25.2642,26.1256,26.956,28.1425,29.2688, 29.9866,30.6746,31.6442,32.5625,33.1447 ,33.7037,34.5027,35.0111,35.5,36.1997, 36.6458,37.075,37.6907,38.0846,38.4635, 38.8308,39.1847,39.5285,39.8597,40.1812 ,40.4916,41.085,41.6425,42.2935,42.781, 43.1288,43.5706,44.0883,44.7258,45.6267 ,46.8342,47.8973,49.6581,50.8925, 52.6261,52.488,52.3414,52.2255,52.0632, 51.935,51.7539,51.5606,51.4589,51.354, 51.1894,51.0754,50.9562,50.8333,50.7055 ,50.5048,50.3647,50.2186,50.0665, 49.9082,49.6582,49.4817,49.2969,49.0054 ,48.7995,48.5838,48.24,47.9965,47.7405, 47.4726,47.1867,46.8741,46.392,45.8689, 45.4964,45.1094,44.6955,44.2519,43.7888 ,43.296,42.7738,42.2182,40.1576)
ORBIT_NUMBER = 1219
ORBITAL_ECCENTRICITY = 0.571
ORBITAL_INCLINATION = 86.63
ORBITAL_SEMIMAJOR_AXIS = 8600.89
PERIAPSIS_ALTITUDE = 301.55
PERIAPSIS_ARGUMENT_ANGLE = 146.6
PERIAPSIS_TIME = 2004-12-30T01:43:58.000Z
SPACECRAFT_ORIENTATION = (0.0,-1.0,0.0)
^MEX_ORIENTATION_DESC = "MEX_ORIENTATION_DESC.TXT"
SPACECRAFT_POINTING_MODE = ACROSSTRACK
^MEX_POINTING_DESC = "MEX_POINTING_DESC.TXT"
RIGHT_ASCENSION = -1e+32
DECLINATION = -1e+32
OFFSET_ANGLE = -0.3
SPACECRAFT_SOLAR_DISTANCE = 2.3509e+08
TARGET_NAME = MARS
/* CAMERA DATA ELEMENTS */
DETECTOR_TEMPERATURE = 18.1666
FOCAL_PLANE_TEMPERATURE = 7.9716
INST_CMPRS_NAME = "DISCRETE COSINE TRANSFORMATION (DCT)"
INST_CMPRS_RATIO = 12.2849
INST_CMPRS_QUALITY = 0
INST_CMPRS_QUANTZ_TBL_ID = 0
INSTRUMENT_TEMPERATURE = 11.234
LENS_TEMPERATURE = 8.3794
MACROPIXEL_SIZE = 4
MISSING_FRAMES = 0
PIXEL_SUBSAMPLING_FLAG = N
SIGNAL_CHAIN_ID = 2
/* RADIOMETRIC DATA ELEMENTS */
BANDWIDTH = 88.0
CENTER_FILTER_WAVELENGTH = 538.0
RADIANCE_OFFSET = 0.745815
RADIANCE_SCALING_FACTOR = 0.0166433
REFLECTANCE_SCALING_FACTOR = 0.000791961
MEX:REFLECTANCE_OFFSET = 0.0354892
/* IMAGE OBJECT DEFINITIONS */
OBJECT = IMAGE
  INTERCHANGE_FORMAT = BINARY
  LINES = 6295
  LINE_SAMPLES = 3422
  SAMPLE_TYPE = UNSIGNED_INTEGER
  SAMPLE_BITS = 8
  BANDS = 1
  BAND_STORAGE_TYPE = BAND_SEQUENTIAL
  MAXIMUM = 287
  MEAN = 111.123
  MINIMUM = 40
  STANDARD_DEVIATION = 59.2223
END_OBJECT = IMAGE
/* MAP OBJECT DEFINITIONS */
OBJECT = IMAGE_MAP_PROJECTION
  ^DATA_SET_MAP_PROJECTION_CATALOG= "DSMAP.CAT"
  A_AXIS_RADIUS = 3396.0
  B_AXIS_RADIUS = 3396.0
  C_AXIS_RADIUS = 3396.0
  CENTER_LATITUDE = 0.0
  CENTER_LONGITUDE = 43.0
  COORDINATE_SYSTEM_NAME = PLANETOGRAPHIC
  COORDINATE_SYSTEM_TYPE = "BODY-FIXED ROTATING"
  EASTERNMOST_LONGITUDE = 52.6261
  FIRST_STANDARD_PARALLEL = "N/A"
  LINE_FIRST_PIXEL = 1
  LINE_LAST_PIXEL = 6295
  LINE_PROJECTION_OFFSET = 49691.125
  MAP_PROJECTION_ROTATION = 0.0
  MAP_PROJECTION_TYPE = SINUSOIDAL
  MAP_RESOLUTION = 592.713803866667
  MAP_SCALE = 0.1
  MAXIMUM_LATITUDE = 83.833
  MINIMUM_LATITUDE = 73.2345
  POSITIVE_LONGITUDE_DIRECTION = EAST
  REFERENCE_LATITUDE = "N/A"
  REFERENCE_LONGITUDE = "N/A"
  SAMPLE_FIRST_PIXEL = 1
  SAMPLE_LAST_PIXEL = 3422
  SAMPLE_PROJECTION_OFFSET = 1847.875
  SECOND_STANDARD_PARALLEL = "N/A"
  WESTERNMOST_LONGITUDE = 20.0799
END_OBJECT = IMAGE_MAP_PROJECTION
/* The JPEG2000 image data file associated with this label. */
OBJECT = COMPRESSED_FILE
  FILE_NAME = "H1219_0000_GR3.JP2"
  RECORD_TYPE = UNDEFINED
  FILE_RECORDS = UNK
  ENCODING_TYPE = "JP2"
  INTERCHANGE_FORMAT = BINARY
  UNCOMPRESSED_FILE_NAME = "H1219_0000_GR3.IMG"
  REQUIRED_STORAGE_BYTES = "21565444"
  ^DESCRIPTION = "JP2INFO.TXT"
END_OBJECT = COMPRESSED_FILE
END
