PDS_VERSION_ID = PDS3
/* FILE DATA ELEMENTS */
RECORD_TYPE = STREAM
/* POINTERS TO DATA OBJECTS */
^COMPRESSED_FILE = "H1219_0000_RE3.JP2"
/* IDENTIFICATION DATA ELEMENTS */
DATA_SET_ID = "MEX-M-HRSC-5-REFDR-MAPPROJECTED-V3.0"
DATA_SET_NAME = "MARS EXPRESS HRSC MAP PROJECTED REFDR V3.0"
DETECTOR_ID = MEX_HRSC_RED
EVENT_TYPE = "MARS-REGIONAL-MAPPING-Gl-Pf-Eo"
INSTRUMENT_HOST_ID = MEX
INSTRUMENT_HOST_NAME = "MARS EXPRESS"
INSTRUMENT_ID = HRSC
INSTRUMENT_NAME = "HIGH RESOLUTION STEREO CAMERA"
MISSION_NAME = "MARS EXPRESS"
MISSION_PHASE_NAME = MR_Phase_3
PROCESSING_LEVEL_ID = 3
PRODUCT_CREATION_TIME = 2016-03-04T18:37:05.000Z
PRODUCT_ID = "H1219_0000_RE3.JP2"
RELEASE_ID = 0016
REVISION_ID = 0000
/* QUALITY DATA ELEMENTS */
DATA_QUALITY_ID = 1
DATA_QUALITY_DESC = "Data calculated based on original SPICE kernels"
/* TIME DATA ELEMENTS */
SPACECRAFT_CLOCK_START_COUNT = "1/0052450049.57303"
SPACECRAFT_CLOCK_STOP_COUNT = "1/0052450447.35635"
START_TIME = 2004-12-30T01:31:09.827Z
STOP_TIME = 2004-12-30T01:34:03.206Z
/* ORBITAL DATA ELEMENTS */
ASCENDING_NODE_LONGITUDE = 203.05
MAXIMUM_RESOLUTION = 103.3
FOOTPRINT_POINT_LATITUDE = (83.556,83.483,83.3741,83.2891,83.1993, 83.031,82.9289,82.7955,82.6844,82.5693, 82.4504,82.3278,82.2064,82.0346,81.8614 ,81.5982,81.4219,81.2433,80.9727, 80.7906,80.6093,80.334,80.0593,79.8755, 79.6905,79.5048,79.3198,79.1334,78.9484 ,78.6691,78.4837,78.2048,78.0194, 77.8333,77.5563,77.3708,77.1868,76.9099 ,76.727,76.5432,76.3601,76.1779,75.9044 ,75.7232,75.4514,75.1817,75.0013, 74.8231,74.4657,74.1118,73.7594,73.4962 ,73.235,73.2885,73.353,73.3934,73.4573, 73.5121,73.5553,73.5968,73.9606,74.3274 ,74.6984,75.0714,75.2596,75.4475, 75.6374,75.8277,76.1141,76.3068,76.499, 76.6937,76.9858,77.2807,77.4776,77.6758 ,77.8748,78.1747,78.3757,78.6787, 78.8818,79.0855,79.2903,79.495,79.7016, 79.9086,80.2215,80.5355,80.7461,80.9581 ,81.2757,81.4838,81.6983,81.9121, 82.2353,82.4518,82.6693,82.9924,83.3199 ,83.556)
FOOTPRINT_POINT_LONGITUDE = (40.6211,38.9465,36.7061,35.1237, 33.5781,30.9668,29.5296,27.7879,26.4386 ,25.126,23.8499,22.6091,21.3231,22.4315 ,23.4824,24.9658,25.8823,26.7706, 28.0302,28.827,29.5723,30.6472,31.6427, 32.2698,32.8792,33.4643,34.0229,34.5626 ,35.0776,35.8179,36.286,36.9584,37.3854 ,37.7986,38.3876,38.7651,39.128,39.6513 ,39.9832,40.3069,40.6194,40.9206, 41.3566,41.6353,42.0384,42.4219,42.6697 ,42.9083,43.3677,43.8001,44.2094,44.502 ,44.7824,46.2729,47.3111,48.0055, 49.1909,50.3116,51.2952,52.3062,52.1555 ,51.9959,51.8263,51.6467,51.5524, 51.4557,51.3552,51.2515,51.0899,50.9771 ,50.8611,50.7402,50.5516,50.3517, 50.2129,50.0683,49.918,49.6818,49.516, 49.2549,49.0713,48.8801,48.6796,48.4714 ,48.2518,48.0233,47.6583,47.2663,46.988 ,46.6949,46.2254,45.8895,45.5357, 45.1594,44.5533,44.1162,43.6512,42.8954 ,42.0559,40.6211)
ORBIT_NUMBER = 1219
ORBITAL_ECCENTRICITY = 0.571
ORBITAL_INCLINATION = 86.63
ORBITAL_SEMIMAJOR_AXIS = 8600.89
PERIAPSIS_ALTITUDE = 301.55
PERIAPSIS_ARGUMENT_ANGLE = 146.6
PERIAPSIS_TIME = 2004-12-30T01:43:58.000Z
SPACECRAFT_ORIENTATION = (0.0,-1.0,0.0)
^MEX_ORIENTATION_DESC = "MEX_ORIENTATION_DESC.TXT"
SPACECRAFT_POINTING_MODE = ACROSSTRACK
^MEX_POINTING_DESC = "MEX_POINTING_DESC.TXT"
RIGHT_ASCENSION = -1e+32
DECLINATION = -1e+32
OFFSET_ANGLE = -0.3
SPACECRAFT_SOLAR_DISTANCE = 2.3509e+08
TARGET_NAME = MARS
/* CAMERA DATA ELEMENTS */
DETECTOR_TEMPERATURE = 18.5744
FOCAL_PLANE_TEMPERATURE = 7.9716
INST_CMPRS_NAME = "DISCRETE COSINE TRANSFORMATION (DCT)"
INST_CMPRS_RATIO = 19.7906
INST_CMPRS_QUALITY = 0
INST_CMPRS_QUANTZ_TBL_ID = 0
INSTRUMENT_TEMPERATURE = 11.234
LENS_TEMPERATURE = 8.3794
MACROPIXEL_SIZE = 4
MISSING_FRAMES = 0
PIXEL_SUBSAMPLING_FLAG = N
SIGNAL_CHAIN_ID = 2
/* RADIOMETRIC DATA ELEMENTS */
BANDWIDTH = 48.0
CENTER_FILTER_WAVELENGTH = 748.0
RADIANCE_OFFSET = 0.495333
RADIANCE_SCALING_FACTOR = 0.00783468
REFLECTANCE_SCALING_FACTOR = 0.000988148
MEX:REFLECTANCE_OFFSET = 0.0624738
/* IMAGE OBJECT DEFINITIONS */
OBJECT = IMAGE
  INTERCHANGE_FORMAT = BINARY
  LINES = 6295
  LINE_SAMPLES = 3422
  SAMPLE_TYPE = UNSIGNED_INTEGER
  SAMPLE_BITS = 8
  BANDS = 1
  BAND_STORAGE_TYPE = BAND_SEQUENTIAL
  MAXIMUM = 160
  MEAN = 84.5577
  MINIMUM = 27
  STANDARD_DEVIATION = 30.961
END_OBJECT = IMAGE
/* MAP OBJECT DEFINITIONS */
OBJECT = IMAGE_MAP_PROJECTION
  ^DATA_SET_MAP_PROJECTION_CATALOG= "DSMAP.CAT"
  A_AXIS_RADIUS = 3396.0
  B_AXIS_RADIUS = 3396.0
  C_AXIS_RADIUS = 3396.0
  CENTER_LATITUDE = 0.0
  CENTER_LONGITUDE = 43.0
  COORDINATE_SYSTEM_NAME = PLANETOGRAPHIC
  COORDINATE_SYSTEM_TYPE = "BODY-FIXED ROTATING"
  EASTERNMOST_LONGITUDE = 52.3062
  FIRST_STANDARD_PARALLEL = "N/A"
  LINE_FIRST_PIXEL = 1
  LINE_LAST_PIXEL = 6295
  LINE_PROJECTION_OFFSET = 49691.125
  MAP_PROJECTION_ROTATION = 0.0
  MAP_PROJECTION_TYPE = SINUSOIDAL
  MAP_RESOLUTION = 592.713803866667
  MAP_SCALE = 0.1
  MAXIMUM_LATITUDE = 83.556
  MINIMUM_LATITUDE = 73.235
  POSITIVE_LONGITUDE_DIRECTION = EAST
  REFERENCE_LATITUDE = "N/A"
  REFERENCE_LONGITUDE = "N/A"
  SAMPLE_FIRST_PIXEL = 1
  SAMPLE_LAST_PIXEL = 3422
  SAMPLE_PROJECTION_OFFSET = 1847.875
  SECOND_STANDARD_PARALLEL = "N/A"
  WESTERNMOST_LONGITUDE = 21.3231
END_OBJECT = IMAGE_MAP_PROJECTION
/* The JPEG2000 image data file associated with this label. */
OBJECT = COMPRESSED_FILE
  FILE_NAME = "H1219_0000_RE3.JP2"
  RECORD_TYPE = UNDEFINED
  FILE_RECORDS = UNK
  ENCODING_TYPE = "JP2"
  INTERCHANGE_FORMAT = BINARY
  UNCOMPRESSED_FILE_NAME = "H1219_0000_RE3.IMG"
  REQUIRED_STORAGE_BYTES = "21565444"
  ^DESCRIPTION = "JP2INFO.TXT"
END_OBJECT = COMPRESSED_FILE
END
