PDS_VERSION_ID = PDS3
/* FILE DATA ELEMENTS */
RECORD_TYPE = STREAM
/* POINTERS TO DATA OBJECTS */
^COMPRESSED_FILE = "H1224_0000_ND3.JP2"
/* IDENTIFICATION DATA ELEMENTS */
DATA_SET_ID = "MEX-M-HRSC-5-REFDR-MAPPROJECTED-V3.0"
DATA_SET_NAME = "MARS EXPRESS HRSC MAP PROJECTED REFDR V3.0"
DETECTOR_ID = MEX_HRSC_NADIR
EVENT_TYPE = "MARS-REGIONAL-MAPPING-Vo-Fl"
INSTRUMENT_HOST_ID = MEX
INSTRUMENT_HOST_NAME = "MARS EXPRESS"
INSTRUMENT_ID = HRSC
INSTRUMENT_NAME = "HIGH RESOLUTION STEREO CAMERA"
MISSION_NAME = "MARS EXPRESS"
MISSION_PHASE_NAME = MR_Phase_3
PROCESSING_LEVEL_ID = 3
PRODUCT_CREATION_TIME = 2016-03-04T18:37:05.000Z
PRODUCT_ID = "H1224_0000_ND3.JP2"
RELEASE_ID = 0016
REVISION_ID = 0000
/* QUALITY DATA ELEMENTS */
DATA_QUALITY_ID = 1
DATA_QUALITY_DESC = "Data calculated based on original SPICE kernels"
/* TIME DATA ELEMENTS */
SPACECRAFT_CLOCK_START_COUNT = "1/0052572016.57975"
SPACECRAFT_CLOCK_STOP_COUNT = "1/0052572373.49739"
START_TIME = 2004-12-31T11:20:51.547Z
STOP_TIME = 2004-12-31T11:25:40.541Z
/* ORBITAL DATA ELEMENTS */
ASCENDING_NODE_LONGITUDE = 202.94
MAXIMUM_RESOLUTION = 12.1
FOOTPRINT_POINT_LATITUDE = (30.9969,30.9895,30.9809,30.6402, 30.2995,29.9589,29.2781,28.9254,28.5727 ,28.2201,27.8677,27.5155,27.1634, 26.8116,26.4599,26.1085,25.7573,25.4063 ,25.0555,24.5168,24.1542,23.7919, 23.4298,23.0681,22.7068,22.3457,21.9773 ,21.6045,21.2322,20.8602,20.4886, 20.1174,19.735,19.1613,18.7794,18.398, 18.0077,17.6151,17.2231,16.8316,16.2305 ,15.8284,15.427,15.0172,14.6051,14.1937 ,13.7766,13.3547,12.9336,12.2888, 12.2875,12.5014,12.9303,13.3518,13.7742 ,14.1918,14.6036,15.0162,15.4265, 15.8284,16.2309,16.8327,17.2246,17.617, 18.0099,18.4008,18.7826,19.1648,19.7392 ,20.122,20.4936,20.8656,21.238,21.6108, 21.984,22.3528,22.7142,23.076,23.4381, 23.8005,24.1632,24.5262,25.0655,25.4166 ,25.7681,26.1197,26.4716,26.8236, 27.1759,27.5284,27.881,28.2338,28.5867, 28.9399,29.293,29.6338,29.9747,30.3158, 30.6569,30.9969)
FOOTPRINT_POINT_LONGITUDE = (285.287,284.7,284.182,284.19,284.197, 284.205,284.218,284.224,284.231,284.237 ,284.241,284.245,284.252,284.257,284.26 ,284.265,284.267,284.27,284.273,284.277 ,284.279,284.281,284.283,284.285, 284.285,284.286,284.287,284.287,284.287 ,284.286,284.286,284.285,284.284, 284.283,284.281,284.279,284.277,284.274 ,284.271,284.268,284.263,284.259, 284.254,284.25,284.245,284.239,284.234, 284.228,284.221,284.478,285.067,285.632 ,285.628,285.622,285.618,285.614,285.61 ,285.606,285.602,285.598,285.594, 285.587,285.583,285.579,285.573,285.57, 285.566,285.562,285.556,285.552,285.548 ,285.544,285.541,285.537,285.533, 285.529,285.524,285.52,285.516,285.511, 285.507,285.502,285.496,285.49,285.488, 285.483,285.479,285.475,285.47,285.466, 285.462,285.456,285.45,285.445,285.441, 285.437,285.431,285.427,285.422, 285.287)
ORBIT_NUMBER = 1224
ORBITAL_ECCENTRICITY = 0.571
ORBITAL_INCLINATION = 86.61
ORBITAL_SEMIMAJOR_AXIS = 8599.14
PERIAPSIS_ALTITUDE = 302.33
PERIAPSIS_ARGUMENT_ANGLE = 145.7
PERIAPSIS_TIME = 2004-12-31T11:20:02.000Z
SPACECRAFT_ORIENTATION = (0.0,-1.0,0.0)
^MEX_ORIENTATION_DESC = "MEX_ORIENTATION_DESC.TXT"
SPACECRAFT_POINTING_MODE = NADIR
^MEX_POINTING_DESC = "MEX_POINTING_DESC.TXT"
RIGHT_ASCENSION = -1e+32
DECLINATION = -1e+32
OFFSET_ANGLE = -1e+32
SPACECRAFT_SOLAR_DISTANCE = 2.3484e+08
TARGET_NAME = MARS
/* CAMERA DATA ELEMENTS */
DETECTOR_TEMPERATURE = 17.9627
FOCAL_PLANE_TEMPERATURE = 8.3794
INST_CMPRS_NAME = "DISCRETE COSINE TRANSFORMATION (DCT)"
INST_CMPRS_RATIO = 7.0184
INST_CMPRS_QUALITY = 0
INST_CMPRS_QUANTZ_TBL_ID = 0
INSTRUMENT_TEMPERATURE = 11.0301
LENS_TEMPERATURE = 8.7872
MACROPIXEL_SIZE = 1
MISSING_FRAMES = 0
PIXEL_SUBSAMPLING_FLAG = N
SIGNAL_CHAIN_ID = 0
/* RADIOMETRIC DATA ELEMENTS */
BANDWIDTH = 177.0
CENTER_FILTER_WAVELENGTH = 677.5
RADIANCE_OFFSET = 8.68274
RADIANCE_SCALING_FACTOR = 0.0156062
REFLECTANCE_SCALING_FACTOR = 0.000457222
MEX:REFLECTANCE_OFFSET = 0.254382
/* IMAGE OBJECT DEFINITIONS */
OBJECT = IMAGE
  INTERCHANGE_FORMAT = BINARY
  LINES = 88741
  LINE_SAMPLES = 6941
  SAMPLE_TYPE = UNSIGNED_INTEGER
  SAMPLE_BITS = 8
  BANDS = 1
  BAND_STORAGE_TYPE = BAND_SEQUENTIAL
  MAXIMUM = 223
  MEAN = 173.559
  MINIMUM = 109
  STANDARD_DEVIATION = 6.49387
END_OBJECT = IMAGE
/* MAP OBJECT DEFINITIONS */
OBJECT = IMAGE_MAP_PROJECTION
  ^DATA_SET_MAP_PROJECTION_CATALOG= "DSMAP.CAT"
  A_AXIS_RADIUS = 3396.0
  B_AXIS_RADIUS = 3396.0
  C_AXIS_RADIUS = 3396.0
  CENTER_LATITUDE = 0.0
  CENTER_LONGITUDE = 285.0
  COORDINATE_SYSTEM_NAME = PLANETOGRAPHIC
  COORDINATE_SYSTEM_TYPE = "BODY-FIXED ROTATING"
  EASTERNMOST_LONGITUDE = 285.632
  FIRST_STANDARD_PARALLEL = "N/A"
  LINE_FIRST_PIXEL = 1
  LINE_LAST_PIXEL = 88741
  LINE_PROJECTION_OFFSET = 146993.0
  MAP_PROJECTION_ROTATION = 0.0
  MAP_PROJECTION_TYPE = SINUSOIDAL
  MAP_RESOLUTION = 4741.71043093333
  MAP_SCALE = 0.0125
  MAXIMUM_LATITUDE = 30.9969
  MINIMUM_LATITUDE = 12.2875
  POSITIVE_LONGITUDE_DIRECTION = EAST
  REFERENCE_LATITUDE = "N/A"
  REFERENCE_LONGITUDE = "N/A"
  SAMPLE_FIRST_PIXEL = 1
  SAMPLE_LAST_PIXEL = 6941
  SAMPLE_PROJECTION_OFFSET = 3826.0
  SECOND_STANDARD_PARALLEL = "N/A"
  WESTERNMOST_LONGITUDE = 284.182
END_OBJECT = IMAGE_MAP_PROJECTION
/* The JPEG2000 image data file associated with this label. */
OBJECT = COMPRESSED_FILE
  FILE_NAME = "H1224_0000_ND3.JP2"
  RECORD_TYPE = UNDEFINED
  FILE_RECORDS = UNK
  ENCODING_TYPE = "JP2"
  INTERCHANGE_FORMAT = BINARY
  UNCOMPRESSED_FILE_NAME = "H1224_0000_ND3.IMG"
  REQUIRED_STORAGE_BYTES = "615985986"
  ^DESCRIPTION = "JP2INFO.TXT"
END_OBJECT = COMPRESSED_FILE
END
