PDS_VERSION_ID = PDS3
/* FILE DATA ELEMENTS */
RECORD_TYPE = STREAM
/* POINTERS TO DATA OBJECTS */
^COMPRESSED_FILE = "H1226_0000_S23.JP2"
/* IDENTIFICATION DATA ELEMENTS */
DATA_SET_ID = "MEX-M-HRSC-5-REFDR-MAPPROJECTED-V3.0"
DATA_SET_NAME = "MARS EXPRESS HRSC MAP PROJECTED REFDR V3.0"
DETECTOR_ID = MEX_HRSC_S2
EVENT_TYPE = "MARS-REGIONAL-MAPPING-Fl-Lc-Eo"
INSTRUMENT_HOST_ID = MEX
INSTRUMENT_HOST_NAME = "MARS EXPRESS"
INSTRUMENT_ID = HRSC
INSTRUMENT_NAME = "HIGH RESOLUTION STEREO CAMERA"
MISSION_NAME = "MARS EXPRESS"
MISSION_PHASE_NAME = MR_Phase_3
PROCESSING_LEVEL_ID = 3
PRODUCT_CREATION_TIME = 2016-03-04T20:31:26.000Z
PRODUCT_ID = "H1226_0000_S23.JP2"
RELEASE_ID = 0017
REVISION_ID = 0000
/* QUALITY DATA ELEMENTS */
DATA_QUALITY_ID = 1
DATA_QUALITY_DESC = "Data calculated based on original SPICE kernels"
/* TIME DATA ELEMENTS */
SPACECRAFT_CLOCK_START_COUNT = "1/0052620653.57291"
SPACECRAFT_CLOCK_STOP_COUNT = "1/0052621012.24960"
START_TIME = 2005-01-01T00:52:14.509Z
STOP_TIME = 2005-01-01T00:56:58.193Z
/* ORBITAL DATA ELEMENTS */
ASCENDING_NODE_LONGITUDE = 202.9
MAXIMUM_RESOLUTION = 35
FOOTPRINT_POINT_LATITUDE = (14.2856,14.2553,14.2584,13.9536, 13.6497,13.1861,12.8762,12.4072,12.0915 ,11.7773,11.458,11.137,10.645,10.3191, 9.99465,9.67042,9.34744,9.02576,8.70552 ,8.38584,8.06726,7.58327,7.26723, 6.77968,6.46653,5.99492,5.52585,5.21689 ,4.90918,4.6026,4.29725,3.9925,3.68878, 3.38599,2.92659,2.47258,2.14399,1.85417 ,1.55302,1.23973,0.811106,0.521883, 0.234808,-0.0549273,-0.488937,-0.768165 ,-1.06235,-1.21535,-1.19572,-1.18175, -1.16806,-1.15651,-0.987767,-0.559331, -0.127863,0.160571,0.450265,0.745787, 1.0396,1.33292,1.63022,2.07244,2.54201, 2.85424,3.1546,3.45249,3.76127,4.06632, 4.37033,4.67391,4.98369,5.29229,5.60147 ,5.91149,6.22653,6.54214,6.85591, 7.34403,7.66001,8.14385,8.46262,8.78242 ,9.10302,9.42456,9.74758,10.0717, 10.3971,10.7231,11.0554,11.3759,11.8564 ,12.1715,12.4875,12.8016,13.111,13.4216 ,13.7302,14.0342,14.3397,14.2856)
FOOTPRINT_POINT_LONGITUDE = (89.8757,89.4043,89.0059,88.9989, 88.9919,88.9808,88.9733,88.9614,88.9534 ,88.9453,88.9369,88.9283,88.9147, 88.9056,88.8965,88.887,88.8775,88.868, 88.8583,88.8485,88.8385,88.8231,88.8128 ,88.7967,88.7862,88.77,88.7536,88.7426, 88.7315,88.7203,88.709,88.6975,88.6859, 88.6742,88.6556,88.6371,88.6233,88.6119 ,88.5991,88.585,88.5674,88.5551,88.5427 ,88.53,88.5105,88.498,88.4843,88.7976, 89.2748,89.5822,89.9144,90.2702,90.7529 ,90.7428,90.7332,90.7265,90.72,90.7168, 90.7118,90.7058,90.7019,90.6921,90.6839 ,90.6878,90.6826,90.6749,90.6744, 90.6705,90.6652,90.6588,90.6563,90.6522 ,90.6478,90.6433,90.6389,90.6341, 90.6303,90.6242,90.6202,90.6142,90.6105 ,90.6069,90.6032,90.5994,90.5962,90.593 ,90.5902,90.587,90.584,90.5813,90.5773, 90.575,90.5728,90.5704,90.5681,90.5661, 90.5639,90.5618,90.5604,89.8757)
ORBIT_NUMBER = 1226
ORBITAL_ECCENTRICITY = 0.571
ORBITAL_INCLINATION = 86.63
ORBITAL_SEMIMAJOR_AXIS = 8600.05
PERIAPSIS_ALTITUDE = 301.93
PERIAPSIS_ARGUMENT_ANGLE = 145.31
PERIAPSIS_TIME = 2005-01-01T00:46:24.000Z
SPACECRAFT_ORIENTATION = (0.0,-1.0,0.0)
^MEX_ORIENTATION_DESC = "MEX_ORIENTATION_DESC.TXT"
SPACECRAFT_POINTING_MODE = ACROSSTRACK
^MEX_POINTING_DESC = "MEX_POINTING_DESC.TXT"
RIGHT_ASCENSION = -1e+32
DECLINATION = -1e+32
OFFSET_ANGLE = 1.31
SPACECRAFT_SOLAR_DISTANCE = 2.3474e+08
TARGET_NAME = MARS
/* CAMERA DATA ELEMENTS */
DETECTOR_TEMPERATURE = 18.1666
FOCAL_PLANE_TEMPERATURE = 8.3794
INST_CMPRS_NAME = "DISCRETE COSINE TRANSFORMATION (DCT)"
INST_CMPRS_RATIO = 13.6888
INST_CMPRS_QUALITY = 0
INST_CMPRS_QUANTZ_TBL_ID = 0
INSTRUMENT_TEMPERATURE = 11.0301
LENS_TEMPERATURE = 8.1755
MACROPIXEL_SIZE = 2
MISSING_FRAMES = 16
PIXEL_SUBSAMPLING_FLAG = N
SIGNAL_CHAIN_ID = 1
/* RADIOMETRIC DATA ELEMENTS */
BANDWIDTH = 178.0
CENTER_FILTER_WAVELENGTH = 679.0
RADIANCE_OFFSET = 6.71616
RADIANCE_SCALING_FACTOR = 0.0163614
REFLECTANCE_SCALING_FACTOR = 0.000477443
MEX:REFLECTANCE_OFFSET = 0.195984
/* IMAGE OBJECT DEFINITIONS */
OBJECT = IMAGE
  INTERCHANGE_FORMAT = BINARY
  LINES = 36715
  LINE_SAMPLES = 5060
  SAMPLE_TYPE = UNSIGNED_INTEGER
  SAMPLE_BITS = 8
  BANDS = 1
  BAND_STORAGE_TYPE = BAND_SEQUENTIAL
  MAXIMUM = 140
  MEAN = 93.1625
  MINIMUM = 62
  STANDARD_DEVIATION = 3.68769
END_OBJECT = IMAGE
/* MAP OBJECT DEFINITIONS */
OBJECT = IMAGE_MAP_PROJECTION
  ^DATA_SET_MAP_PROJECTION_CATALOG= "DSMAP.CAT"
  A_AXIS_RADIUS = 3396.0
  B_AXIS_RADIUS = 3396.0
  C_AXIS_RADIUS = 3396.0
  CENTER_LATITUDE = 0.0
  CENTER_LONGITUDE = 90.0
  COORDINATE_SYSTEM_NAME = PLANETOGRAPHIC
  COORDINATE_SYSTEM_TYPE = "BODY-FIXED ROTATING"
  EASTERNMOST_LONGITUDE = 90.7529
  FIRST_STANDARD_PARALLEL = "N/A"
  LINE_FIRST_PIXEL = 1
  LINE_LAST_PIXEL = 36715
  LINE_PROJECTION_OFFSET = 33884.25
  MAP_PROJECTION_ROTATION = 0.0
  MAP_PROJECTION_TYPE = SINUSOIDAL
  MAP_RESOLUTION = 2370.85521546667
  MAP_SCALE = 0.025
  MAXIMUM_LATITUDE = 14.3397
  MINIMUM_LATITUDE = -1.21535
  POSITIVE_LONGITUDE_DIRECTION = EAST
  REFERENCE_LATITUDE = "N/A"
  REFERENCE_LONGITUDE = "N/A"
  SAMPLE_FIRST_PIXEL = 1
  SAMPLE_LAST_PIXEL = 5060
  SAMPLE_PROJECTION_OFFSET = 3357.75
  SECOND_STANDARD_PARALLEL = "N/A"
  WESTERNMOST_LONGITUDE = 88.4843
END_OBJECT = IMAGE_MAP_PROJECTION
/* The JPEG2000 image data file associated with this label. */
OBJECT = COMPRESSED_FILE
  FILE_NAME = "H1226_0000_S23.JP2"
  RECORD_TYPE = UNDEFINED
  FILE_RECORDS = UNK
  ENCODING_TYPE = "JP2"
  INTERCHANGE_FORMAT = BINARY
  UNCOMPRESSED_FILE_NAME = "H1226_0000_S23.IMG"
  REQUIRED_STORAGE_BYTES = "185803200"
  ^DESCRIPTION = "JP2INFO.TXT"
END_OBJECT = COMPRESSED_FILE
END
