PDS_VERSION_ID = PDS3
/* FILE DATA ELEMENTS */
RECORD_TYPE = STREAM
/* POINTERS TO DATA OBJECTS */
^COMPRESSED_FILE = "H1226_0007_SR3.JP2"
/* IDENTIFICATION DATA ELEMENTS */
DATA_SET_ID = "MEX-M-HRSC-5-REFDR-MAPPROJECTED-V3.0"
DATA_SET_NAME = "MARS EXPRESS HRSC MAP PROJECTED REFDR V3.0"
DETECTOR_ID = MEX_HRSC_SRC
EVENT_TYPE = "MARS-REGIONAL-MAPPING-Fl-Lc-Eo"
INSTRUMENT_HOST_ID = MEX
INSTRUMENT_HOST_NAME = "MARS EXPRESS"
INSTRUMENT_ID = HRSC
INSTRUMENT_NAME = "HIGH RESOLUTION STEREO CAMERA"
MISSION_NAME = "MARS EXPRESS"
MISSION_PHASE_NAME = MR_Phase_3
PROCESSING_LEVEL_ID = 3
PRODUCT_CREATION_TIME = 2016-03-04T20:31:26.000Z
PRODUCT_ID = "H1226_0007_SR3.JP2"
RELEASE_ID = 0017
REVISION_ID = 0000
/* QUALITY DATA ELEMENTS */
DATA_QUALITY_ID = 1
DATA_QUALITY_DESC = "Data calculated based on original SPICE kernels"
/* TIME DATA ELEMENTS */
SPACECRAFT_CLOCK_START_COUNT = "1/0052620653.57291"
SPACECRAFT_CLOCK_STOP_COUNT = "1/0052621012.24960"
IMAGE_TIME = 2005-01-01T00:52:25.318Z
START_TIME = 2005-01-01T00:52:25.316Z
STOP_TIME = 2005-01-01T00:52:25.321Z
/* ORBITAL DATA ELEMENTS */
ASCENDING_NODE_LONGITUDE = 202.9
MAXIMUM_RESOLUTION = 3.858
FOOTPRINT_POINT_LATITUDE = (11.1367,11.139,11.1425,11.1452,11.1481 ,11.1505,11.1526,11.1545,11.1571, 11.1602,11.1622,11.1651,11.1684,11.1723 ,11.175,11.1768,11.1793,11.182,11.1845, 11.1878,11.1901,11.1938,11.1955,11.1973 ,11.1997,11.1997,11.1996,11.1996, 11.1996,11.1996,11.1996,11.1996,11.1995 ,11.1995,11.1995,11.1995,11.1995, 11.1995,11.1994,11.1994,11.1994,11.1994 ,11.1994,11.1993,11.1993,11.1993, 11.1993,11.1993,11.1993,11.1992,11.1968 ,11.1949,11.192,11.1898,11.1872,11.1852 ,11.1817,11.1786,11.1764,11.173,11.1702 ,11.167,11.1647,11.1627,11.1605,11.1572 ,11.1537,11.1512,11.1479,11.1454, 11.1419,11.1392,11.1373,11.1345,11.1335 ,11.1335,11.1336,11.1336,11.1336, 11.1336,11.1337,11.1337,11.1337,11.1337 ,11.1337,11.1338,11.1338,11.1338, 11.1338,11.1339,11.1339,11.1339,11.1339 ,11.134,11.134,11.134,11.134,11.134, 11.1341,11.1367)
FOOTPRINT_POINT_LONGITUDE = (89.6963,89.6963,89.6963,89.6963, 89.6964,89.6964,89.6964,89.6964,89.6964 ,89.6964,89.6965,89.6965,89.6965, 89.6965,89.6966,89.6966,89.6966,89.6966 ,89.6966,89.6966,89.6967,89.6967, 89.6967,89.6967,89.6975,89.7002,89.7029 ,89.7056,89.7084,89.7111,89.7138, 89.7165,89.7192,89.7219,89.7247,89.7274 ,89.7301,89.7328,89.7355,89.7383,89.741 ,89.7437,89.7464,89.7492,89.7519, 89.7546,89.7566,89.7593,89.7621,89.7648 ,89.7659,89.7658,89.7658,89.7658, 89.7658,89.7658,89.7657,89.7657,89.7657 ,89.7657,89.7657,89.7656,89.7656, 89.7656,89.7656,89.7655,89.7655,89.7655 ,89.7655,89.7655,89.7654,89.7654, 89.7654,89.7654,89.7626,89.7598,89.7571 ,89.7544,89.7517,89.749,89.7463,89.7435 ,89.7408,89.7381,89.7354,89.7327, 89.7299,89.7272,89.7245,89.7218,89.7191 ,89.7163,89.7136,89.7109,89.7082, 89.7055,89.7028,89.7,89.6973,89.6963)
ORBIT_NUMBER = 1226
ORBITAL_ECCENTRICITY = 0.571
ORBITAL_INCLINATION = 86.63
ORBITAL_SEMIMAJOR_AXIS = 8600.05
PERIAPSIS_ALTITUDE = 301.93
PERIAPSIS_ARGUMENT_ANGLE = 145.31
PERIAPSIS_TIME = 2005-01-01T00:46:24.000Z
SPACECRAFT_ORIENTATION = (0.0,-1.0,0.0)
^MEX_ORIENTATION_DESC = "MEX_ORIENTATION_DESC.TXT"
SPACECRAFT_POINTING_MODE = ACROSSTRACK
^MEX_POINTING_DESC = "MEX_POINTING_DESC.TXT"
RIGHT_ASCENSION = -1e+32
DECLINATION = -1e+32
OFFSET_ANGLE = 1.31
SPACECRAFT_SOLAR_DISTANCE = 2.3474e+08
TARGET_NAME = MARS
/* CAMERA DATA ELEMENTS */
BUFFER_MODE_ID = BUFFER_8
EXPOSURE_DURATION = 5.04
INST_CMPRS_NAME = NONE
INST_CMPRS_RATIO = 1.0
INST_CMPRS_QUALITY = -2147483648
INST_CMPRS_QUANTZ_TBL_ID = -2147483648
INSTRUMENT_TEMPERATURE = 5.15152
MISSING_FRAMES = 0
START_BIT = 0
/* RADIOMETRIC DATA ELEMENTS */
BANDWIDTH = 250.0
CENTER_FILTER_WAVELENGTH = 600.0
RADIANCE_OFFSET = -9.99e+31
RADIANCE_SCALING_FACTOR = -9.99e+31
REFLECTANCE_SCALING_FACTOR = -9.99e+31
MEX:REFLECTANCE_OFFSET = -9.99e+31
/* IMAGE OBJECT DEFINITIONS */
OBJECT = IMAGE
  INTERCHANGE_FORMAT = BINARY
  LINES = 827
  LINE_SAMPLES = 854
  SAMPLE_TYPE = UNSIGNED_INTEGER
  SAMPLE_BITS = 8
  BANDS = 1
  BAND_STORAGE_TYPE = BAND_SEQUENTIAL
  MAXIMUM = 8769
  MEAN = 8294.59
  MINIMUM = 7020
  STANDARD_DEVIATION = 107.753
END_OBJECT = IMAGE
/* MAP OBJECT DEFINITIONS */
OBJECT = IMAGE_MAP_PROJECTION
  ^DATA_SET_MAP_PROJECTION_CATALOG= "DSMAP.CAT"
  A_AXIS_RADIUS = 3396.19
  B_AXIS_RADIUS = 3396.19
  C_AXIS_RADIUS = 3396.19
  CENTER_LATITUDE = 0.0
  CENTER_LONGITUDE = 90.0
  COORDINATE_SYSTEM_NAME = PLANETOGRAPHIC
  COORDINATE_SYSTEM_TYPE = "BODY-FIXED ROTATING"
  EASTERNMOST_LONGITUDE = 89.7659
  FIRST_STANDARD_PARALLEL = "N/A"
  LINE_FIRST_PIXEL = 1
  LINE_LAST_PIXEL = 827
  LINE_PROJECTION_OFFSET = 132780.0
  MAP_PROJECTION_ROTATION = 0.0
  MAP_PROJECTION_TYPE = SINUSOIDAL
  MAP_RESOLUTION = 11854.9393024378
  MAP_SCALE = 0.005
  MAXIMUM_LATITUDE = 11.1997
  MINIMUM_LATITUDE = 11.1335
  POSITIVE_LONGITUDE_DIRECTION = EAST
  REFERENCE_LATITUDE = "N/A"
  REFERENCE_LONGITUDE = "N/A"
  SAMPLE_FIRST_PIXEL = 1
  SAMPLE_LAST_PIXEL = 854
  SAMPLE_PROJECTION_OFFSET = 3529.0
  SECOND_STANDARD_PARALLEL = "N/A"
  WESTERNMOST_LONGITUDE = 89.69629999999999
END_OBJECT = IMAGE_MAP_PROJECTION
/* The JPEG2000 image data file associated with this label. */
OBJECT = COMPRESSED_FILE
  FILE_NAME = "H1226_0007_SR3.JP2"
  RECORD_TYPE = UNDEFINED
  FILE_RECORDS = UNK
  ENCODING_TYPE = "JP2"
  INTERCHANGE_FORMAT = BINARY
  UNCOMPRESSED_FILE_NAME = "H1226_0007_SR3.IMG"
  REQUIRED_STORAGE_BYTES = "724192"
  ^DESCRIPTION = "JP2INFO.TXT"
END_OBJECT = COMPRESSED_FILE
END
