PDS_VERSION_ID = PDS3
/* FILE DATA ELEMENTS */
RECORD_TYPE = STREAM
/* POINTERS TO DATA OBJECTS */
^COMPRESSED_FILE = "H1226_0008_SR3.JP2"
/* IDENTIFICATION DATA ELEMENTS */
DATA_SET_ID = "MEX-M-HRSC-5-REFDR-MAPPROJECTED-V3.0"
DATA_SET_NAME = "MARS EXPRESS HRSC MAP PROJECTED REFDR V3.0"
DETECTOR_ID = MEX_HRSC_SRC
EVENT_TYPE = "MARS-REGIONAL-MAPPING-Fl-Lc-Eo"
INSTRUMENT_HOST_ID = MEX
INSTRUMENT_HOST_NAME = "MARS EXPRESS"
INSTRUMENT_ID = HRSC
INSTRUMENT_NAME = "HIGH RESOLUTION STEREO CAMERA"
MISSION_NAME = "MARS EXPRESS"
MISSION_PHASE_NAME = MR_Phase_3
PROCESSING_LEVEL_ID = 3
PRODUCT_CREATION_TIME = 2016-03-04T20:31:26.000Z
PRODUCT_ID = "H1226_0008_SR3.JP2"
RELEASE_ID = 0017
REVISION_ID = 0000
/* QUALITY DATA ELEMENTS */
DATA_QUALITY_ID = 1
DATA_QUALITY_DESC = "Data calculated based on original SPICE kernels"
/* TIME DATA ELEMENTS */
SPACECRAFT_CLOCK_START_COUNT = "1/0052620653.57291"
SPACECRAFT_CLOCK_STOP_COUNT = "1/0052621012.24960"
IMAGE_TIME = 2005-01-01T00:52:25.863Z
START_TIME = 2005-01-01T00:52:25.861Z
STOP_TIME = 2005-01-01T00:52:25.866Z
/* ORBITAL DATA ELEMENTS */
ASCENDING_NODE_LONGITUDE = 202.9
MAXIMUM_RESOLUTION = 3.861
FOOTPRINT_POINT_LATITUDE = (11.1031,11.1065,11.1096,11.1116, 11.1146,11.1163,11.1193,11.1229,11.1259 ,11.1282,11.1319,11.1345,11.1363,11.139 ,11.1408,11.1429,11.1455,11.1483, 11.1518,11.1546,11.1579,11.1624,11.1645 ,11.1658,11.1657,11.1657,11.1657, 11.1657,11.1657,11.1657,11.1656,11.1656 ,11.1656,11.1656,11.1656,11.1655, 11.1655,11.1655,11.1655,11.1655,11.1655 ,11.1654,11.1654,11.1654,11.1654, 11.1654,11.1654,11.1653,11.1653,11.1634 ,11.1611,11.158,11.1561,11.1536,11.1517 ,11.1496,11.1472,11.1445,11.1425,11.139 ,11.1355,11.1332,11.1298,11.1277, 11.1251,11.1231,11.1196,11.1176,11.1153 ,11.1123,11.1093,11.1068,11.1047, 11.1008,11.0995,11.0996,11.0996,11.0996 ,11.0996,11.0997,11.0997,11.0997, 11.0997,11.0998,11.0998,11.0998,11.0998 ,11.0998,11.0999,11.0999,11.0999, 11.0999,11.1,11.1,11.1,11.1,11.1001, 11.1001,11.1001,11.1031)
FOOTPRINT_POINT_LONGITUDE = (89.6959,89.696,89.696,89.696,89.696, 89.696,89.6961,89.6961,89.6961,89.6961, 89.6962,89.6962,89.6962,89.6962,89.6962 ,89.6962,89.6963,89.6963,89.6963, 89.6963,89.6964,89.6964,89.6964,89.6978 ,89.7006,89.7033,89.706,89.7087,89.7114 ,89.7141,89.7169,89.7196,89.7223,89.725 ,89.7278,89.7305,89.7332,89.7359, 89.7386,89.7414,89.7441,89.7468,89.7495 ,89.7523,89.755,89.757,89.7597,89.7625, 89.7652,89.7656,89.7656,89.7655,89.7655 ,89.7655,89.7655,89.7655,89.7655, 89.7654,89.7654,89.7654,89.7654,89.7653 ,89.7653,89.7653,89.7653,89.7653, 89.7652,89.7652,89.7652,89.7652,89.7652 ,89.7651,89.7651,89.7651,89.7623, 89.7596,89.7568,89.7535,89.7507,89.748, 89.7453,89.7426,89.7398,89.7371,89.7344 ,89.7317,89.729,89.7262,89.7235,89.7208 ,89.7181,89.7153,89.7126,89.7099, 89.7072,89.7045,89.7018,89.699,89.6963, 89.6959)
ORBIT_NUMBER = 1226
ORBITAL_ECCENTRICITY = 0.571
ORBITAL_INCLINATION = 86.63
ORBITAL_SEMIMAJOR_AXIS = 8600.05
PERIAPSIS_ALTITUDE = 301.93
PERIAPSIS_ARGUMENT_ANGLE = 145.31
PERIAPSIS_TIME = 2005-01-01T00:46:24.000Z
SPACECRAFT_ORIENTATION = (0.0,-1.0,0.0)
^MEX_ORIENTATION_DESC = "MEX_ORIENTATION_DESC.TXT"
SPACECRAFT_POINTING_MODE = ACROSSTRACK
^MEX_POINTING_DESC = "MEX_POINTING_DESC.TXT"
RIGHT_ASCENSION = -1e+32
DECLINATION = -1e+32
OFFSET_ANGLE = 1.31
SPACECRAFT_SOLAR_DISTANCE = 2.3474e+08
TARGET_NAME = MARS
/* CAMERA DATA ELEMENTS */
BUFFER_MODE_ID = BUFFER_8
EXPOSURE_DURATION = 5.04
INST_CMPRS_NAME = NONE
INST_CMPRS_RATIO = 1.0
INST_CMPRS_QUALITY = -2147483648
INST_CMPRS_QUANTZ_TBL_ID = -2147483648
INSTRUMENT_TEMPERATURE = 5.15152
MISSING_FRAMES = 0
START_BIT = 0
/* RADIOMETRIC DATA ELEMENTS */
BANDWIDTH = 250.0
CENTER_FILTER_WAVELENGTH = 600.0
RADIANCE_OFFSET = -9.99e+31
RADIANCE_SCALING_FACTOR = -9.99e+31
REFLECTANCE_SCALING_FACTOR = -9.99e+31
MEX:REFLECTANCE_OFFSET = -9.99e+31
/* IMAGE OBJECT DEFINITIONS */
OBJECT = IMAGE
  INTERCHANGE_FORMAT = BINARY
  LINES = 827
  LINE_SAMPLES = 854
  SAMPLE_TYPE = UNSIGNED_INTEGER
  SAMPLE_BITS = 8
  BANDS = 1
  BAND_STORAGE_TYPE = BAND_SEQUENTIAL
  MAXIMUM = 8805
  MEAN = 8292.35
  MINIMUM = 7090
  STANDARD_DEVIATION = 103.789
END_OBJECT = IMAGE
/* MAP OBJECT DEFINITIONS */
OBJECT = IMAGE_MAP_PROJECTION
  ^DATA_SET_MAP_PROJECTION_CATALOG= "DSMAP.CAT"
  A_AXIS_RADIUS = 3396.19
  B_AXIS_RADIUS = 3396.19
  C_AXIS_RADIUS = 3396.19
  CENTER_LATITUDE = 0.0
  CENTER_LONGITUDE = 90.0
  COORDINATE_SYSTEM_NAME = PLANETOGRAPHIC
  COORDINATE_SYSTEM_TYPE = "BODY-FIXED ROTATING"
  EASTERNMOST_LONGITUDE = 89.76560000000001
  FIRST_STANDARD_PARALLEL = "N/A"
  LINE_FIRST_PIXEL = 1
  LINE_LAST_PIXEL = 827
  LINE_PROJECTION_OFFSET = 132378.0
  MAP_PROJECTION_ROTATION = 0.0
  MAP_PROJECTION_TYPE = SINUSOIDAL
  MAP_RESOLUTION = 11854.9393024378
  MAP_SCALE = 0.005
  MAXIMUM_LATITUDE = 11.1658
  MINIMUM_LATITUDE = 11.0995
  POSITIVE_LONGITUDE_DIRECTION = EAST
  REFERENCE_LATITUDE = "N/A"
  REFERENCE_LONGITUDE = "N/A"
  SAMPLE_FIRST_PIXEL = 1
  SAMPLE_LAST_PIXEL = 854
  SAMPLE_PROJECTION_OFFSET = 3533.0
  SECOND_STANDARD_PARALLEL = "N/A"
  WESTERNMOST_LONGITUDE = 89.69589999999999
END_OBJECT = IMAGE_MAP_PROJECTION
/* The JPEG2000 image data file associated with this label. */
OBJECT = COMPRESSED_FILE
  FILE_NAME = "H1226_0008_SR3.JP2"
  RECORD_TYPE = UNDEFINED
  FILE_RECORDS = UNK
  ENCODING_TYPE = "JP2"
  INTERCHANGE_FORMAT = BINARY
  UNCOMPRESSED_FILE_NAME = "H1226_0008_SR3.IMG"
  REQUIRED_STORAGE_BYTES = "724192"
  ^DESCRIPTION = "JP2INFO.TXT"
END_OBJECT = COMPRESSED_FILE
END
