PDS_VERSION_ID = PDS3
/* FILE DATA ELEMENTS */
RECORD_TYPE = STREAM
/* POINTERS TO DATA OBJECTS */
^COMPRESSED_FILE = "H1229_0000_GR3.JP2"
/* IDENTIFICATION DATA ELEMENTS */
DATA_SET_ID = "MEX-M-HRSC-5-REFDR-MAPPROJECTED-V3.0"
DATA_SET_NAME = "MARS EXPRESS HRSC MAP PROJECTED REFDR V3.0"
DETECTOR_ID = MEX_HRSC_GREEN
EVENT_TYPE = "MARS-REGIONAL-MAPPING-Vo-Fl"
INSTRUMENT_HOST_ID = MEX
INSTRUMENT_HOST_NAME = "MARS EXPRESS"
INSTRUMENT_ID = HRSC
INSTRUMENT_NAME = "HIGH RESOLUTION STEREO CAMERA"
MISSION_NAME = "MARS EXPRESS"
MISSION_PHASE_NAME = MR_Phase_3
PROCESSING_LEVEL_ID = 3
PRODUCT_CREATION_TIME = 2016-03-04T20:31:26.000Z
PRODUCT_ID = "H1229_0000_GR3.JP2"
RELEASE_ID = 0017
REVISION_ID = 0000
/* QUALITY DATA ELEMENTS */
DATA_QUALITY_ID = 1
DATA_QUALITY_DESC = "Data calculated based on original SPICE kernels"
/* TIME DATA ELEMENTS */
SPACECRAFT_CLOCK_START_COUNT = "1/0052693016.57951"
SPACECRAFT_CLOCK_STOP_COUNT = "1/0052693258.06753"
START_TIME = 2005-01-01T20:57:27.258Z
STOP_TIME = 2005-01-01T21:00:23.442Z
/* ORBITAL DATA ELEMENTS */
ASCENDING_NODE_LONGITUDE = 202.83
MAXIMUM_RESOLUTION = 99.2
FOOTPRINT_POINT_LATITUDE = (29.1607,29.1596,29.1576,28.8226, 28.6054,28.2795,28.0622,27.8452,27.6281 ,27.411,27.194,26.977,26.7602,26.5393, 26.3149,25.9783,25.754,25.5298,25.3057, 25.0816,24.8577,24.6338,24.41,24.1862, 23.8509,23.6228,23.3917,23.1607,22.9298 ,22.699,22.4684,22.2379,22.0074,21.7771 ,21.547,21.3094,20.9531,20.7158,20.4786 ,20.2416,20.0047,19.768,19.527,19.283, 19.0392,18.7956,18.552,18.3087,18.0657, 17.6433,17.642,17.6397,17.6379,17.8885, 18.1362,18.3796,18.6232,18.8669,19.1108 ,19.355,19.7198,19.9567,20.1938,20.431, 20.6683,20.9059,21.1436,21.3814,21.6168 ,21.8472,22.0777,22.3084,22.5391, 22.8855,23.1166,23.3478,23.579,23.8088, 24.0326,24.2564,24.4803,24.7044,24.9286 ,25.1528,25.3772,25.6016,25.9383, 26.1629,26.3876,26.7224,27.0482,27.3739 ,27.5912,27.8085,28.1346,28.3521, 28.5696,28.7872,29.0048,29.1607)
FOOTPRINT_POINT_LONGITUDE = (154.19,153.826,153.476,153.316,153.318 ,153.322,153.324,153.326,153.328,153.33 ,153.332,153.334,153.335,153.337, 153.338,153.34,153.341,153.342,153.343, 153.344,153.345,153.346,153.346,153.346 ,153.347,153.347,153.347,153.347, 153.347,153.347,153.347,153.346,153.346 ,153.345,153.344,153.343,153.342, 153.341,153.34,153.338,153.337,153.335, 153.334,153.332,153.33,153.328,153.326, 153.324,153.322,153.401,153.781,154.189 ,154.636,154.634,154.632,154.63,154.628 ,154.626,154.624,154.622,154.619, 154.617,154.615,154.613,154.611,154.61, 154.608,154.606,154.604,154.602,154.6, 154.598,154.597,154.594,154.593,154.591 ,154.589,154.587,154.586,154.584, 154.583,154.581,154.579,154.578,154.576 ,154.575,154.572,154.571,154.569, 154.567,154.564,154.562,154.56,154.559, 154.556,154.555,154.553,154.551,154.55, 154.19)
ORBIT_NUMBER = 1229
ORBITAL_ECCENTRICITY = 0.57
ORBITAL_INCLINATION = 86.62
ORBITAL_SEMIMAJOR_AXIS = 8592.28
PERIAPSIS_ALTITUDE = 303.62
PERIAPSIS_ARGUMENT_ANGLE = 144.81
PERIAPSIS_TIME = 2005-01-01T20:56:01.000Z
SPACECRAFT_ORIENTATION = (0.0,-1.0,0.0)
^MEX_ORIENTATION_DESC = "MEX_ORIENTATION_DESC.TXT"
SPACECRAFT_POINTING_MODE = ACROSSTRACK
^MEX_POINTING_DESC = "MEX_POINTING_DESC.TXT"
RIGHT_ASCENSION = -1e+32
DECLINATION = -1e+32
OFFSET_ANGLE = 0.42
SPACECRAFT_SOLAR_DISTANCE = 2.34589e+08
TARGET_NAME = MARS
/* CAMERA DATA ELEMENTS */
DETECTOR_TEMPERATURE = 18.7783
FOCAL_PLANE_TEMPERATURE = 8.1755
INST_CMPRS_NAME = "DISCRETE COSINE TRANSFORMATION (DCT)"
INST_CMPRS_RATIO = 25.7979
INST_CMPRS_QUALITY = 0
INST_CMPRS_QUANTZ_TBL_ID = 0
INSTRUMENT_TEMPERATURE = 10.8262
LENS_TEMPERATURE = 8.5833
MACROPIXEL_SIZE = 8
MISSING_FRAMES = 0
PIXEL_SUBSAMPLING_FLAG = N
SIGNAL_CHAIN_ID = 2
/* RADIOMETRIC DATA ELEMENTS */
BANDWIDTH = 88.0
CENTER_FILTER_WAVELENGTH = 538.0
RADIANCE_OFFSET = 2.75238
RADIANCE_SCALING_FACTOR = 0.0032708
REFLECTANCE_SCALING_FACTOR = 0.000154974
MEX:REFLECTANCE_OFFSET = 0.130411
/* IMAGE OBJECT DEFINITIONS */
OBJECT = IMAGE
  INTERCHANGE_FORMAT = BINARY
  LINES = 6824
  LINE_SAMPLES = 797
  SAMPLE_TYPE = UNSIGNED_INTEGER
  SAMPLE_BITS = 8
  BANDS = 1
  BAND_STORAGE_TYPE = BAND_SEQUENTIAL
  MAXIMUM = 130
  MEAN = 114.668
  MINIMUM = 94
  STANDARD_DEVIATION = 3.97502
END_OBJECT = IMAGE
/* MAP OBJECT DEFINITIONS */
OBJECT = IMAGE_MAP_PROJECTION
  ^DATA_SET_MAP_PROJECTION_CATALOG= "DSMAP.CAT"
  A_AXIS_RADIUS = 3396.0
  B_AXIS_RADIUS = 3396.0
  C_AXIS_RADIUS = 3396.0
  CENTER_LATITUDE = 0.0
  CENTER_LONGITUDE = 154.0
  COORDINATE_SYSTEM_NAME = PLANETOGRAPHIC
  COORDINATE_SYSTEM_TYPE = "BODY-FIXED ROTATING"
  EASTERNMOST_LONGITUDE = 154.636
  FIRST_STANDARD_PARALLEL = "N/A"
  LINE_FIRST_PIXEL = 1
  LINE_LAST_PIXEL = 6824
  LINE_PROJECTION_OFFSET = 17282.3125
  MAP_PROJECTION_ROTATION = 0.0
  MAP_PROJECTION_TYPE = SINUSOIDAL
  MAP_RESOLUTION = 592.713803866667
  MAP_SCALE = 0.1
  MAXIMUM_LATITUDE = 29.1607
  MINIMUM_LATITUDE = 17.6379
  POSITIVE_LONGITUDE_DIRECTION = EAST
  REFERENCE_LATITUDE = "N/A"
  REFERENCE_LONGITUDE = "N/A"
  SAMPLE_FIRST_PIXEL = 1
  SAMPLE_LAST_PIXEL = 797
  SAMPLE_PROJECTION_OFFSET = 400.8125
  SECOND_STANDARD_PARALLEL = "N/A"
  WESTERNMOST_LONGITUDE = 153.316
END_OBJECT = IMAGE_MAP_PROJECTION
/* The JPEG2000 image data file associated with this label. */
OBJECT = COMPRESSED_FILE
  FILE_NAME = "H1229_0000_GR3.JP2"
  RECORD_TYPE = UNDEFINED
  FILE_RECORDS = UNK
  ENCODING_TYPE = "JP2"
  INTERCHANGE_FORMAT = BINARY
  UNCOMPRESSED_FILE_NAME = "H1229_0000_GR3.IMG"
  REQUIRED_STORAGE_BYTES = "5456262"
  ^DESCRIPTION = "JP2INFO.TXT"
END_OBJECT = COMPRESSED_FILE
END
