PDS_VERSION_ID = PDS3
/* FILE DATA ELEMENTS */
RECORD_TYPE = STREAM
/* POINTERS TO DATA OBJECTS */
^COMPRESSED_FILE = "H1229_0006_SR3.JP2"
/* IDENTIFICATION DATA ELEMENTS */
DATA_SET_ID = "MEX-M-HRSC-5-REFDR-MAPPROJECTED-V3.0"
DATA_SET_NAME = "MARS EXPRESS HRSC MAP PROJECTED REFDR V3.0"
DETECTOR_ID = MEX_HRSC_SRC
EVENT_TYPE = "MARS-REGIONAL-MAPPING-Vo-Fl"
INSTRUMENT_HOST_ID = MEX
INSTRUMENT_HOST_NAME = "MARS EXPRESS"
INSTRUMENT_ID = HRSC
INSTRUMENT_NAME = "HIGH RESOLUTION STEREO CAMERA"
MISSION_NAME = "MARS EXPRESS"
MISSION_PHASE_NAME = MR_Phase_3
PROCESSING_LEVEL_ID = 3
PRODUCT_CREATION_TIME = 2016-03-04T20:31:26.000Z
PRODUCT_ID = "H1229_0006_SR3.JP2"
RELEASE_ID = 0017
REVISION_ID = 0000
/* QUALITY DATA ELEMENTS */
DATA_QUALITY_ID = 1
DATA_QUALITY_DESC = "Data calculated based on original SPICE kernels"
/* TIME DATA ELEMENTS */
SPACECRAFT_CLOCK_START_COUNT = "1/0052693016.57951"
SPACECRAFT_CLOCK_STOP_COUNT = "1/0052693258.06753"
IMAGE_TIME = 2005-01-01T20:58:55.483Z
START_TIME = 2005-01-01T20:58:55.481Z
STOP_TIME = 2005-01-01T20:58:55.486Z
/* ORBITAL DATA ELEMENTS */
ASCENDING_NODE_LONGITUDE = 202.83
MAXIMUM_RESOLUTION = 3.008
FOOTPRINT_POINT_LATITUDE = (23.6297,23.6326,23.6346,23.6368, 23.6386,23.64,23.6421,23.6442,23.6468, 23.6497,23.6524,23.6541,23.6568,23.6583 ,23.6605,23.6628,23.6643,23.6675, 23.6696,23.6717,23.6749,23.6773,23.679, 23.6807,23.6807,23.6807,23.6807,23.6807 ,23.6807,23.6808,23.6808,23.6808, 23.6808,23.6808,23.6808,23.6808,23.6808 ,23.6808,23.6809,23.6809,23.6809, 23.6809,23.6809,23.6809,23.6809,23.6809 ,23.6809,23.6809,23.6798,23.6784, 23.6765,23.6741,23.6713,23.669,23.6675, 23.665,23.6635,23.6621,23.6593,23.6575, 23.6557,23.6544,23.6526,23.6502,23.6485 ,23.6472,23.6452,23.6437,23.6418, 23.6404,23.6375,23.6357,23.6336,23.6307 ,23.6297,23.6297,23.6297,23.6297, 23.6297,23.6297,23.6297,23.6297,23.6297 ,23.6297,23.6297,23.6297,23.6296, 23.6296,23.6296,23.6296,23.6296,23.6296 ,23.6296,23.6296,23.6296,23.6296, 23.6296,23.6295,23.6295,23.6297)
FOOTPRINT_POINT_LONGITUDE = (153.931,153.931,153.931,153.931, 153.931,153.931,153.931,153.931,153.931 ,153.931,153.931,153.931,153.931, 153.931,153.931,153.931,153.931,153.931 ,153.931,153.931,153.931,153.931, 153.931,153.932,153.934,153.936,153.939 ,153.941,153.943,153.945,153.947,153.95 ,153.952,153.954,153.956,153.959, 153.961,153.963,153.965,153.968,153.97, 153.972,153.974,153.976,153.979,153.981 ,153.983,153.985,153.987,153.987, 153.987,153.987,153.987,153.987,153.987 ,153.987,153.987,153.987,153.987, 153.988,153.988,153.988,153.988,153.988 ,153.988,153.988,153.988,153.988, 153.988,153.988,153.988,153.988,153.988 ,153.988,153.986,153.984,153.982,153.98 ,153.978,153.975,153.973,153.971, 153.969,153.966,153.964,153.962,153.96, 153.958,153.955,153.953,153.951,153.949 ,153.946,153.944,153.942,153.94,153.937 ,153.935,153.933,153.931)
ORBIT_NUMBER = 1229
ORBITAL_ECCENTRICITY = 0.57
ORBITAL_INCLINATION = 86.62
ORBITAL_SEMIMAJOR_AXIS = 8592.28
PERIAPSIS_ALTITUDE = 303.62
PERIAPSIS_ARGUMENT_ANGLE = 144.81
PERIAPSIS_TIME = 2005-01-01T20:56:01.000Z
SPACECRAFT_ORIENTATION = (0.0,-1.0,0.0)
^MEX_ORIENTATION_DESC = "MEX_ORIENTATION_DESC.TXT"
SPACECRAFT_POINTING_MODE = ACROSSTRACK
^MEX_POINTING_DESC = "MEX_POINTING_DESC.TXT"
RIGHT_ASCENSION = -1e+32
DECLINATION = -1e+32
OFFSET_ANGLE = 0.42
SPACECRAFT_SOLAR_DISTANCE = 2.34589e+08
TARGET_NAME = MARS
/* CAMERA DATA ELEMENTS */
BUFFER_MODE_ID = BUFFER_8
EXPOSURE_DURATION = 5.04
INST_CMPRS_NAME = NONE
INST_CMPRS_RATIO = 1.0
INST_CMPRS_QUALITY = -2147483648
INST_CMPRS_QUANTZ_TBL_ID = -2147483648
INSTRUMENT_TEMPERATURE = 8.18182
MISSING_FRAMES = 0
START_BIT = 0
/* RADIOMETRIC DATA ELEMENTS */
BANDWIDTH = 250.0
CENTER_FILTER_WAVELENGTH = 600.0
RADIANCE_OFFSET = -9.99e+31
RADIANCE_SCALING_FACTOR = -9.99e+31
REFLECTANCE_SCALING_FACTOR = -9.99e+31
MEX:REFLECTANCE_OFFSET = -9.99e+31
/* IMAGE OBJECT DEFINITIONS */
OBJECT = IMAGE
  INTERCHANGE_FORMAT = BINARY
  LINES = 1272
  LINE_SAMPLES = 1288
  SAMPLE_TYPE = UNSIGNED_INTEGER
  SAMPLE_BITS = 8
  BANDS = 1
  BAND_STORAGE_TYPE = BAND_SEQUENTIAL
  MAXIMUM = 9437
  MEAN = 8805.5
  MINIMUM = 7680
  STANDARD_DEVIATION = 123.15
END_OBJECT = IMAGE
/* MAP OBJECT DEFINITIONS */
OBJECT = IMAGE_MAP_PROJECTION
  ^DATA_SET_MAP_PROJECTION_CATALOG= "DSMAP.CAT"
  A_AXIS_RADIUS = 3396.19
  B_AXIS_RADIUS = 3396.19
  C_AXIS_RADIUS = 3396.19
  CENTER_LATITUDE = 0.0
  CENTER_LONGITUDE = 154.0
  COORDINATE_SYSTEM_NAME = PLANETOGRAPHIC
  COORDINATE_SYSTEM_TYPE = "BODY-FIXED ROTATING"
  EASTERNMOST_LONGITUDE = 153.988
  FIRST_STANDARD_PARALLEL = "N/A"
  LINE_FIRST_PIXEL = 1
  LINE_LAST_PIXEL = 1272
  LINE_PROJECTION_OFFSET = 561315.0
  MAP_PROJECTION_ROTATION = 0.0
  MAP_PROJECTION_TYPE = SINUSOIDAL
  MAP_RESOLUTION = 23709.8786048756
  MAP_SCALE = 0.0025
  MAXIMUM_LATITUDE = 23.6809
  MINIMUM_LATITUDE = 23.6295
  POSITIVE_LONGITUDE_DIRECTION = EAST
  REFERENCE_LATITUDE = "N/A"
  REFERENCE_LONGITUDE = "N/A"
  SAMPLE_FIRST_PIXEL = 1
  SAMPLE_LAST_PIXEL = 1288
  SAMPLE_PROJECTION_OFFSET = 1424.0
  SECOND_STANDARD_PARALLEL = "N/A"
  WESTERNMOST_LONGITUDE = 153.931
END_OBJECT = IMAGE_MAP_PROJECTION
/* The JPEG2000 image data file associated with this label. */
OBJECT = COMPRESSED_FILE
  FILE_NAME = "H1229_0006_SR3.JP2"
  RECORD_TYPE = UNDEFINED
  FILE_RECORDS = UNK
  ENCODING_TYPE = "JP2"
  INTERCHANGE_FORMAT = BINARY
  UNCOMPRESSED_FILE_NAME = "H1229_0006_SR3.IMG"
  REQUIRED_STORAGE_BYTES = "1657656"
  ^DESCRIPTION = "JP2INFO.TXT"
END_OBJECT = COMPRESSED_FILE
END
