PDS_VERSION_ID = PDS3
/* FILE DATA ELEMENTS */
RECORD_TYPE = STREAM
/* POINTERS TO DATA OBJECTS */
^COMPRESSED_FILE = "H1232_0000_P23.JP2"
/* IDENTIFICATION DATA ELEMENTS */
DATA_SET_ID = "MEX-M-HRSC-5-REFDR-MAPPROJECTED-V3.0"
DATA_SET_NAME = "MARS EXPRESS HRSC MAP PROJECTED REFDR V3.0"
DETECTOR_ID = MEX_HRSC_P2
EVENT_TYPE = "MARS-REGIONAL-MAPPING-Vo-Te-Mw"
INSTRUMENT_HOST_ID = MEX
INSTRUMENT_HOST_NAME = "MARS EXPRESS"
INSTRUMENT_ID = HRSC
INSTRUMENT_NAME = "HIGH RESOLUTION STEREO CAMERA"
MISSION_NAME = "MARS EXPRESS"
MISSION_PHASE_NAME = MR_Phase_3
PROCESSING_LEVEL_ID = 3
PRODUCT_CREATION_TIME = 2016-03-04T20:31:26.000Z
PRODUCT_ID = "H1232_0000_P23.JP2"
RELEASE_ID = 0017
REVISION_ID = 0000
/* QUALITY DATA ELEMENTS */
DATA_QUALITY_ID = 1
DATA_QUALITY_DESC = "Data calculated based on original SPICE kernels"
/* TIME DATA ELEMENTS */
SPACECRAFT_CLOCK_START_COUNT = "1/0052765407.56193"
SPACECRAFT_CLOCK_STOP_COUNT = "1/0052765792.55773"
START_TIME = 2005-01-02T17:04:25.502Z
STOP_TIME = 2005-01-02T17:11:29.919Z
/* ORBITAL DATA ELEMENTS */
ASCENDING_NODE_LONGITUDE = 202.78
MAXIMUM_RESOLUTION = 50.2
FOOTPRINT_POINT_LATITUDE = (41.1174,41.0974,41.0768,41.1027, 40.5392,39.9763,39.4134,38.8506,38.2855 ,37.4384,36.877,36.315,35.7525,35.1899, 34.3544,33.7975,33.2423,32.6841,32.1272 ,31.2981,30.7443,29.9116,29.0828, 28.5331,27.9842,27.4355,26.8892,26.3433 ,25.799,25.2553,24.7128,24.1717,23.6337 ,23.098,22.5612,21.7564,21.2252,20.6941 ,20.164,19.6355,19.1085,18.3207,17.7997 ,17.0194,16.5004,15.9838,15.469,14.9557 ,14.4437,13.9353,13.9179,13.9291, 13.9412,13.9519,14.4608,14.9718,15.4845 ,15.9994,16.5169,17.2931,17.8132, 18.3369,18.8635,19.3898,19.9196,20.4489 ,20.9805,21.7817,22.3168,22.8532, 23.3909,23.9299,24.4703,25.2803,25.8242 ,26.642,27.1883,28.0119,28.5604,29.1122 ,29.6656,30.4956,31.3277,32.1606, 32.7172,33.5532,34.1119,34.6696,35.2288 ,35.7907,36.6322,37.1943,37.7537, 38.3222,38.882,39.1677,39.734,40.2975, 40.8615,41.1174)
FOOTPRINT_POINT_LONGITUDE = (220.152,219.711,219.282,218.882, 218.902,218.921,218.939,218.956,218.971 ,218.991,219.004,219.016,219.027, 219.036,219.052,219.061,219.07,219.076, 219.082,219.092,219.096,219.1,219.104, 219.106,219.107,219.108,219.108,219.107 ,219.106,219.105,219.103,219.1,219.097, 219.094,219.09,219.082,219.078,219.072, 219.066,219.059,219.052,219.041,219.033 ,219.021,219.012,219.003,218.993, 218.983,218.972,218.962,219.291,219.656 ,220.099,220.481,220.477,220.473, 220.468,220.465,220.462,220.455,220.451 ,220.449,220.448,220.445,220.445, 220.442,220.441,220.44,220.438,220.436, 220.434,220.432,220.43,220.423,220.422, 220.419,220.417,220.416,220.413,220.413 ,220.415,220.413,220.412,220.409, 220.408,220.405,220.403,220.4,220.397, 220.397,220.394,220.393,220.386,220.393 ,220.386,220.391,220.393,220.39,220.387 ,220.152)
ORBIT_NUMBER = 1232
ORBITAL_ECCENTRICITY = 0.57
ORBITAL_INCLINATION = 86.63
ORBITAL_SEMIMAJOR_AXIS = 8593.91
PERIAPSIS_ALTITUDE = 302.97
PERIAPSIS_ARGUMENT_ANGLE = 144.24
PERIAPSIS_TIME = 2005-01-02T17:05:29.000Z
SPACECRAFT_ORIENTATION = (0.0,-1.0,0.0)
^MEX_ORIENTATION_DESC = "MEX_ORIENTATION_DESC.TXT"
SPACECRAFT_POINTING_MODE = ACROSSTRACK
^MEX_POINTING_DESC = "MEX_POINTING_DESC.TXT"
RIGHT_ASCENSION = -1e+32
DECLINATION = -1e+32
OFFSET_ANGLE = 0.95
SPACECRAFT_SOLAR_DISTANCE = 2.34438e+08
TARGET_NAME = MARS
/* CAMERA DATA ELEMENTS */
DETECTOR_TEMPERATURE = 18.3705
FOCAL_PLANE_TEMPERATURE = 7.5638
INST_CMPRS_NAME = "DISCRETE COSINE TRANSFORMATION (DCT)"
INST_CMPRS_RATIO = 11.0454
INST_CMPRS_QUALITY = 0
INST_CMPRS_QUANTZ_TBL_ID = 0
INSTRUMENT_TEMPERATURE = 10.8262
LENS_TEMPERATURE = 7.9716
MACROPIXEL_SIZE = 4
MISSING_FRAMES = 0
PIXEL_SUBSAMPLING_FLAG = N
SIGNAL_CHAIN_ID = 3
/* RADIOMETRIC DATA ELEMENTS */
BANDWIDTH = 177.0
CENTER_FILTER_WAVELENGTH = 676.5
RADIANCE_OFFSET = 9.88518
RADIANCE_SCALING_FACTOR = 0.0197484
REFLECTANCE_SCALING_FACTOR = 0.0005755
MEX:REFLECTANCE_OFFSET = 0.28807
/* IMAGE OBJECT DEFINITIONS */
OBJECT = IMAGE
  INTERCHANGE_FORMAT = BINARY
  LINES = 32479
  LINE_SAMPLES = 1801
  SAMPLE_TYPE = UNSIGNED_INTEGER
  SAMPLE_BITS = 8
  BANDS = 1
  BAND_STORAGE_TYPE = BAND_SEQUENTIAL
  MAXIMUM = 165
  MEAN = 130.571
  MINIMUM = 92
  STANDARD_DEVIATION = 6.84853
END_OBJECT = IMAGE
/* MAP OBJECT DEFINITIONS */
OBJECT = IMAGE_MAP_PROJECTION
  ^DATA_SET_MAP_PROJECTION_CATALOG= "DSMAP.CAT"
  A_AXIS_RADIUS = 3396.0
  B_AXIS_RADIUS = 3396.0
  C_AXIS_RADIUS = 3396.0
  CENTER_LATITUDE = 0.0
  CENTER_LONGITUDE = 220.0
  COORDINATE_SYSTEM_NAME = PLANETOGRAPHIC
  COORDINATE_SYSTEM_TYPE = "BODY-FIXED ROTATING"
  EASTERNMOST_LONGITUDE = 220.481
  FIRST_STANDARD_PARALLEL = "N/A"
  LINE_FIRST_PIXEL = 1
  LINE_LAST_PIXEL = 32479
  LINE_PROJECTION_OFFSET = 48983.125
  MAP_PROJECTION_ROTATION = 0.0
  MAP_PROJECTION_TYPE = SINUSOIDAL
  MAP_RESOLUTION = 1185.42760773333
  MAP_SCALE = 0.05
  MAXIMUM_LATITUDE = 41.1174
  MINIMUM_LATITUDE = 13.9179
  POSITIVE_LONGITUDE_DIRECTION = EAST
  REFERENCE_LATITUDE = "N/A"
  REFERENCE_LONGITUDE = "N/A"
  SAMPLE_FIRST_PIXEL = 1
  SAMPLE_LAST_PIXEL = 1801
  SAMPLE_PROJECTION_OFFSET = 1171.125
  SECOND_STANDARD_PARALLEL = "N/A"
  WESTERNMOST_LONGITUDE = 218.882
END_OBJECT = IMAGE_MAP_PROJECTION
/* The JPEG2000 image data file associated with this label. */
OBJECT = COMPRESSED_FILE
  FILE_NAME = "H1232_0000_P23.JP2"
  RECORD_TYPE = UNDEFINED
  FILE_RECORDS = UNK
  ENCODING_TYPE = "JP2"
  INTERCHANGE_FORMAT = BINARY
  UNCOMPRESSED_FILE_NAME = "H1232_0000_P23.IMG"
  REQUIRED_STORAGE_BYTES = "58514490"
  ^DESCRIPTION = "JP2INFO.TXT"
END_OBJECT = COMPRESSED_FILE
END
