PDS_VERSION_ID = PDS3
/* FILE DATA ELEMENTS */
RECORD_TYPE = STREAM
/* POINTERS TO DATA OBJECTS */
^COMPRESSED_FILE = "H1237_0000_RE3.JP2"
/* IDENTIFICATION DATA ELEMENTS */
DATA_SET_ID = "MEX-M-HRSC-5-REFDR-MAPPROJECTED-V3.0"
DATA_SET_NAME = "MARS EXPRESS HRSC MAP PROJECTED REFDR V3.0"
DETECTOR_ID = MEX_HRSC_RED
EVENT_TYPE = "MARS-REGIONAL-MAPPING-Te-Lc-Eo"
INSTRUMENT_HOST_ID = MEX
INSTRUMENT_HOST_NAME = "MARS EXPRESS"
INSTRUMENT_ID = HRSC
INSTRUMENT_NAME = "HIGH RESOLUTION STEREO CAMERA"
MISSION_NAME = "MARS EXPRESS"
MISSION_PHASE_NAME = MR_Phase_3
PROCESSING_LEVEL_ID = 3
PRODUCT_CREATION_TIME = 2016-03-04T20:31:26.000Z
PRODUCT_ID = "H1237_0000_RE3.JP2"
RELEASE_ID = 0017
REVISION_ID = 0000
/* QUALITY DATA ELEMENTS */
DATA_QUALITY_ID = 1
DATA_QUALITY_DESC = "Data calculated based on original SPICE kernels"
/* TIME DATA ELEMENTS */
SPACECRAFT_CLOCK_START_COUNT = "1/0052885876.57967"
SPACECRAFT_CLOCK_STOP_COUNT = "1/0052886278.06481"
START_TIME = 2005-01-04T02:33:15.548Z
STOP_TIME = 2005-01-04T02:37:58.524Z
/* ORBITAL DATA ELEMENTS */
ASCENDING_NODE_LONGITUDE = 202.67
MAXIMUM_RESOLUTION = 59.5
FOOTPRINT_POINT_LATITUDE = (71.2283,71.1939,71.1564,71.116,71.0265 ,70.7257,70.3383,69.9498,69.5603, 69.1697,68.7776,68.3857,67.9926,67.5984 ,67.2032,66.8075,66.4111,66.0139, 65.4163,65.0176,64.4214,64.0298,63.6385 ,63.255,62.6796,62.3038,61.9277,61.372, 61.0037,60.637,60.2778,59.9177,59.383, 59.032,58.6802,58.3312,57.9884,57.6452, 57.1313,56.7968,56.4622,56.1272,55.6317 ,55.3056,54.8165,54.331,54.0141,53.6971 ,53.3798,52.8413,52.8738,52.9032, 52.9363,53.253,53.5721,53.8908,54.2093, 54.5278,55.0177,55.3454,55.6727,55.9999 ,56.3367,56.6733,57.0095,57.3464, 57.6917,58.0365,58.3819,58.7314,59.0852 ,59.6157,59.9748,60.5197,61.0659, 61.4377,61.8083,62.3749,62.754,63.3325, 63.7198,64.3106,64.706,65.3102,65.7138, 66.1168,66.5189,66.9203,67.3216,67.7221 ,68.1214,68.5209,68.9197,69.3177,69.715 ,70.1114,70.5075,70.9026,71.2969, 71.2283)
FOOTPRINT_POINT_LONGITUDE = (86.0017,85.1555,84.3175,83.489,81.8573 ,81.5912,81.8077,82.0151,82.2141, 82.4051,82.5888,82.7647,82.9339,83.0966 ,83.2532,83.4037,83.5485,83.688,83.8878 ,84.0148,84.1958,84.3092,84.4185, 84.5218,84.6701,84.7628,84.8526,84.9798 ,85.0607,85.1387,85.2128,85.2847, 85.3875,85.4525,85.5157,85.5766,85.6347 ,85.6912,85.7727,85.824,85.8739,85.9225 ,85.9919,86.0361,86.1003,86.1614, 86.2001,86.2378,86.2746,86.4869,87.1033 ,87.7123,88.4417,88.4337,88.4256, 88.4169,88.4079,88.3989,88.3844,88.3744 ,88.3639,88.3531,88.3423,88.331,88.3189 ,88.3069,88.2938,88.2801,88.267,88.2535 ,88.2385,88.2154,88.1986,88.1748, 88.1446,88.1267,88.1069,88.0747,88.0527 ,88.0176,87.9928,87.9534,87.9255, 87.8808,87.8496,87.8172,87.7832,87.7474 ,87.7111,87.6729,87.6324,87.5913, 87.5485,87.5035,87.4565,87.4071,87.356, 87.3021,87.2457,86.0017)
ORBIT_NUMBER = 1237
ORBITAL_ECCENTRICITY = 0.571
ORBITAL_INCLINATION = 86.63
ORBITAL_SEMIMAJOR_AXIS = 8597.0
PERIAPSIS_ALTITUDE = 303.15
PERIAPSIS_ARGUMENT_ANGLE = 143.35
PERIAPSIS_TIME = 2005-01-04T02:41:40.000Z
SPACECRAFT_ORIENTATION = (0.0,-1.0,0.0)
^MEX_ORIENTATION_DESC = "MEX_ORIENTATION_DESC.TXT"
SPACECRAFT_POINTING_MODE = ACROSSTRACK
^MEX_POINTING_DESC = "MEX_POINTING_DESC.TXT"
RIGHT_ASCENSION = -1e+32
DECLINATION = -1e+32
OFFSET_ANGLE = 0.75
SPACECRAFT_SOLAR_DISTANCE = 2.34185e+08
TARGET_NAME = MARS
/* CAMERA DATA ELEMENTS */
DETECTOR_TEMPERATURE = 18.5744
FOCAL_PLANE_TEMPERATURE = 8.5833
INST_CMPRS_NAME = "DISCRETE COSINE TRANSFORMATION (DCT)"
INST_CMPRS_RATIO = 25.7242
INST_CMPRS_QUALITY = 0
INST_CMPRS_QUANTZ_TBL_ID = 0
INSTRUMENT_TEMPERATURE = 11.234
LENS_TEMPERATURE = 8.5833
MACROPIXEL_SIZE = 4
MISSING_FRAMES = 0
PIXEL_SUBSAMPLING_FLAG = N
SIGNAL_CHAIN_ID = 2
/* RADIOMETRIC DATA ELEMENTS */
BANDWIDTH = 48.0
CENTER_FILTER_WAVELENGTH = 748.0
RADIANCE_OFFSET = 0.753779
RADIANCE_SCALING_FACTOR = 0.00575642
REFLECTANCE_SCALING_FACTOR = 0.000720447
MEX:REFLECTANCE_OFFSET = 0.0943396
/* IMAGE OBJECT DEFINITIONS */
OBJECT = IMAGE
  INTERCHANGE_FORMAT = BINARY
  LINES = 21952
  LINE_SAMPLES = 3644
  SAMPLE_TYPE = UNSIGNED_INTEGER
  SAMPLE_BITS = 8
  BANDS = 1
  BAND_STORAGE_TYPE = BAND_SEQUENTIAL
  MAXIMUM = 114
  MEAN = 75.4888
  MINIMUM = 31
  STANDARD_DEVIATION = 10.7996
END_OBJECT = IMAGE
/* MAP OBJECT DEFINITIONS */
OBJECT = IMAGE_MAP_PROJECTION
  ^DATA_SET_MAP_PROJECTION_CATALOG= "DSMAP.CAT"
  A_AXIS_RADIUS = 3396.0
  B_AXIS_RADIUS = 3396.0
  C_AXIS_RADIUS = 3396.0
  CENTER_LATITUDE = 0.0
  CENTER_LONGITUDE = 86.0
  COORDINATE_SYSTEM_NAME = PLANETOGRAPHIC
  COORDINATE_SYSTEM_TYPE = "BODY-FIXED ROTATING"
  EASTERNMOST_LONGITUDE = 88.4417
  FIRST_STANDARD_PARALLEL = "N/A"
  LINE_FIRST_PIXEL = 1
  LINE_LAST_PIXEL = 21952
  LINE_PROJECTION_OFFSET = 84605.625
  MAP_PROJECTION_ROTATION = 0.0
  MAP_PROJECTION_TYPE = SINUSOIDAL
  MAP_RESOLUTION = 1185.42760773333
  MAP_SCALE = 0.05
  MAXIMUM_LATITUDE = 71.29689999999999
  MINIMUM_LATITUDE = 52.8413
  POSITIVE_LONGITUDE_DIRECTION = EAST
  REFERENCE_LATITUDE = "N/A"
  REFERENCE_LONGITUDE = "N/A"
  SAMPLE_FIRST_PIXEL = 1
  SAMPLE_LAST_PIXEL = 3644
  SAMPLE_PROJECTION_OFFSET = 1863.625
  SECOND_STANDARD_PARALLEL = "N/A"
  WESTERNMOST_LONGITUDE = 81.5912
END_OBJECT = IMAGE_MAP_PROJECTION
/* The JPEG2000 image data file associated with this label. */
OBJECT = COMPRESSED_FILE
  FILE_NAME = "H1237_0000_RE3.JP2"
  RECORD_TYPE = UNDEFINED
  FILE_RECORDS = UNK
  ENCODING_TYPE = "JP2"
  INTERCHANGE_FORMAT = BINARY
  UNCOMPRESSED_FILE_NAME = "H1237_0000_RE3.IMG"
  REQUIRED_STORAGE_BYTES = "80014952"
  ^DESCRIPTION = "JP2INFO.TXT"
END_OBJECT = COMPRESSED_FILE
END
