PDS_VERSION_ID = PDS3
/* FILE DATA ELEMENTS */
RECORD_TYPE = STREAM
/* POINTERS TO DATA OBJECTS */
^COMPRESSED_FILE = "H1241_0000_P13.JP2"
/* IDENTIFICATION DATA ELEMENTS */
DATA_SET_ID = "MEX-M-HRSC-5-REFDR-MAPPROJECTED-V3.0"
DATA_SET_NAME = "MARS EXPRESS HRSC MAP PROJECTED REFDR V3.0"
DETECTOR_ID = MEX_HRSC_P1
EVENT_TYPE = "MARS-REGIONAL-STEREO-Te-Pf-Mw"
INSTRUMENT_HOST_ID = MEX
INSTRUMENT_HOST_NAME = "MARS EXPRESS"
INSTRUMENT_ID = HRSC
INSTRUMENT_NAME = "HIGH RESOLUTION STEREO CAMERA"
MISSION_NAME = "MARS EXPRESS"
MISSION_PHASE_NAME = MR_Phase_3
PROCESSING_LEVEL_ID = 3
PRODUCT_CREATION_TIME = 2016-03-04T20:31:26.000Z
PRODUCT_ID = "H1241_0000_P13.JP2"
RELEASE_ID = 0017
REVISION_ID = 0000
/* QUALITY DATA ELEMENTS */
DATA_QUALITY_ID = 1
DATA_QUALITY_DESC = "Data calculated based on original SPICE kernels"
/* TIME DATA ELEMENTS */
SPACECRAFT_CLOCK_START_COUNT = "1/0052983002.57141"
SPACECRAFT_CLOCK_STOP_COUNT = "1/0052983306.47893"
START_TIME = 2005-01-05T05:31:11.337Z
STOP_TIME = 2005-01-05T05:34:27.529Z
/* ORBITAL DATA ELEMENTS */
ASCENDING_NODE_LONGITUDE = 202.58
MAXIMUM_RESOLUTION = 49.8
FOOTPRINT_POINT_LATITUDE = (48.9984,48.9949,48.9878,48.978,48.6576 ,48.3949,48.1312,47.8675,47.4726, 47.2077,46.9509,46.5677,46.2971,46.04, 45.7822,45.5251,45.2646,44.8789,44.6305 ,44.3789,44.1289,43.8768,43.6271, 43.3742,42.9952,42.6175,42.3662,42.1129 ,41.866,41.6224,41.3776,41.1334,40.8871 ,40.6443,40.2806,40.0382,39.7941, 39.5486,39.3029,39.0576,38.8123,38.565, 38.3158,38.0709,37.7047,37.4582,37.2079 ,36.9582,36.717,36.4694,36.2202,36.2218 ,36.2212,36.2188,36.4653,36.7094, 36.9552,37.203,37.4537,37.7001,37.9473, 38.1928,38.4401,38.686,38.9331,39.1798, 39.5489,39.9186,40.2873,40.5334,40.779, 41.0211,41.3846,41.7498,41.9935,42.2465 ,42.6252,42.8782,43.2555,43.5072, 43.7595,44.012,44.2624,44.5135,44.8895, 45.2759,45.5333,45.792,46.0505,46.3088, 46.5817,46.8398,47.2254,47.49,47.7552, 48.0198,48.4164,48.6804,48.9439, 48.9984)
FOOTPRINT_POINT_LONGITUDE = (54.6744,54.2726,53.7425,53.2187, 53.1059,53.1296,53.1529,53.1757,53.2091 ,53.2307,53.2512,53.2814,53.3023, 53.3215,53.3403,53.3587,53.3767,53.4028 ,53.4195,53.4357,53.4517,53.4673, 53.4827,53.4977,53.5196,53.5409,53.5548 ,53.5683,53.5812,53.5937,53.606,53.618, 53.6298,53.6414,53.6583,53.6693,53.68, 53.6904,53.7007,53.7107,53.7204,53.7299 ,53.7392,53.7483,53.7616,53.7702, 53.7785,53.7865,53.7946,53.8024,53.8098 ,54.2589,54.5665,55.0022,55.1301, 55.1312,55.1302,55.1267,55.1197,55.1175 ,55.1142,55.1126,55.1089,55.1065, 55.1025,55.0988,55.0941,55.088,55.0826, 55.0784,55.0746,55.0747,55.0742,55.0708 ,55.0681,55.0615,55.056,55.0514,55.0466 ,55.0429,55.0379,55.0324,55.0293, 55.0248,55.0184,55.0095,55.0065,55.0014 ,54.9961,54.9907,54.9857,54.9797, 54.9719,54.9661,54.9602,54.9545,54.9455 ,54.9394,54.9334,54.6744)
ORBIT_NUMBER = 1241
ORBITAL_ECCENTRICITY = 0.57
ORBITAL_INCLINATION = 86.63
ORBITAL_SEMIMAJOR_AXIS = 8594.65
PERIAPSIS_ALTITUDE = 304.1
PERIAPSIS_ARGUMENT_ANGLE = 142.67
PERIAPSIS_TIME = 2005-01-05T05:34:29.000Z
SPACECRAFT_ORIENTATION = (0.0,-1.0,0.0)
^MEX_ORIENTATION_DESC = "MEX_ORIENTATION_DESC.TXT"
SPACECRAFT_POINTING_MODE = ACROSSTRACK
^MEX_POINTING_DESC = "MEX_POINTING_DESC.TXT"
RIGHT_ASCENSION = -1e+32
DECLINATION = -1e+32
OFFSET_ANGLE = 0.458
SPACECRAFT_SOLAR_DISTANCE = 2.33981e+08
TARGET_NAME = MARS
/* CAMERA DATA ELEMENTS */
DETECTOR_TEMPERATURE = 17.351
FOCAL_PLANE_TEMPERATURE = 7.9716
INST_CMPRS_NAME = "DISCRETE COSINE TRANSFORMATION (DCT)"
INST_CMPRS_RATIO = 17.4888
INST_CMPRS_QUALITY = 0
INST_CMPRS_QUANTZ_TBL_ID = 0
INSTRUMENT_TEMPERATURE = 11.0301
LENS_TEMPERATURE = 8.5833
MACROPIXEL_SIZE = 4
MISSING_FRAMES = 22
PIXEL_SUBSAMPLING_FLAG = N
SIGNAL_CHAIN_ID = 3
/* RADIOMETRIC DATA ELEMENTS */
BANDWIDTH = 174.0
CENTER_FILTER_WAVELENGTH = 675.0
RADIANCE_OFFSET = 3.64291
RADIANCE_SCALING_FACTOR = 0.0311692
REFLECTANCE_SCALING_FACTOR = 0.000917858
MEX:REFLECTANCE_OFFSET = 0.107275
/* IMAGE OBJECT DEFINITIONS */
OBJECT = IMAGE
  INTERCHANGE_FORMAT = BINARY
  LINES = 16616
  LINE_SAMPLES = 1915
  SAMPLE_TYPE = UNSIGNED_INTEGER
  SAMPLE_BITS = 8
  BANDS = 1
  BAND_STORAGE_TYPE = BAND_SEQUENTIAL
  MAXIMUM = 146
  MEAN = 108.587
  MINIMUM = 43
  STANDARD_DEVIATION = 10.5312
END_OBJECT = IMAGE
/* MAP OBJECT DEFINITIONS */
OBJECT = IMAGE_MAP_PROJECTION
  ^DATA_SET_MAP_PROJECTION_CATALOG= "DSMAP.CAT"
  A_AXIS_RADIUS = 3396.0
  B_AXIS_RADIUS = 3396.0
  C_AXIS_RADIUS = 3396.0
  CENTER_LATITUDE = 0.0
  CENTER_LONGITUDE = 54.0
  COORDINATE_SYSTEM_NAME = PLANETOGRAPHIC
  COORDINATE_SYSTEM_TYPE = "BODY-FIXED ROTATING"
  EASTERNMOST_LONGITUDE = 55.1312
  FIRST_STANDARD_PARALLEL = "N/A"
  LINE_FIRST_PIXEL = 1
  LINE_LAST_PIXEL = 16616
  LINE_PROJECTION_OFFSET = 59520.125
  MAP_PROJECTION_ROTATION = 0.0
  MAP_PROJECTION_TYPE = SINUSOIDAL
  MAP_RESOLUTION = 1185.42760773333
  MAP_SCALE = 0.05
  MAXIMUM_LATITUDE = 48.9984
  MINIMUM_LATITUDE = 36.2188
  POSITIVE_LONGITUDE_DIRECTION = EAST
  REFERENCE_LATITUDE = "N/A"
  REFERENCE_LONGITUDE = "N/A"
  SAMPLE_FIRST_PIXEL = 1
  SAMPLE_LAST_PIXEL = 1915
  SAMPLE_PROJECTION_OFFSET = 776.125
  SECOND_STANDARD_PARALLEL = "N/A"
  WESTERNMOST_LONGITUDE = 53.1059
END_OBJECT = IMAGE_MAP_PROJECTION
/* The JPEG2000 image data file associated with this label. */
OBJECT = COMPRESSED_FILE
  FILE_NAME = "H1241_0000_P13.JP2"
  RECORD_TYPE = UNDEFINED
  FILE_RECORDS = UNK
  ENCODING_TYPE = "JP2"
  INTERCHANGE_FORMAT = BINARY
  UNCOMPRESSED_FILE_NAME = "H1241_0000_P13.IMG"
  REQUIRED_STORAGE_BYTES = "31838790"
  ^DESCRIPTION = "JP2INFO.TXT"
END_OBJECT = COMPRESSED_FILE
END
