PDS_VERSION_ID = PDS3
/* FILE DATA ELEMENTS */
RECORD_TYPE = STREAM
/* POINTERS TO DATA OBJECTS */
^COMPRESSED_FILE = "H1241_0000_P23.JP2"
/* IDENTIFICATION DATA ELEMENTS */
DATA_SET_ID = "MEX-M-HRSC-5-REFDR-MAPPROJECTED-V3.0"
DATA_SET_NAME = "MARS EXPRESS HRSC MAP PROJECTED REFDR V3.0"
DETECTOR_ID = MEX_HRSC_P2
EVENT_TYPE = "MARS-REGIONAL-STEREO-Te-Pf-Mw"
INSTRUMENT_HOST_ID = MEX
INSTRUMENT_HOST_NAME = "MARS EXPRESS"
INSTRUMENT_ID = HRSC
INSTRUMENT_NAME = "HIGH RESOLUTION STEREO CAMERA"
MISSION_NAME = "MARS EXPRESS"
MISSION_PHASE_NAME = MR_Phase_3
PROCESSING_LEVEL_ID = 3
PRODUCT_CREATION_TIME = 2016-03-04T20:31:26.000Z
PRODUCT_ID = "H1241_0000_P23.JP2"
RELEASE_ID = 0017
REVISION_ID = 0000
/* QUALITY DATA ELEMENTS */
DATA_QUALITY_ID = 1
DATA_QUALITY_DESC = "Data calculated based on original SPICE kernels"
/* TIME DATA ELEMENTS */
SPACECRAFT_CLOCK_START_COUNT = "1/0052983002.57141"
SPACECRAFT_CLOCK_STOP_COUNT = "1/0052983306.47893"
START_TIME = 2005-01-05T05:31:11.337Z
STOP_TIME = 2005-01-05T05:35:03.181Z
/* ORBITAL DATA ELEMENTS */
ASCENDING_NODE_LONGITUDE = 202.58
MAXIMUM_RESOLUTION = 50
FOOTPRINT_POINT_LATITUDE = (51.561,51.5504,51.5394,51.528,51.5037, 51.0694,50.7439,50.4182,50.0922,49.7673 ,49.4514,49.1355,48.8283,48.5119, 48.0379,47.7218,47.4056,47.1019,46.7967 ,46.4883,46.0274,45.7216,45.4155, 45.1125,44.8069,44.5003,44.2026,43.761, 43.4646,43.1724,42.8763,42.582,42.2859, 41.9923,41.697,41.2553,40.9618,40.665, 40.2177,39.9203,39.6259,39.1844,38.8892 ,38.5949,38.3056,38.0103,37.7128, 37.4192,37.131,36.8379,36.3943,36.1917, 36.1987,36.2103,36.2184,36.3693,36.6666 ,37.1085,37.3987,37.6925,38.1351, 38.5767,39.0175,39.459,39.7534,40.0476, 40.3431,40.6373,40.9354,41.2302,41.5323 ,41.8273,42.2697,42.5671,43.0111, 43.3069,43.7509,44.1943,44.4909,44.7973 ,45.2555,45.7173,46.0234,46.3302, 46.6371,46.9396,47.2501,47.5574,47.8745 ,48.3502,48.6672,49.134,49.451,49.7678, 50.0917,50.4186,50.7453,51.235,51.5616, 51.561)
FOOTPRINT_POINT_LONGITUDE = (54.4013,54.1188,53.8379,53.559,53.0061 ,52.9028,52.9367,52.9697,53.002,53.0332 ,53.0629,53.0919,53.1193,53.147,53.187, 53.2129,53.2383,53.2617,53.2849,53.3079 ,53.3412,53.3624,53.3832,53.403,53.4227 ,53.442,53.4603,53.4865,53.5036,53.5198 ,53.5361,53.5517,53.5671,53.5819, 53.5965,53.6175,53.631,53.6444,53.6641, 53.6767,53.6887,53.7061,53.7173,53.7282 ,53.7382,53.7485,53.7588,53.7683, 53.7771,53.7861,53.7994,54.0854,54.3677 ,54.7406,55.0046,55.1334,55.1335, 55.1291,55.1214,55.1172,55.1123,55.106, 55.0983,55.091,55.0858,55.0803,55.0759, 55.0699,55.068,55.0623,55.0644,55.0585, 55.0494,55.0458,55.0378,55.032,55.0235, 55.0138,55.0084,55.0026,54.9907,54.9825 ,54.9749,54.9679,54.961,54.9488,54.9456 ,54.9379,54.9298,54.9173,54.9087, 54.8957,54.8868,54.8776,54.8678,54.8575 ,54.8469,54.8304,54.8194,54.4013)
ORBIT_NUMBER = 1241
ORBITAL_ECCENTRICITY = 0.57
ORBITAL_INCLINATION = 86.63
ORBITAL_SEMIMAJOR_AXIS = 8594.65
PERIAPSIS_ALTITUDE = 304.1
PERIAPSIS_ARGUMENT_ANGLE = 142.67
PERIAPSIS_TIME = 2005-01-05T05:34:29.000Z
SPACECRAFT_ORIENTATION = (0.0,-1.0,0.0)
^MEX_ORIENTATION_DESC = "MEX_ORIENTATION_DESC.TXT"
SPACECRAFT_POINTING_MODE = ACROSSTRACK
^MEX_POINTING_DESC = "MEX_POINTING_DESC.TXT"
RIGHT_ASCENSION = -1e+32
DECLINATION = -1e+32
OFFSET_ANGLE = 0.458
SPACECRAFT_SOLAR_DISTANCE = 2.33981e+08
TARGET_NAME = MARS
/* CAMERA DATA ELEMENTS */
DETECTOR_TEMPERATURE = 18.3705
FOCAL_PLANE_TEMPERATURE = 7.9716
INST_CMPRS_NAME = "DISCRETE COSINE TRANSFORMATION (DCT)"
INST_CMPRS_RATIO = 12.9476
INST_CMPRS_QUALITY = 0
INST_CMPRS_QUANTZ_TBL_ID = 0
INSTRUMENT_TEMPERATURE = 11.0301
LENS_TEMPERATURE = 8.5833
MACROPIXEL_SIZE = 4
MISSING_FRAMES = 22
PIXEL_SUBSAMPLING_FLAG = N
SIGNAL_CHAIN_ID = 3
/* RADIOMETRIC DATA ELEMENTS */
BANDWIDTH = 177.0
CENTER_FILTER_WAVELENGTH = 676.5
RADIANCE_OFFSET = 4.22369
RADIANCE_SCALING_FACTOR = 0.0328084
REFLECTANCE_SCALING_FACTOR = 0.000952374
MEX:REFLECTANCE_OFFSET = 0.122607
/* IMAGE OBJECT DEFINITIONS */
OBJECT = IMAGE
  INTERCHANGE_FORMAT = BINARY
  LINES = 16616
  LINE_SAMPLES = 1915
  SAMPLE_TYPE = UNSIGNED_INTEGER
  SAMPLE_BITS = 8
  BANDS = 1
  BAND_STORAGE_TYPE = BAND_SEQUENTIAL
  MAXIMUM = 160
  MEAN = 125.559
  MINIMUM = 51
  STANDARD_DEVIATION = 11.9305
END_OBJECT = IMAGE
/* MAP OBJECT DEFINITIONS */
OBJECT = IMAGE_MAP_PROJECTION
  ^DATA_SET_MAP_PROJECTION_CATALOG= "DSMAP.CAT"
  A_AXIS_RADIUS = 3396.0
  B_AXIS_RADIUS = 3396.0
  C_AXIS_RADIUS = 3396.0
  CENTER_LATITUDE = 0.0
  CENTER_LONGITUDE = 54.0
  COORDINATE_SYSTEM_NAME = PLANETOGRAPHIC
  COORDINATE_SYSTEM_TYPE = "BODY-FIXED ROTATING"
  EASTERNMOST_LONGITUDE = 55.1335
  FIRST_STANDARD_PARALLEL = "N/A"
  LINE_FIRST_PIXEL = 1
  LINE_LAST_PIXEL = 16616
  LINE_PROJECTION_OFFSET = 59520.125
  MAP_PROJECTION_ROTATION = 0.0
  MAP_PROJECTION_TYPE = SINUSOIDAL
  MAP_RESOLUTION = 1185.42760773333
  MAP_SCALE = 0.05
  MAXIMUM_LATITUDE = 51.5616
  MINIMUM_LATITUDE = 36.1917
  POSITIVE_LONGITUDE_DIRECTION = EAST
  REFERENCE_LATITUDE = "N/A"
  REFERENCE_LONGITUDE = "N/A"
  SAMPLE_FIRST_PIXEL = 1
  SAMPLE_LAST_PIXEL = 1915
  SAMPLE_PROJECTION_OFFSET = 776.125
  SECOND_STANDARD_PARALLEL = "N/A"
  WESTERNMOST_LONGITUDE = 52.9028
END_OBJECT = IMAGE_MAP_PROJECTION
/* The JPEG2000 image data file associated with this label. */
OBJECT = COMPRESSED_FILE
  FILE_NAME = "H1241_0000_P23.JP2"
  RECORD_TYPE = UNDEFINED
  FILE_RECORDS = UNK
  ENCODING_TYPE = "JP2"
  INTERCHANGE_FORMAT = BINARY
  UNCOMPRESSED_FILE_NAME = "H1241_0000_P23.IMG"
  REQUIRED_STORAGE_BYTES = "31838790"
  ^DESCRIPTION = "JP2INFO.TXT"
END_OBJECT = COMPRESSED_FILE
END
