PDS_VERSION_ID = PDS3
/* FILE DATA ELEMENTS */
RECORD_TYPE = STREAM
/* POINTERS TO DATA OBJECTS */
^COMPRESSED_FILE = "H1249_0000_GR3.JP2"
/* IDENTIFICATION DATA ELEMENTS */
DATA_SET_ID = "MEX-M-HRSC-5-REFDR-MAPPROJECTED-V3.0"
DATA_SET_NAME = "MARS EXPRESS HRSC MAP PROJECTED REFDR V3.0"
DETECTOR_ID = MEX_HRSC_GREEN
EVENT_TYPE = "MARS-LOCAL-MAPPING-Te-Lc-Mw"
INSTRUMENT_HOST_ID = MEX
INSTRUMENT_HOST_NAME = "MARS EXPRESS"
INSTRUMENT_ID = HRSC
INSTRUMENT_NAME = "HIGH RESOLUTION STEREO CAMERA"
MISSION_NAME = "MARS EXPRESS"
MISSION_PHASE_NAME = MR_Phase_3
PROCESSING_LEVEL_ID = 3
PRODUCT_CREATION_TIME = 2016-03-04T20:31:26.000Z
PRODUCT_ID = "H1249_0000_GR3.JP2"
RELEASE_ID = 0017
REVISION_ID = 0000
/* QUALITY DATA ELEMENTS */
DATA_QUALITY_ID = 1
DATA_QUALITY_DESC = "Data calculated based on original SPICE kernels"
/* TIME DATA ELEMENTS */
SPACECRAFT_CLOCK_START_COUNT = "1/0053176682.57151"
SPACECRAFT_CLOCK_STOP_COUNT = "1/0053176926.14617"
START_TIME = 2005-01-07T11:18:34.907Z
STOP_TIME = 2005-01-07T11:21:38.814Z
/* ORBITAL DATA ELEMENTS */
ASCENDING_NODE_LONGITUDE = 202.41
MAXIMUM_RESOLUTION = 98.9
FOOTPRINT_POINT_LATITUDE = (44.9208,44.9183,44.9152,44.9118, 44.9079,44.8847,44.6385,44.392,44.1455, 43.8988,43.6548,43.4164,43.178,42.9395, 42.7009,42.3428,42.104,41.865,41.626, 41.3869,41.1478,40.9086,40.6694,40.4301 ,40.1908,39.8318,39.4726,39.2331, 38.9936,38.6342,38.2746,38.0348,37.7952 ,37.4357,37.1961,36.9562,36.5969, 36.3572,36.1174,35.8778,35.638,35.3982, 35.0386,34.7989,34.559,34.3196,34.0796, 33.8406,33.6009,33.3614,33.0024,32.7734 ,32.7747,32.7758,32.7769,33.0177, 33.2562,33.4959,33.7357,33.9759,34.2163 ,34.457,34.697,35.057,35.297,35.5367, 35.7768,36.0168,36.2569,36.497,36.7371, 36.9772,37.3372,37.5774,37.8175,38.1774 ,38.4175,38.7774,39.0174,39.3772, 39.6172,39.8568,40.0967,40.4565,40.8159 ,41.0554,41.4147,41.6542,42.0132, 42.2526,42.4918,42.8505,43.0897,43.3286 ,43.6869,44.0555,44.3026,44.5496, 44.7965,44.9208)
FOOTPRINT_POINT_LONGITUDE = (348.681,348.449,348.219,347.992, 347.766,347.346,347.361,347.376,347.39, 347.404,347.417,347.43,347.442,347.454, 347.466,347.484,347.495,347.507,347.518 ,347.528,347.539,347.549,347.559, 347.569,347.578,347.592,347.605,347.614 ,347.622,347.635,347.646,347.654, 347.662,347.672,347.679,347.686,347.696 ,347.702,347.708,347.714,347.72,347.725 ,347.733,347.739,347.744,347.748, 347.753,347.757,347.762,347.766,347.772 ,347.918,348.112,348.405,348.776, 349.085,349.089,349.087,349.085,349.082 ,349.077,349.07,349.068,349.065,349.063 ,349.062,349.059,349.057,349.055, 349.052,349.049,349.047,349.043,349.04, 349.038,349.034,349.031,349.027,349.024 ,349.02,349.017,349.015,349.011,349.005 ,349.001,348.998,348.994,348.99,348.985 ,348.981,348.978,348.972,348.967, 348.964,348.958,348.951,348.947,348.943 ,348.939,348.681)
ORBIT_NUMBER = 1249
ORBITAL_ECCENTRICITY = 0.57
ORBITAL_INCLINATION = 86.62
ORBITAL_SEMIMAJOR_AXIS = 8585.33
PERIAPSIS_ALTITUDE = 305.34
PERIAPSIS_ARGUMENT_ANGLE = 141.2
PERIAPSIS_TIME = 2005-01-07T11:20:13.000Z
SPACECRAFT_ORIENTATION = (0.0,-1.0,0.0)
^MEX_ORIENTATION_DESC = "MEX_ORIENTATION_DESC.TXT"
SPACECRAFT_POINTING_MODE = ACROSSTRACK
^MEX_POINTING_DESC = "MEX_POINTING_DESC.TXT"
RIGHT_ASCENSION = -1e+32
DECLINATION = -1e+32
OFFSET_ANGLE = 0.6
SPACECRAFT_SOLAR_DISTANCE = 2.33572e+08
TARGET_NAME = MARS
/* CAMERA DATA ELEMENTS */
DETECTOR_TEMPERATURE = 17.9627
FOCAL_PLANE_TEMPERATURE = 8.3794
INST_CMPRS_NAME = "DISCRETE COSINE TRANSFORMATION (DCT)"
INST_CMPRS_RATIO = 21.5664
INST_CMPRS_QUALITY = 0
INST_CMPRS_QUANTZ_TBL_ID = 0
INSTRUMENT_TEMPERATURE = 10.8262
LENS_TEMPERATURE = 8.5833
MACROPIXEL_SIZE = 8
MISSING_FRAMES = 0
PIXEL_SUBSAMPLING_FLAG = N
SIGNAL_CHAIN_ID = 2
/* RADIOMETRIC DATA ELEMENTS */
BANDWIDTH = 88.0
CENTER_FILTER_WAVELENGTH = 538.0
RADIANCE_OFFSET = 1.70834
RADIANCE_SCALING_FACTOR = 0.00607907
REFLECTANCE_SCALING_FACTOR = 0.000285541
MEX:REFLECTANCE_OFFSET = 0.0802429
/* IMAGE OBJECT DEFINITIONS */
OBJECT = IMAGE
  INTERCHANGE_FORMAT = BINARY
  LINES = 7207
  LINE_SAMPLES = 853
  SAMPLE_TYPE = UNSIGNED_INTEGER
  SAMPLE_BITS = 8
  BANDS = 1
  BAND_STORAGE_TYPE = BAND_SEQUENTIAL
  MAXIMUM = 106
  MEAN = 74.5455
  MINIMUM = 53
  STANDARD_DEVIATION = 12.4319
END_OBJECT = IMAGE
/* MAP OBJECT DEFINITIONS */
OBJECT = IMAGE_MAP_PROJECTION
  ^DATA_SET_MAP_PROJECTION_CATALOG= "DSMAP.CAT"
  A_AXIS_RADIUS = 3396.0
  B_AXIS_RADIUS = 3396.0
  C_AXIS_RADIUS = 3396.0
  CENTER_LATITUDE = 0.0
  CENTER_LONGITUDE = 348.0
  COORDINATE_SYSTEM_NAME = PLANETOGRAPHIC
  COORDINATE_SYSTEM_TYPE = "BODY-FIXED ROTATING"
  EASTERNMOST_LONGITUDE = 349.089
  FIRST_STANDARD_PARALLEL = "N/A"
  LINE_FIRST_PIXEL = 1
  LINE_LAST_PIXEL = 7207
  LINE_PROJECTION_OFFSET = 26629.5625
  MAP_PROJECTION_ROTATION = 0.0
  MAP_PROJECTION_TYPE = SINUSOIDAL
  MAP_RESOLUTION = 592.713803866667
  MAP_SCALE = 0.1
  MAXIMUM_LATITUDE = 44.9208
  MINIMUM_LATITUDE = 32.7734
  POSITIVE_LONGITUDE_DIRECTION = EAST
  REFERENCE_LATITUDE = "N/A"
  REFERENCE_LONGITUDE = "N/A"
  SAMPLE_FIRST_PIXEL = 1
  SAMPLE_LAST_PIXEL = 853
  SAMPLE_PROJECTION_OFFSET = 283.3125
  SECOND_STANDARD_PARALLEL = "N/A"
  WESTERNMOST_LONGITUDE = 347.346
END_OBJECT = IMAGE_MAP_PROJECTION
/* The JPEG2000 image data file associated with this label. */
OBJECT = COMPRESSED_FILE
  FILE_NAME = "H1249_0000_GR3.JP2"
  RECORD_TYPE = UNDEFINED
  FILE_RECORDS = UNK
  ENCODING_TYPE = "JP2"
  INTERCHANGE_FORMAT = BINARY
  UNCOMPRESSED_FILE_NAME = "H1249_0000_GR3.IMG"
  REQUIRED_STORAGE_BYTES = "6165484"
  ^DESCRIPTION = "JP2INFO.TXT"
END_OBJECT = COMPRESSED_FILE
END
