PDS_VERSION_ID = PDS3
/* FILE DATA ELEMENTS */
RECORD_TYPE = STREAM
/* POINTERS TO DATA OBJECTS */
^COMPRESSED_FILE = "H1251_0000_P13.JP2"
/* IDENTIFICATION DATA ELEMENTS */
DATA_SET_ID = "MEX-M-HRSC-5-REFDR-MAPPROJECTED-V3.0"
DATA_SET_NAME = "MARS EXPRESS HRSC MAP PROJECTED REFDR V3.0"
DETECTOR_ID = MEX_HRSC_P1
EVENT_TYPE = "MARS-REGIONAL-MAPPING-Vo-Fl"
INSTRUMENT_HOST_ID = MEX
INSTRUMENT_HOST_NAME = "MARS EXPRESS"
INSTRUMENT_ID = HRSC
INSTRUMENT_NAME = "HIGH RESOLUTION STEREO CAMERA"
MISSION_NAME = "MARS EXPRESS"
MISSION_PHASE_NAME = MR_Phase_4
PROCESSING_LEVEL_ID = 3
PRODUCT_CREATION_TIME = 2016-03-04T20:31:26.000Z
PRODUCT_ID = "H1251_0000_P13.JP2"
RELEASE_ID = 0017
REVISION_ID = 0000
/* QUALITY DATA ELEMENTS */
DATA_QUALITY_ID = 1
DATA_QUALITY_DESC = "Data calculated based on original SPICE kernels"
/* TIME DATA ELEMENTS */
SPACECRAFT_CLOCK_START_COUNT = "1/0053225231.56193"
SPACECRAFT_CLOCK_STOP_COUNT = "1/0053225593.48051"
START_TIME = 2005-01-08T00:47:28.990Z
STOP_TIME = 2005-01-08T00:52:13.635Z
/* ORBITAL DATA ELEMENTS */
ASCENDING_NODE_LONGITUDE = 202.36
MAXIMUM_RESOLUTION = 50.7
FOOTPRINT_POINT_LATITUDE = (34.8021,34.8039,34.8041,34.763,34.2509 ,33.9094,33.5683,33.2299,32.8928, 32.5573,32.22,31.8797,31.5378,31.1933, 30.8452,30.492,30.1381,29.7841,29.2536, 28.7239,28.1934,27.6631,27.3041,26.9397 ,26.574,26.2095,25.8444,25.4787,25.114, 24.7373,24.3601,23.9833,23.606,23.2286, 22.6479,22.2594,21.6766,21.2837,20.8835 ,20.4838,20.0845,19.6816,19.277,18.8709 ,18.4572,18.03,17.606,17.1837,16.9679, 16.5371,16.106,16.0159,16.0081,15.9999, 15.9943,16.4252,16.6409,16.8568,17.2865 ,17.7071,18.1284,18.5489,18.9592, 19.3698,19.9839,20.3834,20.783,21.1833, 21.5788,22.162,22.7455,23.1346,23.5114, 23.8889,24.4552,24.8326,25.3889,25.937, 26.3024,26.6683,27.034,27.5789,28.1099, 28.4639,28.818,29.1725,29.704,30.0585, 30.5902,30.9349,31.2771,31.6187,31.96, 32.4726,32.985,33.3266,33.8392,34.1809, 34.5225,34.8021)
FOOTPRINT_POINT_LONGITUDE = (151.966,151.581,151.2,150.911,150.923, 150.931,150.938,150.946,150.953,150.96, 150.966,150.972,150.978,150.983,150.987 ,150.991,150.996,151.0,151.006,151.011, 151.015,151.019,151.021,151.023,151.025 ,151.026,151.027,151.028,151.028, 151.028,151.028,151.028,151.027,151.026 ,151.024,151.022,151.019,151.016, 151.014,151.01,151.007,151.004,151.0, 150.997,150.992,150.985,150.979,150.974 ,150.971,150.964,150.958,151.263, 151.721,152.115,152.408,152.404,152.402 ,152.401,152.397,152.393,152.389, 152.385,152.382,152.378,152.372,152.368 ,152.365,152.361,152.357,152.352, 152.346,152.343,152.34,152.336,152.331, 152.328,152.324,152.32,152.317,152.314, 152.311,152.307,152.302,152.299,152.296 ,152.293,152.288,152.284,152.279, 152.276,152.272,152.27,152.267,152.262, 152.258,152.254,152.249,152.245,152.241 ,151.966)
ORBIT_NUMBER = 1251
ORBITAL_ECCENTRICITY = 0.57
ORBITAL_INCLINATION = 86.61
ORBITAL_SEMIMAJOR_AXIS = 8586.54
PERIAPSIS_ALTITUDE = 305.89
PERIAPSIS_ARGUMENT_ANGLE = 140.88
PERIAPSIS_TIME = 2005-01-08T00:46:42.000Z
SPACECRAFT_ORIENTATION = (0.0,-1.0,0.0)
^MEX_ORIENTATION_DESC = "MEX_ORIENTATION_DESC.TXT"
SPACECRAFT_POINTING_MODE = ACROSSTRACK
^MEX_POINTING_DESC = "MEX_POINTING_DESC.TXT"
RIGHT_ASCENSION = -1e+32
DECLINATION = -1e+32
OFFSET_ANGLE = 0.42
SPACECRAFT_SOLAR_DISTANCE = 2.3347e+08
TARGET_NAME = MARS
/* CAMERA DATA ELEMENTS */
DETECTOR_TEMPERATURE = 17.351
FOCAL_PLANE_TEMPERATURE = 8.3794
INST_CMPRS_NAME = "DISCRETE COSINE TRANSFORMATION (DCT)"
INST_CMPRS_RATIO = 10.4256
INST_CMPRS_QUALITY = 0
INST_CMPRS_QUANTZ_TBL_ID = 0
INSTRUMENT_TEMPERATURE = 11.0301
LENS_TEMPERATURE = 8.7872
MACROPIXEL_SIZE = 4
MISSING_FRAMES = 0
PIXEL_SUBSAMPLING_FLAG = N
SIGNAL_CHAIN_ID = 3
/* RADIOMETRIC DATA ELEMENTS */
BANDWIDTH = 174.0
CENTER_FILTER_WAVELENGTH = 675.0
RADIANCE_OFFSET = 8.59277
RADIANCE_SCALING_FACTOR = 0.0177353
REFLECTANCE_SCALING_FACTOR = 0.000519978
MEX:REFLECTANCE_OFFSET = 0.251929
/* IMAGE OBJECT DEFINITIONS */
OBJECT = IMAGE
  INTERCHANGE_FORMAT = BINARY
  LINES = 22243
  LINE_SAMPLES = 1798
  SAMPLE_TYPE = UNSIGNED_INTEGER
  SAMPLE_BITS = 8
  BANDS = 1
  BAND_STORAGE_TYPE = BAND_SEQUENTIAL
  MAXIMUM = 268
  MEAN = 224.747
  MINIMUM = 149
  STANDARD_DEVIATION = 11.8932
END_OBJECT = IMAGE
/* MAP OBJECT DEFINITIONS */
OBJECT = IMAGE_MAP_PROJECTION
  ^DATA_SET_MAP_PROJECTION_CATALOG= "DSMAP.CAT"
  A_AXIS_RADIUS = 3396.0
  B_AXIS_RADIUS = 3396.0
  C_AXIS_RADIUS = 3396.0
  CENTER_LATITUDE = 0.0
  CENTER_LONGITUDE = 152.0
  COORDINATE_SYSTEM_NAME = PLANETOGRAPHIC
  COORDINATE_SYSTEM_TYPE = "BODY-FIXED ROTATING"
  EASTERNMOST_LONGITUDE = 152.408
  FIRST_STANDARD_PARALLEL = "N/A"
  LINE_FIRST_PIXEL = 1
  LINE_LAST_PIXEL = 22243
  LINE_PROJECTION_OFFSET = 41223.875
  MAP_PROJECTION_ROTATION = 0.0
  MAP_PROJECTION_TYPE = SINUSOIDAL
  MAP_RESOLUTION = 1185.42760773333
  MAP_SCALE = 0.05
  MAXIMUM_LATITUDE = 34.8041
  MINIMUM_LATITUDE = 15.9943
  POSITIVE_LONGITUDE_DIRECTION = EAST
  REFERENCE_LATITUDE = "N/A"
  REFERENCE_LONGITUDE = "N/A"
  SAMPLE_FIRST_PIXEL = 1
  SAMPLE_LAST_PIXEL = 1798
  SAMPLE_PROJECTION_OFFSET = 1245.125
  SECOND_STANDARD_PARALLEL = "N/A"
  WESTERNMOST_LONGITUDE = 150.911
END_OBJECT = IMAGE_MAP_PROJECTION
/* The JPEG2000 image data file associated with this label. */
OBJECT = COMPRESSED_FILE
  FILE_NAME = "H1251_0000_P13.JP2"
  RECORD_TYPE = UNDEFINED
  FILE_RECORDS = UNK
  ENCODING_TYPE = "JP2"
  INTERCHANGE_FORMAT = BINARY
  UNCOMPRESSED_FILE_NAME = "H1251_0000_P13.IMG"
  REQUIRED_STORAGE_BYTES = "40012692"
  ^DESCRIPTION = "JP2INFO.TXT"
END_OBJECT = COMPRESSED_FILE
END
