PDS_VERSION_ID = PDS3
/* FILE DATA ELEMENTS */
RECORD_TYPE = STREAM
/* POINTERS TO DATA OBJECTS */
^COMPRESSED_FILE = "H1257_0000_IR3.JP2"
/* IDENTIFICATION DATA ELEMENTS */
DATA_SET_ID = "MEX-M-HRSC-5-REFDR-MAPPROJECTED-V3.0"
DATA_SET_NAME = "MARS EXPRESS HRSC MAP PROJECTED REFDR V3.0"
DETECTOR_ID = MEX_HRSC_IR
EVENT_TYPE = "MARS-REGIONAL-MAPPING-Vo-Te-Fl"
INSTRUMENT_HOST_ID = MEX
INSTRUMENT_HOST_NAME = "MARS EXPRESS"
INSTRUMENT_ID = HRSC
INSTRUMENT_NAME = "HIGH RESOLUTION STEREO CAMERA"
MISSION_NAME = "MARS EXPRESS"
MISSION_PHASE_NAME = MR_Phase_4
PROCESSING_LEVEL_ID = 3
PRODUCT_CREATION_TIME = 2016-03-04T20:31:26.000Z
PRODUCT_ID = "H1257_0000_IR3.JP2"
RELEASE_ID = 0017
REVISION_ID = 0000
/* QUALITY DATA ELEMENTS */
DATA_QUALITY_ID = 1
DATA_QUALITY_DESC = "Data calculated based on original SPICE kernels"
/* TIME DATA ELEMENTS */
SPACECRAFT_CLOCK_START_COUNT = "1/0053370435.56212"
SPACECRAFT_CLOCK_STOP_COUNT = "1/0053370716.38045"
START_TIME = 2005-01-09T17:07:28.489Z
STOP_TIME = 2005-01-09T17:10:53.661Z
/* ORBITAL DATA ELEMENTS */
ASCENDING_NODE_LONGITUDE = 202.24
MAXIMUM_RESOLUTION = 103.9
FOOTPRINT_POINT_LATITUDE = (33.0968,33.065,33.0304,32.9548,32.7023 ,32.4507,32.0732,31.6945,31.4418, 31.1894,30.8116,30.5576,30.305,30.0499, 29.7887,29.397,29.1358,28.8747,28.4826, 28.2212,27.9597,27.698,27.3059,27.0373, 26.6323,26.3621,26.0919,25.6867,25.2821 ,25.0121,24.5947,24.3165,24.0386, 23.7603,23.4826,23.2047,22.9212,22.6351 ,22.3488,22.0626,21.7765,21.4906, 21.2048,20.9189,20.6332,20.3478,20.0629 ,19.6356,19.386,19.4031,19.4183,19.4555 ,19.4824,19.7676,20.195,20.4813,20.7681 ,21.1973,21.626,21.9118,22.1984,22.6282 ,22.9149,23.2018,23.4802,23.7583, 24.0368,24.3166,24.5947,24.8757,25.153, 25.5579,25.8281,26.0985,26.369,26.6396, 26.9103,27.1811,27.579,27.838,28.1028, 28.3638,28.6256,28.8876,29.2804,29.5417 ,29.8031,30.0645,30.3235,30.5761,30.829 ,31.0818,31.335,31.588,31.8406,32.0936, 32.346,32.5979,32.8517,33.0968)
FOOTPRINT_POINT_LONGITUDE = (280.552,280.167,279.769,279.19,279.201 ,279.213,279.23,279.245,279.255,279.265 ,279.28,279.287,279.296,279.305,279.314 ,279.327,279.335,279.343,279.355, 279.362,279.369,279.375,279.385,279.39, 279.399,279.405,279.41,279.417,279.425, 279.429,279.435,279.44,279.444,279.448, 279.452,279.455,279.458,279.462,279.464 ,279.467,279.469,279.472,279.473, 279.475,279.476,279.478,279.479,279.48, 279.481,279.717,279.937,280.501,280.914 ,280.908,280.899,280.893,280.888, 280.879,280.869,280.863,280.856,280.847 ,280.84,280.833,280.827,280.82,280.813, 280.807,280.8,280.794,280.787,280.776, 280.769,280.762,280.755,280.748,280.741 ,280.733,280.722,280.713,280.707, 280.699,280.691,280.683,280.671,280.663 ,280.654,280.646,280.637,280.629,280.62 ,280.611,280.603,280.594,280.585, 280.576,280.567,280.557,280.548, 280.552)
ORBIT_NUMBER = 1257
ORBITAL_ECCENTRICITY = 0.57
ORBITAL_INCLINATION = 86.61
ORBITAL_SEMIMAJOR_AXIS = 8590.07
PERIAPSIS_ALTITUDE = 305.74
PERIAPSIS_ARGUMENT_ANGLE = 139.8
PERIAPSIS_TIME = 2005-01-09T17:06:04.000Z
SPACECRAFT_ORIENTATION = (0.0,-1.0,0.0)
^MEX_ORIENTATION_DESC = "MEX_ORIENTATION_DESC.TXT"
SPACECRAFT_POINTING_MODE = ACROSSTRACK
^MEX_POINTING_DESC = "MEX_POINTING_DESC.TXT"
RIGHT_ASCENSION = -1e+32
DECLINATION = -1e+32
OFFSET_ANGLE = -1.2
SPACECRAFT_SOLAR_DISTANCE = 2.3316e+08
TARGET_NAME = MARS
/* CAMERA DATA ELEMENTS */
DETECTOR_TEMPERATURE = 17.351
FOCAL_PLANE_TEMPERATURE = 8.1755
INST_CMPRS_NAME = "DISCRETE COSINE TRANSFORMATION (DCT)"
INST_CMPRS_RATIO = 23.1197
INST_CMPRS_QUALITY = 0
INST_CMPRS_QUANTZ_TBL_ID = 0
INSTRUMENT_TEMPERATURE = 10.8262
LENS_TEMPERATURE = 8.5833
MACROPIXEL_SIZE = 8
MISSING_FRAMES = 0
PIXEL_SUBSAMPLING_FLAG = N
SIGNAL_CHAIN_ID = 2
/* RADIOMETRIC DATA ELEMENTS */
BANDWIDTH = 81.0
CENTER_FILTER_WAVELENGTH = 955.5
RADIANCE_OFFSET = 2.36258
RADIANCE_SCALING_FACTOR = 0.00510248
REFLECTANCE_SCALING_FACTOR = 0.000598434
MEX:REFLECTANCE_OFFSET = 0.277091
/* IMAGE OBJECT DEFINITIONS */
OBJECT = IMAGE
  INTERCHANGE_FORMAT = BINARY
  LINES = 8066
  LINE_SAMPLES = 1010
  SAMPLE_TYPE = UNSIGNED_INTEGER
  SAMPLE_BITS = 8
  BANDS = 1
  BAND_STORAGE_TYPE = BAND_SEQUENTIAL
  MAXIMUM = 112
  MEAN = 90.9798
  MINIMUM = 53
  STANDARD_DEVIATION = 2.94571
END_OBJECT = IMAGE
/* MAP OBJECT DEFINITIONS */
OBJECT = IMAGE_MAP_PROJECTION
  ^DATA_SET_MAP_PROJECTION_CATALOG= "DSMAP.CAT"
  A_AXIS_RADIUS = 3396.0
  B_AXIS_RADIUS = 3396.0
  C_AXIS_RADIUS = 3396.0
  CENTER_LATITUDE = 0.0
  CENTER_LONGITUDE = 280.0
  COORDINATE_SYSTEM_NAME = PLANETOGRAPHIC
  COORDINATE_SYSTEM_TYPE = "BODY-FIXED ROTATING"
  EASTERNMOST_LONGITUDE = 280.914
  FIRST_STANDARD_PARALLEL = "N/A"
  LINE_FIRST_PIXEL = 1
  LINE_LAST_PIXEL = 8066
  LINE_PROJECTION_OFFSET = 19579.6875
  MAP_PROJECTION_ROTATION = 0.0
  MAP_PROJECTION_TYPE = SINUSOIDAL
  MAP_RESOLUTION = 592.713803866667
  MAP_SCALE = 0.1
  MAXIMUM_LATITUDE = 33.0968
  MINIMUM_LATITUDE = 19.386
  POSITIVE_LONGITUDE_DIRECTION = EAST
  REFERENCE_LATITUDE = "N/A"
  REFERENCE_LONGITUDE = "N/A"
  SAMPLE_FIRST_PIXEL = 1
  SAMPLE_LAST_PIXEL = 1010
  SAMPLE_PROJECTION_OFFSET = 481.1875
  SECOND_STANDARD_PARALLEL = "N/A"
  WESTERNMOST_LONGITUDE = 279.19
END_OBJECT = IMAGE_MAP_PROJECTION
/* The JPEG2000 image data file associated with this label. */
OBJECT = COMPRESSED_FILE
  FILE_NAME = "H1257_0000_IR3.JP2"
  RECORD_TYPE = UNDEFINED
  FILE_RECORDS = UNK
  ENCODING_TYPE = "JP2"
  INTERCHANGE_FORMAT = BINARY
  UNCOMPRESSED_FILE_NAME = "H1257_0000_IR3.IMG"
  REQUIRED_STORAGE_BYTES = "8164840"
  ^DESCRIPTION = "JP2INFO.TXT"
END_OBJECT = COMPRESSED_FILE
END
