PDS_VERSION_ID = PDS3
/* FILE DATA ELEMENTS */
RECORD_TYPE = STREAM
/* POINTERS TO DATA OBJECTS */
^COMPRESSED_FILE = "H1257_0000_P23.JP2"
/* IDENTIFICATION DATA ELEMENTS */
DATA_SET_ID = "MEX-M-HRSC-5-REFDR-MAPPROJECTED-V3.0"
DATA_SET_NAME = "MARS EXPRESS HRSC MAP PROJECTED REFDR V3.0"
DETECTOR_ID = MEX_HRSC_P2
EVENT_TYPE = "MARS-REGIONAL-MAPPING-Vo-Te-Fl"
INSTRUMENT_HOST_ID = MEX
INSTRUMENT_HOST_NAME = "MARS EXPRESS"
INSTRUMENT_ID = HRSC
INSTRUMENT_NAME = "HIGH RESOLUTION STEREO CAMERA"
MISSION_NAME = "MARS EXPRESS"
MISSION_PHASE_NAME = MR_Phase_4
PROCESSING_LEVEL_ID = 3
PRODUCT_CREATION_TIME = 2016-03-04T20:31:26.000Z
PRODUCT_ID = "H1257_0000_P23.JP2"
RELEASE_ID = 0017
REVISION_ID = 0000
/* QUALITY DATA ELEMENTS */
DATA_QUALITY_ID = 1
DATA_QUALITY_DESC = "Data calculated based on original SPICE kernels"
/* TIME DATA ELEMENTS */
SPACECRAFT_CLOCK_START_COUNT = "1/0053370435.56212"
SPACECRAFT_CLOCK_STOP_COUNT = "1/0053370716.38045"
START_TIME = 2005-01-09T17:08:11.161Z
STOP_TIME = 2005-01-09T17:11:48.202Z
/* ORBITAL DATA ELEMENTS */
ASCENDING_NODE_LONGITUDE = 202.24
MAXIMUM_RESOLUTION = 52.6
FOOTPRINT_POINT_LATITUDE = (32.9774,32.9865,33.0149,32.6215, 32.3593,32.0964,31.8344,31.5732,31.3121 ,30.9213,30.5305,30.0045,29.7362, 29.4682,29.2007,28.9332,28.6663,28.3999 ,28.1337,27.8619,27.5881,27.3144, 27.0413,26.6332,26.3604,26.083,25.8031, 25.5235,25.2442,24.9657,24.6875,24.4099 ,23.9942,23.5785,23.3023,23.0266, 22.7512,22.4764,22.2021,21.9283,21.655, 21.3821,21.1098,20.8381,20.5668,20.2959 ,20.0253,19.7553,19.4858,19.4286,19.412 ,19.3953,19.6654,19.9361,20.2073, 20.6137,20.8855,21.1579,21.4313,21.7054 ,21.9795,22.254,22.5291,22.8046,23.0806 ,23.3571,23.634,23.9115,24.3271,24.6058 ,24.883,25.1619,25.4419,25.7221,26.0026 ,26.2818,26.5544,26.8274,27.1007, 27.3744,27.6494,28.0598,28.3269,28.5939 ,28.8611,29.1287,29.3972,29.6657, 29.9344,30.2026,30.5939,30.855,31.1163, 31.3777,31.7706,32.0329,32.4271,32.6903 ,32.9526,32.9774)
FOOTPRINT_POINT_LONGITUDE = (280.177,279.767,279.16,279.176,279.187 ,279.199,279.21,279.219,279.229,279.242 ,279.256,279.272,279.28,279.289,279.296 ,279.304,279.312,279.318,279.325, 279.331,279.337,279.343,279.348,279.355 ,279.361,279.365,279.37,279.374,279.379 ,279.382,279.386,279.389,279.393, 279.398,279.401,279.403,279.406,279.408 ,279.409,279.411,279.412,279.413, 279.414,279.414,279.414,279.415,279.415 ,279.415,279.414,280.024,280.486, 280.969,280.963,280.956,280.95,280.94, 280.934,280.927,280.92,280.913,280.906, 280.9,280.892,280.885,280.878,280.871, 280.863,280.856,280.845,280.837,280.83, 280.823,280.815,280.806,280.798,280.79, 280.782,280.774,280.766,280.758,280.749 ,280.736,280.728,280.719,280.71,280.702 ,280.692,280.683,280.674,280.664,280.65 ,280.641,280.632,280.622,280.607, 280.598,280.582,280.572,280.562, 280.177)
ORBIT_NUMBER = 1257
ORBITAL_ECCENTRICITY = 0.57
ORBITAL_INCLINATION = 86.61
ORBITAL_SEMIMAJOR_AXIS = 8590.07
PERIAPSIS_ALTITUDE = 305.74
PERIAPSIS_ARGUMENT_ANGLE = 139.8
PERIAPSIS_TIME = 2005-01-09T17:06:04.000Z
SPACECRAFT_ORIENTATION = (0.0,-1.0,0.0)
^MEX_ORIENTATION_DESC = "MEX_ORIENTATION_DESC.TXT"
SPACECRAFT_POINTING_MODE = ACROSSTRACK
^MEX_POINTING_DESC = "MEX_POINTING_DESC.TXT"
RIGHT_ASCENSION = -1e+32
DECLINATION = -1e+32
OFFSET_ANGLE = -1.2
SPACECRAFT_SOLAR_DISTANCE = 2.3316e+08
TARGET_NAME = MARS
/* CAMERA DATA ELEMENTS */
DETECTOR_TEMPERATURE = 18.1666
FOCAL_PLANE_TEMPERATURE = 8.1755
INST_CMPRS_NAME = "DISCRETE COSINE TRANSFORMATION (DCT)"
INST_CMPRS_RATIO = 10.4286
INST_CMPRS_QUALITY = 0
INST_CMPRS_QUANTZ_TBL_ID = 0
INSTRUMENT_TEMPERATURE = 10.8262
LENS_TEMPERATURE = 8.5833
MACROPIXEL_SIZE = 4
MISSING_FRAMES = 0
PIXEL_SUBSAMPLING_FLAG = N
SIGNAL_CHAIN_ID = 3
/* RADIOMETRIC DATA ELEMENTS */
BANDWIDTH = 177.0
CENTER_FILTER_WAVELENGTH = 676.5
RADIANCE_OFFSET = 8.92742
RADIANCE_SCALING_FACTOR = 0.0173551
REFLECTANCE_SCALING_FACTOR = 0.000500258
MEX:REFLECTANCE_OFFSET = 0.257331
/* IMAGE OBJECT DEFINITIONS */
OBJECT = IMAGE
  INTERCHANGE_FORMAT = BINARY
  LINES = 16132
  LINE_SAMPLES = 2019
  SAMPLE_TYPE = UNSIGNED_INTEGER
  SAMPLE_BITS = 8
  BANDS = 1
  BAND_STORAGE_TYPE = BAND_SEQUENTIAL
  MAXIMUM = 179
  MEAN = 146.894
  MINIMUM = 67
  STANDARD_DEVIATION = 4.27553
END_OBJECT = IMAGE
/* MAP OBJECT DEFINITIONS */
OBJECT = IMAGE_MAP_PROJECTION
  ^DATA_SET_MAP_PROJECTION_CATALOG= "DSMAP.CAT"
  A_AXIS_RADIUS = 3396.0
  B_AXIS_RADIUS = 3396.0
  C_AXIS_RADIUS = 3396.0
  CENTER_LATITUDE = 0.0
  CENTER_LONGITUDE = 280.0
  COORDINATE_SYSTEM_NAME = PLANETOGRAPHIC
  COORDINATE_SYSTEM_TYPE = "BODY-FIXED ROTATING"
  EASTERNMOST_LONGITUDE = 280.969
  FIRST_STANDARD_PARALLEL = "N/A"
  LINE_FIRST_PIXEL = 1
  LINE_LAST_PIXEL = 16132
  LINE_PROJECTION_OFFSET = 39159.875
  MAP_PROJECTION_ROTATION = 0.0
  MAP_PROJECTION_TYPE = SINUSOIDAL
  MAP_RESOLUTION = 1185.42760773333
  MAP_SCALE = 0.05
  MAXIMUM_LATITUDE = 33.0149
  MINIMUM_LATITUDE = 19.3953
  POSITIVE_LONGITUDE_DIRECTION = EAST
  REFERENCE_LATITUDE = "N/A"
  REFERENCE_LONGITUDE = "N/A"
  SAMPLE_FIRST_PIXEL = 1
  SAMPLE_LAST_PIXEL = 2019
  SAMPLE_PROJECTION_OFFSET = 962.875
  SECOND_STANDARD_PARALLEL = "N/A"
  WESTERNMOST_LONGITUDE = 279.16
END_OBJECT = IMAGE_MAP_PROJECTION
/* The JPEG2000 image data file associated with this label. */
OBJECT = COMPRESSED_FILE
  FILE_NAME = "H1257_0000_P23.JP2"
  RECORD_TYPE = UNDEFINED
  FILE_RECORDS = UNK
  ENCODING_TYPE = "JP2"
  INTERCHANGE_FORMAT = BINARY
  UNCOMPRESSED_FILE_NAME = "H1257_0000_P23.IMG"
  REQUIRED_STORAGE_BYTES = "32590698"
  ^DESCRIPTION = "JP2INFO.TXT"
END_OBJECT = COMPRESSED_FILE
END
