PDS_VERSION_ID = PDS3
/* FILE DATA ELEMENTS */
RECORD_TYPE = STREAM
/* POINTERS TO DATA OBJECTS */
^COMPRESSED_FILE = "H1258_0000_S13.JP2"
/* IDENTIFICATION DATA ELEMENTS */
DATA_SET_ID = "MEX-M-HRSC-5-REFDR-MAPPROJECTED-V3.0"
DATA_SET_NAME = "MARS EXPRESS HRSC MAP PROJECTED REFDR V3.0"
DETECTOR_ID = MEX_HRSC_S1
EVENT_TYPE = "MARS-REGIONAL-MAPPING-Gl-Pf-Eo"
INSTRUMENT_HOST_ID = MEX
INSTRUMENT_HOST_NAME = "MARS EXPRESS"
INSTRUMENT_ID = HRSC
INSTRUMENT_NAME = "HIGH RESOLUTION STEREO CAMERA"
MISSION_NAME = "MARS EXPRESS"
MISSION_PHASE_NAME = MR_Phase_4
PROCESSING_LEVEL_ID = 3
PRODUCT_CREATION_TIME = 2016-03-04T20:31:26.000Z
PRODUCT_ID = "H1258_0000_S13.JP2"
RELEASE_ID = 0017
REVISION_ID = 0000
/* QUALITY DATA ELEMENTS */
DATA_QUALITY_ID = 1
DATA_QUALITY_DESC = "Data calculated based on original SPICE kernels"
/* TIME DATA ELEMENTS */
SPACECRAFT_CLOCK_START_COUNT = "1/0053393720.57926"
SPACECRAFT_CLOCK_STOP_COUNT = "1/0053394050.04911"
START_TIME = 2005-01-09T23:35:28.713Z
STOP_TIME = 2005-01-09T23:38:55.503Z
/* ORBITAL DATA ELEMENTS */
ASCENDING_NODE_LONGITUDE = 202.21
MAXIMUM_RESOLUTION = 54.7
FOOTPRINT_POINT_LATITUDE = (84.5996,84.4844,84.3619,84.2325, 84.0965,83.9541,83.8059,83.6521,83.4934 ,83.3296,83.161,82.9879,82.8106,82.6521 ,82.4817,82.3461,82.2084,81.9961, 81.7786,81.5564,81.3299,81.0998,80.8665 ,80.7092,80.5512,80.3122,80.0716, 79.9098,79.748,79.5039,79.3402,79.1767, 79.0121,78.8478,78.6829,78.5184,78.3531 ,78.1882,78.0226,77.8574,77.6916, 77.5265,77.2781,77.1135,76.8657,76.701, 76.4539,76.0421,75.6321,75.3048,75.0599 ,74.7359,74.5465,74.644,74.7219,74.8344 ,74.89,74.982,75.0655,75.2059,75.5519, 75.987,76.4261,76.7802,77.0465,77.2261, 77.405,77.6763,77.8569,78.0394,78.2214, 78.4048,78.5881,78.7731,79.05,79.2365, 79.4224,79.6102,79.7974,79.9865,80.2701 ,80.4595,80.6503,80.9369,81.1285,81.321 ,81.6099,81.8031,81.9972,82.2886, 82.5807,82.8734,83.1668,83.3625,83.5579 ,83.7538,84.0484,84.244,84.4396, 84.5996)
FOOTPRINT_POINT_LONGITUDE = (160.766,158.684,156.689,154.78,152.956 ,151.213,149.551,147.968,146.46,145.024 ,143.654,142.35,141.107,140.067,140.607 ,141.822,142.985,144.646,146.209,147.68 ,149.065,150.37,151.599,152.381,153.13, 154.203,155.215,155.861,156.481,157.37, 157.939,158.484,159.014,159.522,160.016 ,160.491,160.951,161.396,161.827, 162.243,162.648,163.038,163.602,163.963 ,164.485,164.821,165.304,166.065, 166.773,167.305,167.686,168.17,169.338, 170.371,171.25,172.618,173.348,174.655, 175.969,176.858,176.651,176.375,176.079 ,175.825,175.625,175.485,175.342, 175.117,174.96,174.798,174.631,174.457, 174.278,174.09,173.798,173.592,173.38, 173.157,172.926,172.685,172.304,172.037 ,171.756,171.312,170.999,170.669, 170.145,169.774,169.382,168.755,168.075 ,167.334,166.525,165.943,165.326, 164.664,163.578,162.792,161.945, 160.766)
ORBIT_NUMBER = 1258
ORBITAL_ECCENTRICITY = 0.57
ORBITAL_INCLINATION = 86.62
ORBITAL_SEMIMAJOR_AXIS = 8580.91
PERIAPSIS_ALTITUDE = 306.23
PERIAPSIS_ARGUMENT_ANGLE = 139.61
PERIAPSIS_TIME = 2005-01-09T23:49:15.000Z
SPACECRAFT_ORIENTATION = (0.0,-1.0,0.0)
^MEX_ORIENTATION_DESC = "MEX_ORIENTATION_DESC.TXT"
SPACECRAFT_POINTING_MODE = ACROSSTRACK
^MEX_POINTING_DESC = "MEX_POINTING_DESC.TXT"
RIGHT_ASCENSION = -1e+32
DECLINATION = -1e+32
OFFSET_ANGLE = -0.66
SPACECRAFT_SOLAR_DISTANCE = 2.33109e+08
TARGET_NAME = MARS
/* CAMERA DATA ELEMENTS */
DETECTOR_TEMPERATURE = 17.5549
FOCAL_PLANE_TEMPERATURE = 8.7872
INST_CMPRS_NAME = "DISCRETE COSINE TRANSFORMATION (DCT)"
INST_CMPRS_RATIO = 9.42587
INST_CMPRS_QUALITY = 0
INST_CMPRS_QUANTZ_TBL_ID = 0
INSTRUMENT_TEMPERATURE = 11.0301
LENS_TEMPERATURE = 8.7872
MACROPIXEL_SIZE = 2
MISSING_FRAMES = 0
PIXEL_SUBSAMPLING_FLAG = N
SIGNAL_CHAIN_ID = 1
/* RADIOMETRIC DATA ELEMENTS */
BANDWIDTH = 180.0
CENTER_FILTER_WAVELENGTH = 677.0
RADIANCE_OFFSET = 1.70472
RADIANCE_SCALING_FACTOR = 0.0441222
REFLECTANCE_SCALING_FACTOR = 0.0012509
MEX:REFLECTANCE_OFFSET = 0.0483303
/* IMAGE OBJECT DEFINITIONS */
OBJECT = IMAGE
  INTERCHANGE_FORMAT = BINARY
  LINES = 11548
  LINE_SAMPLES = 6843
  SAMPLE_TYPE = UNSIGNED_INTEGER
  SAMPLE_BITS = 8
  BANDS = 1
  BAND_STORAGE_TYPE = BAND_SEQUENTIAL
  MAXIMUM = 232
  MEAN = 101.355
  MINIMUM = 27
  STANDARD_DEVIATION = 61.7082
END_OBJECT = IMAGE
/* MAP OBJECT DEFINITIONS */
OBJECT = IMAGE_MAP_PROJECTION
  ^DATA_SET_MAP_PROJECTION_CATALOG= "DSMAP.CAT"
  A_AXIS_RADIUS = 3396.0
  B_AXIS_RADIUS = 3396.0
  C_AXIS_RADIUS = 3396.0
  CENTER_LATITUDE = 0.0
  CENTER_LONGITUDE = 166.0
  COORDINATE_SYSTEM_NAME = PLANETOGRAPHIC
  COORDINATE_SYSTEM_TYPE = "BODY-FIXED ROTATING"
  EASTERNMOST_LONGITUDE = 176.858
  FIRST_STANDARD_PARALLEL = "N/A"
  LINE_FIRST_PIXEL = 1
  LINE_LAST_PIXEL = 11548
  LINE_PROJECTION_OFFSET = 99947.25
  MAP_PROJECTION_ROTATION = 0.0
  MAP_PROJECTION_TYPE = SINUSOIDAL
  MAP_RESOLUTION = 1185.42760773333
  MAP_SCALE = 0.05
  MAXIMUM_LATITUDE = 84.5996
  MINIMUM_LATITUDE = 74.54649999999999
  POSITIVE_LONGITUDE_DIRECTION = EAST
  REFERENCE_LATITUDE = "N/A"
  REFERENCE_LONGITUDE = "N/A"
  SAMPLE_FIRST_PIXEL = 1
  SAMPLE_LAST_PIXEL = 6843
  SAMPLE_PROJECTION_OFFSET = 3669.75
  SECOND_STANDARD_PARALLEL = "N/A"
  WESTERNMOST_LONGITUDE = 140.067
END_OBJECT = IMAGE_MAP_PROJECTION
/* The JPEG2000 image data file associated with this label. */
OBJECT = COMPRESSED_FILE
  FILE_NAME = "H1258_0000_S13.JP2"
  RECORD_TYPE = UNDEFINED
  FILE_RECORDS = UNK
  ENCODING_TYPE = "JP2"
  INTERCHANGE_FORMAT = BINARY
  UNCOMPRESSED_FILE_NAME = "H1258_0000_S13.IMG"
  REQUIRED_STORAGE_BYTES = "79057179"
  ^DESCRIPTION = "JP2INFO.TXT"
END_OBJECT = COMPRESSED_FILE
END
