PDS_VERSION_ID = PDS3
/* FILE DATA ELEMENTS */
RECORD_TYPE = STREAM
/* POINTERS TO DATA OBJECTS */
^COMPRESSED_FILE = "H1260_0000_S23.JP2"
/* IDENTIFICATION DATA ELEMENTS */
DATA_SET_ID = "MEX-M-HRSC-5-REFDR-MAPPROJECTED-V3.0"
DATA_SET_NAME = "MARS EXPRESS HRSC MAP PROJECTED REFDR V3.0"
DETECTOR_ID = MEX_HRSC_S2
EVENT_TYPE = "MARS-LOCAL-MAPPING-Te-Lc-La"
INSTRUMENT_HOST_ID = MEX
INSTRUMENT_HOST_NAME = "MARS EXPRESS"
INSTRUMENT_ID = HRSC
INSTRUMENT_NAME = "HIGH RESOLUTION STEREO CAMERA"
MISSION_NAME = "MARS EXPRESS"
MISSION_PHASE_NAME = MR_Phase_4
PROCESSING_LEVEL_ID = 3
PRODUCT_CREATION_TIME = 2016-03-04T20:31:26.000Z
PRODUCT_ID = "H1260_0000_S23.JP2"
RELEASE_ID = 0017
REVISION_ID = 0000
/* QUALITY DATA ELEMENTS */
DATA_QUALITY_ID = 1
DATA_QUALITY_DESC = "Data calculated based on original SPICE kernels"
/* TIME DATA ELEMENTS */
SPACECRAFT_CLOCK_START_COUNT = "1/0053442842.57160"
SPACECRAFT_CLOCK_STOP_COUNT = "1/0053443082.14848"
START_TIME = 2005-01-10T13:15:06.381Z
STOP_TIME = 2005-01-10T13:18:07.987Z
/* ORBITAL DATA ELEMENTS */
ASCENDING_NODE_LONGITUDE = 202.18
MAXIMUM_RESOLUTION = 26.5
FOOTPRINT_POINT_LATITUDE = (44.6661,44.6496,44.6379,44.6261, 44.6141,44.6019,44.5895,44.3206,44.0821 ,43.8438,43.6054,43.2481,42.8906,42.653 ,42.4153,42.0589,41.7027,41.3473, 41.1103,40.874,40.6376,40.2828,40.0463, 39.6916,39.3372,39.1016,38.7483,38.5134 ,38.2786,38.0442,37.8092,37.457,37.2228 ,36.9891,36.7553,36.4053,36.0558, 35.9344,35.6939,35.5731,35.3327,35.0916 ,34.8519,34.7302,34.6092,34.369,34.1318 ,33.7744,33.5349,33.295,33.0573,32.8194 ,32.8242,32.8399,32.8495,32.8585, 32.8734,33.1114,33.3506,33.7083,34.0676 ,34.3078,34.5482,34.7897,35.1507,35.272 ,35.5115,35.6339,35.8734,36.1152,36.349 ,36.6997,37.0525,37.2866,37.5216, 37.8745,38.2269,38.5789,38.9326,39.1683 ,39.5216,39.759,39.9954,40.2322,40.4695 ,40.7063,40.9435,41.1807,41.5368, 41.7744,42.1305,42.4875,42.7256,42.9638 ,43.2022,43.4411,43.7992,44.0382, 44.3968,44.6661)
FOOTPRINT_POINT_LONGITUDE = (347.699,347.358,347.122,346.889, 346.659,346.43,346.203,346.219,346.232, 346.244,346.256,346.273,346.29,346.301, 346.312,346.328,346.343,346.357,346.367 ,346.376,346.385,346.398,346.406, 346.418,346.43,346.437,346.448,346.455, 346.462,346.469,346.475,346.484,346.49, 346.496,346.501,346.509,346.517,346.52, 346.525,346.527,346.532,346.536,346.54, 346.543,346.545,346.549,346.552,346.558 ,346.561,346.564,346.568,346.57,346.768 ,347.128,347.411,347.629,347.965, 347.961,347.959,347.954,347.95,347.947, 347.944,347.942,347.938,347.937,347.932 ,347.932,347.928,347.925,347.922, 347.917,347.914,347.91,347.907,347.903, 347.897,347.891,347.886,347.882,347.876 ,347.873,347.869,347.865,347.862, 347.858,347.854,347.85,347.843,347.839, 347.832,347.825,347.821,347.816,347.811 ,347.807,347.799,347.795,347.787, 347.699)
ORBIT_NUMBER = 1260
ORBITAL_ECCENTRICITY = 0.57
ORBITAL_INCLINATION = 86.62
ORBITAL_SEMIMAJOR_AXIS = 8582.14
PERIAPSIS_ALTITUDE = 306.39
PERIAPSIS_ARGUMENT_ANGLE = 139.23
PERIAPSIS_TIME = 2005-01-10T13:15:39.000Z
SPACECRAFT_ORIENTATION = (0.0,-1.0,0.0)
^MEX_ORIENTATION_DESC = "MEX_ORIENTATION_DESC.TXT"
SPACECRAFT_POINTING_MODE = ACROSSTRACK
^MEX_POINTING_DESC = "MEX_POINTING_DESC.TXT"
RIGHT_ASCENSION = -1e+32
DECLINATION = -1e+32
OFFSET_ANGLE = 0.6
SPACECRAFT_SOLAR_DISTANCE = 2.33005e+08
TARGET_NAME = MARS
/* CAMERA DATA ELEMENTS */
DETECTOR_TEMPERATURE = 18.9822
FOCAL_PLANE_TEMPERATURE = 8.5833
INST_CMPRS_NAME = "DISCRETE COSINE TRANSFORMATION (DCT)"
INST_CMPRS_RATIO = 9.86797
INST_CMPRS_QUALITY = 0
INST_CMPRS_QUANTZ_TBL_ID = 0
INSTRUMENT_TEMPERATURE = 11.4379
LENS_TEMPERATURE = 8.9911
MACROPIXEL_SIZE = 2
MISSING_FRAMES = 0
PIXEL_SUBSAMPLING_FLAG = N
SIGNAL_CHAIN_ID = 1
/* RADIOMETRIC DATA ELEMENTS */
BANDWIDTH = 178.0
CENTER_FILTER_WAVELENGTH = 679.0
RADIANCE_OFFSET = 5.2062
RADIANCE_SCALING_FACTOR = 0.0314414
REFLECTANCE_SCALING_FACTOR = 0.000903986
MEX:REFLECTANCE_OFFSET = 0.149686
/* IMAGE OBJECT DEFINITIONS */
OBJECT = IMAGE
  INTERCHANGE_FORMAT = BINARY
  LINES = 28180
  LINE_SAMPLES = 3340
  SAMPLE_TYPE = UNSIGNED_INTEGER
  SAMPLE_BITS = 8
  BANDS = 1
  BAND_STORAGE_TYPE = BAND_SEQUENTIAL
  MAXIMUM = 131
  MEAN = 81.9361
  MINIMUM = 45
  STANDARD_DEVIATION = 19.1538
END_OBJECT = IMAGE
/* MAP OBJECT DEFINITIONS */
OBJECT = IMAGE_MAP_PROJECTION
  ^DATA_SET_MAP_PROJECTION_CATALOG= "DSMAP.CAT"
  A_AXIS_RADIUS = 3396.0
  B_AXIS_RADIUS = 3396.0
  C_AXIS_RADIUS = 3396.0
  CENTER_LATITUDE = 0.0
  CENTER_LONGITUDE = 347.0
  COORDINATE_SYSTEM_NAME = PLANETOGRAPHIC
  COORDINATE_SYSTEM_TYPE = "BODY-FIXED ROTATING"
  EASTERNMOST_LONGITUDE = 347.965
  FIRST_STANDARD_PARALLEL = "N/A"
  LINE_FIRST_PIXEL = 1
  LINE_LAST_PIXEL = 28180
  LINE_PROJECTION_OFFSET = 105989.25
  MAP_PROJECTION_ROTATION = 0.0
  MAP_PROJECTION_TYPE = SINUSOIDAL
  MAP_RESOLUTION = 2370.85521546667
  MAP_SCALE = 0.025
  MAXIMUM_LATITUDE = 44.6661
  MINIMUM_LATITUDE = 32.8194
  POSITIVE_LONGITUDE_DIRECTION = EAST
  REFERENCE_LATITUDE = "N/A"
  REFERENCE_LONGITUDE = "N/A"
  SAMPLE_FIRST_PIXEL = 1
  SAMPLE_LAST_PIXEL = 3340
  SAMPLE_PROJECTION_OFFSET = 1371.25
  SECOND_STANDARD_PARALLEL = "N/A"
  WESTERNMOST_LONGITUDE = 346.203
END_OBJECT = IMAGE_MAP_PROJECTION
/* The JPEG2000 image data file associated with this label. */
OBJECT = COMPRESSED_FILE
  FILE_NAME = "H1260_0000_S23.JP2"
  RECORD_TYPE = UNDEFINED
  FILE_RECORDS = UNK
  ENCODING_TYPE = "JP2"
  INTERCHANGE_FORMAT = BINARY
  UNCOMPRESSED_FILE_NAME = "H1260_0000_S23.IMG"
  REQUIRED_STORAGE_BYTES = "94144580"
  ^DESCRIPTION = "JP2INFO.TXT"
END_OBJECT = COMPRESSED_FILE
END
