PDS_VERSION_ID = PDS3
/* FILE DATA ELEMENTS */
RECORD_TYPE = STREAM
/* POINTERS TO DATA OBJECTS */
^COMPRESSED_FILE = "H1262_0000_GR3.JP2"
/* IDENTIFICATION DATA ELEMENTS */
DATA_SET_ID = "MEX-M-HRSC-5-REFDR-MAPPROJECTED-V3.0"
DATA_SET_NAME = "MARS EXPRESS HRSC MAP PROJECTED REFDR V3.0"
DETECTOR_ID = MEX_HRSC_GREEN
EVENT_TYPE = "MARS-REGIONAL-MAPPING-Vo-Fl-Gl"
INSTRUMENT_HOST_ID = MEX
INSTRUMENT_HOST_NAME = "MARS EXPRESS"
INSTRUMENT_ID = HRSC
INSTRUMENT_NAME = "HIGH RESOLUTION STEREO CAMERA"
MISSION_NAME = "MARS EXPRESS"
MISSION_PHASE_NAME = MR_Phase_4
PROCESSING_LEVEL_ID = 3
PRODUCT_CREATION_TIME = 2016-03-04T20:31:26.000Z
PRODUCT_ID = "H1262_0000_GR3.JP2"
RELEASE_ID = 0017
REVISION_ID = 0000
/* QUALITY DATA ELEMENTS */
DATA_QUALITY_ID = 1
DATA_QUALITY_DESC = "Data calculated based on original SPICE kernels"
/* TIME DATA ELEMENTS */
SPACECRAFT_CLOCK_START_COUNT = "1/0053491307.56178"
SPACECRAFT_CLOCK_STOP_COUNT = "1/0053491744.23135"
START_TIME = 2005-01-11T02:42:18.969Z
STOP_TIME = 2005-01-11T02:48:18.853Z
/* ORBITAL DATA ELEMENTS */
ASCENDING_NODE_LONGITUDE = 202.13
MAXIMUM_RESOLUTION = 50.1
FOOTPRINT_POINT_LATITUDE = (39.954,39.6941,39.2671,38.8316,38.3893 ,37.726,37.2837,36.8415,36.1783,35.7363 ,35.2942,34.8525,34.4108,33.9691,33.528 ,33.0875,32.6472,31.9586,31.5036, 31.0487,30.5943,30.1404,29.6868,29.2186 ,28.51,28.0428,27.5762,27.0989,26.6185, 26.1386,25.6594,25.1687,24.6762,24.1829 ,23.4428,22.951,22.4604,21.9707,21.482, 20.9943,20.5076,20.0219,19.537,19.0534, 18.5709,18.0894,17.6091,17.1295,16.651, 16.6533,16.6628,17.147,17.6277,18.1104, 18.5943,19.0774,19.5599,20.0446,20.5311 ,21.0188,21.5074,21.9968,22.4872, 22.9785,23.4705,23.9632,24.4567,24.9509 ,25.6909,26.1712,26.6523,27.1338, 27.6122,28.0799,28.5481,29.0165,29.4921 ,29.9544,30.4092,31.0952,31.5524, 32.0089,32.6967,33.1363,33.5779,34.0202 ,34.4628,34.9054,35.3483,35.7913, 36.4561,36.8993,37.3428,37.786,38.2295, 38.6729,39.1164,39.5455,39.9735,39.954)
FOOTPRINT_POINT_LONGITUDE = (148.029,147.354,147.384,147.415, 147.445,147.489,147.517,147.544,147.583 ,147.608,147.631,147.655,147.677, 147.697,147.719,147.742,147.765,147.798 ,147.819,147.837,147.855,147.873, 147.892,147.91,147.933,147.948,147.962, 147.976,147.989,148.002,148.014,148.03, 148.042,148.046,148.042,148.041,148.042 ,148.043,148.043,148.043,148.043, 148.043,148.041,148.041,148.04,148.038, 148.037,148.033,148.029,148.481,149.213 ,149.594,149.584,149.577,149.569, 149.558,149.545,149.534,149.524,149.513 ,149.503,149.492,149.481,149.47,149.459 ,149.447,149.435,149.422,149.402, 149.388,149.374,149.359,149.344,149.33, 149.314,149.298,149.281,149.265,149.249 ,149.232,149.218,149.202,149.168, 149.146,149.128,149.11,149.092,149.074, 149.055,149.036,149.007,148.986,148.966 ,148.945,148.923,148.901,148.879, 148.856,148.833,148.029)
ORBIT_NUMBER = 1262
ORBITAL_ECCENTRICITY = 0.57
ORBITAL_INCLINATION = 86.61
ORBITAL_SEMIMAJOR_AXIS = 8583.66
PERIAPSIS_ALTITUDE = 307.03
PERIAPSIS_ARGUMENT_ANGLE = 138.91
PERIAPSIS_TIME = 2005-01-11T02:42:08.000Z
SPACECRAFT_ORIENTATION = (0.0,-1.0,0.0)
^MEX_ORIENTATION_DESC = "MEX_ORIENTATION_DESC.TXT"
SPACECRAFT_POINTING_MODE = ACROSSTRACK
^MEX_POINTING_DESC = "MEX_POINTING_DESC.TXT"
RIGHT_ASCENSION = -1e+32
DECLINATION = -1e+32
OFFSET_ANGLE = -1.17
SPACECRAFT_SOLAR_DISTANCE = 2.32901e+08
TARGET_NAME = MARS
/* CAMERA DATA ELEMENTS */
DETECTOR_TEMPERATURE = 18.1666
FOCAL_PLANE_TEMPERATURE = 7.7677
INST_CMPRS_NAME = "DISCRETE COSINE TRANSFORMATION (DCT)"
INST_CMPRS_RATIO = 22.9666
INST_CMPRS_QUALITY = 0
INST_CMPRS_QUANTZ_TBL_ID = 0
INSTRUMENT_TEMPERATURE = 11.234
LENS_TEMPERATURE = 8.1755
MACROPIXEL_SIZE = 4
MISSING_FRAMES = 2
PIXEL_SUBSAMPLING_FLAG = N
SIGNAL_CHAIN_ID = 2
/* RADIOMETRIC DATA ELEMENTS */
BANDWIDTH = 88.0
CENTER_FILTER_WAVELENGTH = 538.0
RADIANCE_OFFSET = 2.35675
RADIANCE_SCALING_FACTOR = 0.00616144
REFLECTANCE_SCALING_FACTOR = 0.000287751
MEX:REFLECTANCE_OFFSET = 0.110065
/* IMAGE OBJECT DEFINITIONS */
OBJECT = IMAGE
  INTERCHANGE_FORMAT = BINARY
  LINES = 27647
  LINE_SAMPLES = 2277
  SAMPLE_TYPE = UNSIGNED_INTEGER
  SAMPLE_BITS = 8
  BANDS = 1
  BAND_STORAGE_TYPE = BAND_SEQUENTIAL
  MAXIMUM = 104
  MEAN = 80.7987
  MINIMUM = 55
  STANDARD_DEVIATION = 5.11319
END_OBJECT = IMAGE
/* MAP OBJECT DEFINITIONS */
OBJECT = IMAGE_MAP_PROJECTION
  ^DATA_SET_MAP_PROJECTION_CATALOG= "DSMAP.CAT"
  A_AXIS_RADIUS = 3396.0
  B_AXIS_RADIUS = 3396.0
  C_AXIS_RADIUS = 3396.0
  CENTER_LATITUDE = 0.0
  CENTER_LONGITUDE = 149.0
  COORDINATE_SYSTEM_NAME = PLANETOGRAPHIC
  COORDINATE_SYSTEM_TYPE = "BODY-FIXED ROTATING"
  EASTERNMOST_LONGITUDE = 149.594
  FIRST_STANDARD_PARALLEL = "N/A"
  LINE_FIRST_PIXEL = 1
  LINE_LAST_PIXEL = 27647
  LINE_PROJECTION_OFFSET = 47384.125
  MAP_PROJECTION_ROTATION = 0.0
  MAP_PROJECTION_TYPE = SINUSOIDAL
  MAP_RESOLUTION = 1185.42760773333
  MAP_SCALE = 0.05
  MAXIMUM_LATITUDE = 39.9735
  MINIMUM_LATITUDE = 16.651
  POSITIVE_LONGITUDE_DIRECTION = EAST
  REFERENCE_LATITUDE = "N/A"
  REFERENCE_LONGITUDE = "N/A"
  SAMPLE_FIRST_PIXEL = 1
  SAMPLE_LAST_PIXEL = 2277
  SAMPLE_PROJECTION_OFFSET = 1579.125
  SECOND_STANDARD_PARALLEL = "N/A"
  WESTERNMOST_LONGITUDE = 147.354
END_OBJECT = IMAGE_MAP_PROJECTION
/* The JPEG2000 image data file associated with this label. */
OBJECT = COMPRESSED_FILE
  FILE_NAME = "H1262_0000_GR3.JP2"
  RECORD_TYPE = UNDEFINED
  FILE_RECORDS = UNK
  ENCODING_TYPE = "JP2"
  INTERCHANGE_FORMAT = BINARY
  UNCOMPRESSED_FILE_NAME = "H1262_0000_GR3.IMG"
  REQUIRED_STORAGE_BYTES = "62974989"
  ^DESCRIPTION = "JP2INFO.TXT"
END_OBJECT = COMPRESSED_FILE
END
