PDS_VERSION_ID = PDS3
/* FILE DATA ELEMENTS */
RECORD_TYPE = STREAM
/* POINTERS TO DATA OBJECTS */
^COMPRESSED_FILE = "H1264_0000_GR3.JP2"
/* IDENTIFICATION DATA ELEMENTS */
DATA_SET_ID = "MEX-M-HRSC-5-REFDR-MAPPROJECTED-V3.0"
DATA_SET_NAME = "MARS EXPRESS HRSC MAP PROJECTED REFDR V3.0"
DETECTOR_ID = MEX_HRSC_GREEN
EVENT_TYPE = "MARS-REGIONAL-MAPPING-Gl-Pf-Eo"
INSTRUMENT_HOST_ID = MEX
INSTRUMENT_HOST_NAME = "MARS EXPRESS"
INSTRUMENT_ID = HRSC
INSTRUMENT_NAME = "HIGH RESOLUTION STEREO CAMERA"
MISSION_NAME = "MARS EXPRESS"
MISSION_PHASE_NAME = MR_Phase_4
PROCESSING_LEVEL_ID = 3
PRODUCT_CREATION_TIME = 2016-03-04T20:31:26.000Z
PRODUCT_ID = "H1264_0000_GR3.JP2"
RELEASE_ID = 0017
REVISION_ID = 0000
/* QUALITY DATA ELEMENTS */
DATA_QUALITY_ID = 1
DATA_QUALITY_DESC = "Data calculated based on original SPICE kernels"
/* TIME DATA ELEMENTS */
SPACECRAFT_CLOCK_START_COUNT = "1/0053538900.57934"
SPACECRAFT_CLOCK_STOP_COUNT = "1/0053539301.49722"
START_TIME = 2005-01-11T15:56:30.716Z
STOP_TIME = 2005-01-11T16:00:53.379Z
/* ORBITAL DATA ELEMENTS */
ASCENDING_NODE_LONGITUDE = 202.09
MAXIMUM_RESOLUTION = 80.8
FOOTPRINT_POINT_LATITUDE = (83.9128,83.6834,83.4387,83.1791, 82.9062,82.6202,82.1092,81.7608,81.4969 ,81.1298,80.7433,80.3368,79.9144, 79.4758,79.2515,79.0238,78.793,78.5591, 78.3223,78.0827,77.8403,77.5954,77.3479 ,77.0984,76.8465,76.5919,76.3353, 76.0768,75.8165,75.5542,75.2899,75.0237 ,74.7557,74.4861,74.2148,73.9419, 73.6675,73.3914,73.1138,72.8347,72.5542 ,72.2723,71.9891,71.7046,71.4186, 71.1315,70.8431,70.5535,70.2626,69.9706 ,69.5824,69.6636,69.7356,69.8311, 69.9107,70.1664,70.4698,70.7725,71.0744 ,71.3754,71.6756,71.9749,72.2733, 72.5709,72.8675,73.1633,73.4581,73.7519 ,74.0449,74.3368,74.6278,74.9178, 75.2068,75.4947,75.7816,76.0674,76.3522 ,76.6358,76.9183,77.1996,77.4798, 77.7586,78.0362,78.3126,78.5877,78.8614 ,79.1336,79.4044,79.6737,79.9413, 80.2073,80.4717,80.7345,81.1257,81.6388 ,82.1427,82.6367,83.1186,83.5873, 83.9128)
FOOTPRINT_POINT_LONGITUDE = (282.641,279.912,277.36,274.971,272.743 ,270.662,267.451,269.366,271.489, 274.145,276.599,278.854,280.935,282.85, 283.751,284.617,285.448,286.247,287.015 ,287.754,288.464,289.146,289.803, 290.438,291.048,291.633,292.198,292.744 ,293.27,293.779,294.269,294.741,295.198 ,295.638,296.065,296.477,296.876, 297.261,297.634,297.994,298.343,298.681 ,299.009,299.327,299.634,299.933, 300.222,300.503,300.775,301.039,301.378 ,302.209,302.988,304.096,305.098, 306.453,306.304,306.151,305.993,305.83, 305.662,305.488,305.309,305.124,304.932 ,304.735,304.53,304.318,304.098,303.871 ,303.636,303.391,303.138,302.874, 302.601,302.316,302.021,301.713,301.392 ,301.058,300.71,300.345,299.965,299.568 ,299.152,298.717,298.26,297.781,297.278 ,296.749,296.192,295.606,294.987, 293.995,292.532,290.887,289.028,286.915 ,284.5,282.641)
ORBIT_NUMBER = 1264
ORBITAL_ECCENTRICITY = 0.569
ORBITAL_INCLINATION = 86.62
ORBITAL_SEMIMAJOR_AXIS = 8580.77
PERIAPSIS_ALTITUDE = 306.73
PERIAPSIS_ARGUMENT_ANGLE = 138.56
PERIAPSIS_TIME = 2005-01-11T16:08:33.000Z
SPACECRAFT_ORIENTATION = (0.0,-1.0,0.0)
^MEX_ORIENTATION_DESC = "MEX_ORIENTATION_DESC.TXT"
SPACECRAFT_POINTING_MODE = ACROSSTRACK
^MEX_POINTING_DESC = "MEX_POINTING_DESC.TXT"
RIGHT_ASCENSION = -1e+32
DECLINATION = -1e+32
OFFSET_ANGLE = -1.5
SPACECRAFT_SOLAR_DISTANCE = 2.32797e+08
TARGET_NAME = MARS
/* CAMERA DATA ELEMENTS */
DETECTOR_TEMPERATURE = 18.1666
FOCAL_PLANE_TEMPERATURE = 8.5833
INST_CMPRS_NAME = "DISCRETE COSINE TRANSFORMATION (DCT)"
INST_CMPRS_RATIO = 15.9155
INST_CMPRS_QUALITY = 0
INST_CMPRS_QUANTZ_TBL_ID = 0
INSTRUMENT_TEMPERATURE = 12.2535
LENS_TEMPERATURE = 8.7872
MACROPIXEL_SIZE = 4
MISSING_FRAMES = 0
PIXEL_SUBSAMPLING_FLAG = N
SIGNAL_CHAIN_ID = 2
/* RADIOMETRIC DATA ELEMENTS */
BANDWIDTH = 88.0
CENTER_FILTER_WAVELENGTH = 538.0
RADIANCE_OFFSET = 0.792262
RADIANCE_SCALING_FACTOR = 0.0115283
REFLECTANCE_SCALING_FACTOR = 0.000537917
MEX:REFLECTANCE_OFFSET = 0.0369675
/* IMAGE OBJECT DEFINITIONS */
OBJECT = IMAGE
  INTERCHANGE_FORMAT = BINARY
  LINES = 8440
  LINE_SAMPLES = 4482
  SAMPLE_TYPE = UNSIGNED_INTEGER
  SAMPLE_BITS = 8
  BANDS = 1
  BAND_STORAGE_TYPE = BAND_SEQUENTIAL
  MAXIMUM = 181
  MEAN = 69.1636
  MINIMUM = 35
  STANDARD_DEVIATION = 26.0049
END_OBJECT = IMAGE
/* MAP OBJECT DEFINITIONS */
OBJECT = IMAGE_MAP_PROJECTION
  ^DATA_SET_MAP_PROJECTION_CATALOG= "DSMAP.CAT"
  A_AXIS_RADIUS = 3396.0
  B_AXIS_RADIUS = 3396.0
  C_AXIS_RADIUS = 3396.0
  CENTER_LATITUDE = 0.0
  CENTER_LONGITUDE = 296.0
  COORDINATE_SYSTEM_NAME = PLANETOGRAPHIC
  COORDINATE_SYSTEM_TYPE = "BODY-FIXED ROTATING"
  EASTERNMOST_LONGITUDE = 306.453
  FIRST_STANDARD_PARALLEL = "N/A"
  LINE_FIRST_PIXEL = 1
  LINE_LAST_PIXEL = 8440
  LINE_PROJECTION_OFFSET = 49710.125
  MAP_PROJECTION_ROTATION = 0.0
  MAP_PROJECTION_TYPE = SINUSOIDAL
  MAP_RESOLUTION = 592.713803866667
  MAP_SCALE = 0.1
  MAXIMUM_LATITUDE = 83.9128
  MINIMUM_LATITUDE = 69.58240000000001
  POSITIVE_LONGITUDE_DIRECTION = EAST
  REFERENCE_LATITUDE = "N/A"
  REFERENCE_LONGITUDE = "N/A"
  SAMPLE_FIRST_PIXEL = 1
  SAMPLE_LAST_PIXEL = 4482
  SAMPLE_PROJECTION_OFFSET = 2343.875
  SECOND_STANDARD_PARALLEL = "N/A"
  WESTERNMOST_LONGITUDE = 267.451
END_OBJECT = IMAGE_MAP_PROJECTION
/* The JPEG2000 image data file associated with this label. */
OBJECT = COMPRESSED_FILE
  FILE_NAME = "H1264_0000_GR3.JP2"
  RECORD_TYPE = UNDEFINED
  FILE_RECORDS = UNK
  ENCODING_TYPE = "JP2"
  INTERCHANGE_FORMAT = BINARY
  UNCOMPRESSED_FILE_NAME = "H1264_0000_GR3.IMG"
  REQUIRED_STORAGE_BYTES = "37854972"
  ^DESCRIPTION = "JP2INFO.TXT"
END_OBJECT = COMPRESSED_FILE
END
