PDS_VERSION_ID = PDS3
/* FILE DATA ELEMENTS */
RECORD_TYPE = STREAM
/* POINTERS TO DATA OBJECTS */
^COMPRESSED_FILE = "H1264_0000_ND3.JP2"
/* IDENTIFICATION DATA ELEMENTS */
DATA_SET_ID = "MEX-M-HRSC-5-REFDR-MAPPROJECTED-V3.0"
DATA_SET_NAME = "MARS EXPRESS HRSC MAP PROJECTED REFDR V3.0"
DETECTOR_ID = MEX_HRSC_NADIR
EVENT_TYPE = "MARS-REGIONAL-MAPPING-Gl-Pf-Eo"
INSTRUMENT_HOST_ID = MEX
INSTRUMENT_HOST_NAME = "MARS EXPRESS"
INSTRUMENT_ID = HRSC
INSTRUMENT_NAME = "HIGH RESOLUTION STEREO CAMERA"
MISSION_NAME = "MARS EXPRESS"
MISSION_PHASE_NAME = MR_Phase_4
PROCESSING_LEVEL_ID = 3
PRODUCT_CREATION_TIME = 2016-03-04T20:31:26.000Z
PRODUCT_ID = "H1264_0000_ND3.JP2"
RELEASE_ID = 0017
REVISION_ID = 0000
/* QUALITY DATA ELEMENTS */
DATA_QUALITY_ID = 1
DATA_QUALITY_DESC = "Data calculated based on original SPICE kernels"
/* TIME DATA ELEMENTS */
SPACECRAFT_CLOCK_START_COUNT = "1/0053538900.57934"
SPACECRAFT_CLOCK_STOP_COUNT = "1/0053539301.49722"
START_TIME = 2005-01-11T15:56:44.766Z
STOP_TIME = 2005-01-11T16:01:01.736Z
/* ORBITAL DATA ELEMENTS */
ASCENDING_NODE_LONGITUDE = 202.09
MAXIMUM_RESOLUTION = 19.9
FOOTPRINT_POINT_LATITUDE = (83.6333,83.3802,83.1111,82.8274, 82.5296,82.2178,81.8631,81.5117,81.1401 ,80.7487,80.3375,79.9101,79.4669, 79.2402,79.0101,78.7769,78.5407,78.3016 ,78.0598,77.8153,77.5682,77.3187, 77.0671,76.8129,76.5566,76.2982,76.0379 ,75.7757,75.5117,75.2457,74.9779, 74.7085,74.4374,74.1647,73.8904,73.6147 ,73.3374,73.0587,72.7786,72.4971, 72.2143,71.9303,71.6449,71.3583,71.0705 ,70.7815,70.4915,70.2002,69.9078, 69.6144,69.7055,69.7755,69.8406,69.9013 ,70.0079,70.3117,70.6147,70.9169, 71.2184,71.5191,71.819,72.1181,72.4163, 72.7138,73.0103,73.3061,73.6009,73.8949 ,74.188,74.4802,74.7714,75.0617,75.351, 75.6393,75.9266,76.2129,76.4981,76.7823 ,77.0653,77.3472,77.628,77.9075,78.1858 ,78.4628,78.7385,79.0129,79.2858, 79.5573,79.8272,80.0955,80.3622,80.6271 ,80.8904,81.4107,81.9223,82.4242,82.915 ,83.3928,83.8556,83.6333)
FOOTPRINT_POINT_LONGITUDE = (279.797,277.146,274.668,272.358, 270.202,268.186,268.588,271.482,274.167 ,276.646,278.919,281.015,282.939, 283.844,284.712,285.547,286.348,287.118 ,287.857,288.567,289.251,289.907, 290.542,291.15,291.735,292.299,292.844, 293.369,293.876,294.364,294.835,295.29, 295.729,296.153,296.563,296.96,297.343, 297.714,298.072,298.419,298.755,299.081 ,299.396,299.701,299.998,300.285, 300.564,300.834,301.096,301.351,302.5, 303.319,304.13,304.934,306.495,306.347, 306.195,306.038,305.877,305.71,305.538, 305.36,305.176,304.986,304.79,304.586, 304.376,304.158,303.932,303.699,303.456 ,303.204,302.942,302.671,302.388, 302.094,301.788,301.47,301.138,300.791, 300.429,300.051,299.656,299.243,298.81, 298.355,297.879,297.378,296.852,296.298 ,295.714,295.099,294.452,293.038, 291.448,289.652,287.613,285.286,282.615 ,279.797)
ORBIT_NUMBER = 1264
ORBITAL_ECCENTRICITY = 0.569
ORBITAL_INCLINATION = 86.62
ORBITAL_SEMIMAJOR_AXIS = 8580.77
PERIAPSIS_ALTITUDE = 306.73
PERIAPSIS_ARGUMENT_ANGLE = 138.56
PERIAPSIS_TIME = 2005-01-11T16:08:33.000Z
SPACECRAFT_ORIENTATION = (0.0,-1.0,0.0)
^MEX_ORIENTATION_DESC = "MEX_ORIENTATION_DESC.TXT"
SPACECRAFT_POINTING_MODE = ACROSSTRACK
^MEX_POINTING_DESC = "MEX_POINTING_DESC.TXT"
RIGHT_ASCENSION = -1e+32
DECLINATION = -1e+32
OFFSET_ANGLE = -1.5
SPACECRAFT_SOLAR_DISTANCE = 2.32797e+08
TARGET_NAME = MARS
/* CAMERA DATA ELEMENTS */
DETECTOR_TEMPERATURE = 18.1666
FOCAL_PLANE_TEMPERATURE = 8.5833
INST_CMPRS_NAME = "DISCRETE COSINE TRANSFORMATION (DCT)"
INST_CMPRS_RATIO = 8.8169
INST_CMPRS_QUALITY = 0
INST_CMPRS_QUANTZ_TBL_ID = 0
INSTRUMENT_TEMPERATURE = 12.2535
LENS_TEMPERATURE = 8.7872
MACROPIXEL_SIZE = 1
MISSING_FRAMES = 0
PIXEL_SUBSAMPLING_FLAG = N
SIGNAL_CHAIN_ID = 0
/* RADIOMETRIC DATA ELEMENTS */
BANDWIDTH = 177.0
CENTER_FILTER_WAVELENGTH = 677.5
RADIANCE_OFFSET = 1.42511
RADIANCE_SCALING_FACTOR = 0.0262667
REFLECTANCE_SCALING_FACTOR = 0.000756228
MEX:REFLECTANCE_OFFSET = 0.0410294
/* IMAGE OBJECT DEFINITIONS */
OBJECT = IMAGE
  INTERCHANGE_FORMAT = BINARY
  LINES = 33758
  LINE_SAMPLES = 17925
  SAMPLE_TYPE = UNSIGNED_INTEGER
  SAMPLE_BITS = 8
  BANDS = 1
  BAND_STORAGE_TYPE = BAND_SEQUENTIAL
  MAXIMUM = 130
  MEAN = 46.8313
  MINIMUM = 16
  STANDARD_DEVIATION = 18.8915
END_OBJECT = IMAGE
/* MAP OBJECT DEFINITIONS */
OBJECT = IMAGE_MAP_PROJECTION
  ^DATA_SET_MAP_PROJECTION_CATALOG= "DSMAP.CAT"
  A_AXIS_RADIUS = 3396.0
  B_AXIS_RADIUS = 3396.0
  C_AXIS_RADIUS = 3396.0
  CENTER_LATITUDE = 0.0
  CENTER_LONGITUDE = 296.0
  COORDINATE_SYSTEM_NAME = PLANETOGRAPHIC
  COORDINATE_SYSTEM_TYPE = "BODY-FIXED ROTATING"
  EASTERNMOST_LONGITUDE = 306.495
  FIRST_STANDARD_PARALLEL = "N/A"
  LINE_FIRST_PIXEL = 1
  LINE_LAST_PIXEL = 33758
  LINE_PROJECTION_OFFSET = 198842.0
  MAP_PROJECTION_ROTATION = 0.0
  MAP_PROJECTION_TYPE = SINUSOIDAL
  MAP_RESOLUTION = 2370.85521546667
  MAP_SCALE = 0.025
  MAXIMUM_LATITUDE = 83.8556
  MINIMUM_LATITUDE = 69.6144
  POSITIVE_LONGITUDE_DIRECTION = EAST
  REFERENCE_LATITUDE = "N/A"
  REFERENCE_LONGITUDE = "N/A"
  SAMPLE_FIRST_PIXEL = 1
  SAMPLE_LAST_PIXEL = 17925
  SAMPLE_PROJECTION_OFFSET = 9377.0
  SECOND_STANDARD_PARALLEL = "N/A"
  WESTERNMOST_LONGITUDE = 268.186
END_OBJECT = IMAGE_MAP_PROJECTION
/* The JPEG2000 image data file associated with this label. */
OBJECT = COMPRESSED_FILE
  FILE_NAME = "H1264_0000_ND3.JP2"
  RECORD_TYPE = UNDEFINED
  FILE_RECORDS = UNK
  ENCODING_TYPE = "JP2"
  INTERCHANGE_FORMAT = BINARY
  UNCOMPRESSED_FILE_NAME = "H1264_0000_ND3.IMG"
  REQUIRED_STORAGE_BYTES = "605165925"
  ^DESCRIPTION = "JP2INFO.TXT"
END_OBJECT = COMPRESSED_FILE
END
