PDS_VERSION_ID = PDS3
/* FILE DATA ELEMENTS */
RECORD_TYPE = STREAM
/* POINTERS TO DATA OBJECTS */
^COMPRESSED_FILE = "H1266_0000_P23.JP2"
/* IDENTIFICATION DATA ELEMENTS */
DATA_SET_ID = "MEX-M-HRSC-5-REFDR-MAPPROJECTED-V3.0"
DATA_SET_NAME = "MARS EXPRESS HRSC MAP PROJECTED REFDR V3.0"
DETECTOR_ID = MEX_HRSC_P2
EVENT_TYPE = "MARS-LOCAL-MAPPING-Te-Im-Pf"
INSTRUMENT_HOST_ID = MEX
INSTRUMENT_HOST_NAME = "MARS EXPRESS"
INSTRUMENT_ID = HRSC
INSTRUMENT_NAME = "HIGH RESOLUTION STEREO CAMERA"
MISSION_NAME = "MARS EXPRESS"
MISSION_PHASE_NAME = MR_Phase_4
PROCESSING_LEVEL_ID = 3
PRODUCT_CREATION_TIME = 2016-03-04T20:31:26.000Z
PRODUCT_ID = "H1266_0000_P23.JP2"
RELEASE_ID = 0017
REVISION_ID = 0000
/* QUALITY DATA ELEMENTS */
DATA_QUALITY_ID = 1
DATA_QUALITY_DESC = "Data calculated based on original SPICE kernels"
/* TIME DATA ELEMENTS */
SPACECRAFT_CLOCK_START_COUNT = "1/0053587584.57956"
SPACECRAFT_CLOCK_STOP_COUNT = "1/0053587881.40201"
START_TIME = 2005-01-12T05:27:55.994Z
STOP_TIME = 2005-01-12T05:31:16.306Z
/* ORBITAL DATA ELEMENTS */
ASCENDING_NODE_LONGITUDE = 202.05
MAXIMUM_RESOLUTION = 59.2
FOOTPRINT_POINT_LATITUDE = (70.7669,70.7336,70.7029,70.6699, 70.6346,70.597,70.62,70.3269,70.0352, 69.7478,69.4597,69.1726,68.7488,68.4659 ,68.1855,67.9086,67.6311,67.2181, 66.9461,66.6743,66.2687,65.8697,65.6033 ,65.3367,65.0764,64.8159,64.5551, 64.1659,63.9112,63.6562,63.4011,63.0204 ,62.6469,62.3978,62.1484,61.7767, 61.5338,61.2906,61.0471,60.8035,60.5602 ,60.2048,59.9678,59.7306,59.4931, 59.2557,58.9056,58.6749,58.4438,58.097, 57.7499,57.7591,57.7761,57.7934,57.809, 57.8238,57.8416,58.1905,58.4228,58.6555 ,58.8878,59.2361,59.475,59.8333,60.1915 ,60.5493,60.9136,61.1588,61.4039, 61.7713,62.1419,62.3934,62.6448,62.8958 ,63.1469,63.5304,63.7877,64.045,64.3019 ,64.6948,64.9584,65.2217,65.4847, 65.7533,66.0233,66.2928,66.5618,66.8373 ,67.2503,67.5252,67.9464,68.2276, 68.6522,68.9395,69.2265,69.5149,69.8079 ,70.2468,70.5434,70.7669)
FOOTPRINT_POINT_LONGITUDE = (115.75,114.884,114.163,113.447,112.738 ,112.036,110.902,111.069,111.23,111.383 ,111.532,111.675,111.879,112.01,112.135 ,112.256,112.373,112.542,112.649, 112.753,112.903,113.045,113.137,113.227 ,113.312,113.395,113.476,113.593, 113.668,113.741,113.812,113.915,114.013 ,114.077,114.139,114.229,114.286, 114.342,114.397,114.451,114.503,114.578 ,114.627,114.675,114.722,114.767, 114.833,114.876,114.917,114.978,115.038 ,115.54,115.892,116.268,116.625,116.985 ,117.425,117.403,117.388,117.373, 117.358,117.334,117.318,117.292,117.266 ,117.239,117.211,117.192,117.172, 117.141,117.11,117.087,117.065,117.042, 117.018,116.981,116.955,116.929,116.902 ,116.86,116.831,116.802,116.771,116.738 ,116.706,116.673,116.638,116.602, 116.545,116.506,116.445,116.402,116.336 ,116.289,116.241,116.191,116.139, 116.057,115.999,115.75)
ORBIT_NUMBER = 1266
ORBITAL_ECCENTRICITY = 0.57
ORBITAL_INCLINATION = 86.61
ORBITAL_SEMIMAJOR_AXIS = 8588.76
PERIAPSIS_ALTITUDE = 306.49
PERIAPSIS_ARGUMENT_ANGLE = 138.18
PERIAPSIS_TIME = 2005-01-12T05:35:00.000Z
SPACECRAFT_ORIENTATION = (0.0,-1.0,0.0)
^MEX_ORIENTATION_DESC = "MEX_ORIENTATION_DESC.TXT"
SPACECRAFT_POINTING_MODE = ACROSSTRACK
^MEX_POINTING_DESC = "MEX_POINTING_DESC.TXT"
RIGHT_ASCENSION = -1e+32
DECLINATION = -1e+32
OFFSET_ANGLE = 0.55
SPACECRAFT_SOLAR_DISTANCE = 2.32693e+08
TARGET_NAME = MARS
/* CAMERA DATA ELEMENTS */
DETECTOR_TEMPERATURE = 18.5744
FOCAL_PLANE_TEMPERATURE = 8.3794
INST_CMPRS_NAME = "DISCRETE COSINE TRANSFORMATION (DCT)"
INST_CMPRS_RATIO = 13.9606
INST_CMPRS_QUALITY = 0
INST_CMPRS_QUANTZ_TBL_ID = 0
INSTRUMENT_TEMPERATURE = 11.0301
LENS_TEMPERATURE = 8.9911
MACROPIXEL_SIZE = 4
MISSING_FRAMES = 0
PIXEL_SUBSAMPLING_FLAG = N
SIGNAL_CHAIN_ID = 3
/* RADIOMETRIC DATA ELEMENTS */
BANDWIDTH = 177.0
CENTER_FILTER_WAVELENGTH = 676.5
RADIANCE_OFFSET = 4.73266
RADIANCE_SCALING_FACTOR = 0.0117781
REFLECTANCE_SCALING_FACTOR = 0.000338145
MEX:REFLECTANCE_OFFSET = 0.135873
/* IMAGE OBJECT DEFINITIONS */
OBJECT = IMAGE
  INTERCHANGE_FORMAT = BINARY
  LINES = 15529
  LINE_SAMPLES = 3195
  SAMPLE_TYPE = UNSIGNED_INTEGER
  SAMPLE_BITS = 8
  BANDS = 1
  BAND_STORAGE_TYPE = BAND_SEQUENTIAL
  MAXIMUM = 172
  MEAN = 134.845
  MINIMUM = 82
  STANDARD_DEVIATION = 9.04976
END_OBJECT = IMAGE
/* MAP OBJECT DEFINITIONS */
OBJECT = IMAGE_MAP_PROJECTION
  ^DATA_SET_MAP_PROJECTION_CATALOG= "DSMAP.CAT"
  A_AXIS_RADIUS = 3396.0
  B_AXIS_RADIUS = 3396.0
  C_AXIS_RADIUS = 3396.0
  CENTER_LATITUDE = 0.0
  CENTER_LONGITUDE = 115.0
  COORDINATE_SYSTEM_NAME = PLANETOGRAPHIC
  COORDINATE_SYSTEM_TYPE = "BODY-FIXED ROTATING"
  EASTERNMOST_LONGITUDE = 117.425
  FIRST_STANDARD_PARALLEL = "N/A"
  LINE_FIRST_PIXEL = 1
  LINE_LAST_PIXEL = 15529
  LINE_PROJECTION_OFFSET = 83967.375
  MAP_PROJECTION_ROTATION = 0.0
  MAP_PROJECTION_TYPE = SINUSOIDAL
  MAP_RESOLUTION = 1185.42760773333
  MAP_SCALE = 0.05
  MAXIMUM_LATITUDE = 70.76690000000001
  MINIMUM_LATITUDE = 57.7499
  POSITIVE_LONGITUDE_DIRECTION = EAST
  REFERENCE_LATITUDE = "N/A"
  REFERENCE_LONGITUDE = "N/A"
  SAMPLE_FIRST_PIXEL = 1
  SAMPLE_LAST_PIXEL = 3195
  SAMPLE_PROJECTION_OFFSET = 1650.125
  SECOND_STANDARD_PARALLEL = "N/A"
  WESTERNMOST_LONGITUDE = 110.902
END_OBJECT = IMAGE_MAP_PROJECTION
/* The JPEG2000 image data file associated with this label. */
OBJECT = COMPRESSED_FILE
  FILE_NAME = "H1266_0000_P23.JP2"
  RECORD_TYPE = UNDEFINED
  FILE_RECORDS = UNK
  ENCODING_TYPE = "JP2"
  INTERCHANGE_FORMAT = BINARY
  UNCOMPRESSED_FILE_NAME = "H1266_0000_P23.IMG"
  REQUIRED_STORAGE_BYTES = "49637520"
  ^DESCRIPTION = "JP2INFO.TXT"
END_OBJECT = COMPRESSED_FILE
END
