PDS_VERSION_ID = PDS3
/* FILE DATA ELEMENTS */
RECORD_TYPE = STREAM
/* POINTERS TO DATA OBJECTS */
^COMPRESSED_FILE = "H1269_0000_IR3.JP2"
/* IDENTIFICATION DATA ELEMENTS */
DATA_SET_ID = "MEX-M-HRSC-5-REFDR-MAPPROJECTED-V3.0"
DATA_SET_NAME = "MARS EXPRESS HRSC MAP PROJECTED REFDR V3.0"
DETECTOR_ID = MEX_HRSC_IR
EVENT_TYPE = "MARS-LOCAL-MAPPING-Im-Pf-Eo"
INSTRUMENT_HOST_ID = MEX
INSTRUMENT_HOST_NAME = "MARS EXPRESS"
INSTRUMENT_ID = HRSC
INSTRUMENT_NAME = "HIGH RESOLUTION STEREO CAMERA"
MISSION_NAME = "MARS EXPRESS"
MISSION_PHASE_NAME = MR_Phase_4
PROCESSING_LEVEL_ID = 3
PRODUCT_CREATION_TIME = 2016-03-04T20:31:26.000Z
PRODUCT_ID = "H1269_0000_IR3.JP2"
RELEASE_ID = 0017
REVISION_ID = 0000
/* QUALITY DATA ELEMENTS */
DATA_QUALITY_ID = 1
DATA_QUALITY_DESC = "Data calculated based on original SPICE kernels"
/* TIME DATA ELEMENTS */
SPACECRAFT_CLOCK_START_COUNT = "1/0053660084.57925"
SPACECRAFT_CLOCK_STOP_COUNT = "1/0053660422.15727"
START_TIME = 2005-01-13T01:35:04.420Z
STOP_TIME = 2005-01-13T01:39:22.100Z
/* ORBITAL DATA ELEMENTS */
ASCENDING_NODE_LONGITUDE = 201.98
MAXIMUM_RESOLUTION = 68.3
FOOTPRINT_POINT_LATITUDE = (75.6939,75.6332,75.5621,75.4844, 75.4002,75.2616,75.0541,74.5323,74.2687 ,74.0041,73.738,73.4701,73.2011,72.931, 72.6595,72.3862,72.1115,71.8357,71.5589 ,71.2807,71.0014,70.7209,70.4391,70.156 ,69.872,69.5869,69.3004,69.0131,68.7248 ,68.4353,68.1449,67.8527,67.5599, 67.2661,66.9709,66.6748,66.2318,65.9408 ,65.5034,65.2162,64.9279,64.6416, 64.3584,63.9326,63.5151,63.2366,62.9582 ,62.4108,62.0003,61.5964,60.9883, 61.0681,61.1115,61.154,61.698,62.243, 62.6597,63.2147,63.4981,63.7814,64.0637 ,64.3501,64.6383,64.9259,65.2177, 65.5107,65.8026,66.1001,66.5458,66.847, 67.1493,67.4508,67.7516,68.0513,68.3503 ,68.6481,68.9453,69.2415,69.5368, 69.8312,70.1246,70.5632,70.8545,71.1447 ,71.4342,71.7227,72.0102,72.2971, 72.5828,72.8676,73.2935,73.5757,73.8569 ,74.1373,74.4166,74.6954,74.9728, 75.2492,75.5249,75.6939)
FOOTPRINT_POINT_LONGITUDE = (175.384,174.267,173.082,171.907, 170.742,169.013,168.132,168.83,169.162, 169.483,169.795,170.096,170.388,170.671 ,170.945,171.211,171.469,171.719, 171.962,172.197,172.426,172.649,172.864 ,173.074,173.278,173.476,173.669, 173.856,174.039,174.216,174.389,174.557 ,174.72,174.88,175.034,175.185,175.403, 175.542,175.741,175.868,175.992,176.111 ,176.226,176.394,176.552,176.655, 176.754,176.944,177.079,177.208,177.617 ,178.803,179.544,180.345,180.271, 180.193,180.131,180.046,180.0,179.954, 179.907,179.858,179.807,179.755,179.702 ,179.646,179.59,179.531,179.439,179.375 ,179.309,179.241,179.172,179.1,179.027, 178.952,178.875,178.796,178.714,178.631 ,178.545,178.412,178.319,178.225, 178.127,178.027,177.923,177.816,177.706 ,177.593,177.415,177.293,177.166, 177.036,176.901,176.76,176.616,176.466, 176.311,175.384)
ORBIT_NUMBER = 1269
ORBITAL_ECCENTRICITY = 0.569
ORBITAL_INCLINATION = 86.62
ORBITAL_SEMIMAJOR_AXIS = 8577.82
PERIAPSIS_ALTITUDE = 307.19
PERIAPSIS_ARGUMENT_ANGLE = 137.64
PERIAPSIS_TIME = 2005-01-13T01:44:43.000Z
SPACECRAFT_ORIENTATION = (0.0,-1.0,0.0)
^MEX_ORIENTATION_DESC = "MEX_ORIENTATION_DESC.TXT"
SPACECRAFT_POINTING_MODE = ACROSSTRACK
^MEX_POINTING_DESC = "MEX_POINTING_DESC.TXT"
RIGHT_ASCENSION = -1e+32
DECLINATION = -1e+32
OFFSET_ANGLE = -0.38
SPACECRAFT_SOLAR_DISTANCE = 2.32537e+08
TARGET_NAME = MARS
/* CAMERA DATA ELEMENTS */
DETECTOR_TEMPERATURE = 17.351
FOCAL_PLANE_TEMPERATURE = 8.3794
INST_CMPRS_NAME = "DISCRETE COSINE TRANSFORMATION (DCT)"
INST_CMPRS_RATIO = 19.6125
INST_CMPRS_QUALITY = 0
INST_CMPRS_QUANTZ_TBL_ID = 0
INSTRUMENT_TEMPERATURE = 11.0301
LENS_TEMPERATURE = 7.3599
MACROPIXEL_SIZE = 4
MISSING_FRAMES = 0
PIXEL_SUBSAMPLING_FLAG = N
SIGNAL_CHAIN_ID = 2
/* RADIOMETRIC DATA ELEMENTS */
BANDWIDTH = 81.0
CENTER_FILTER_WAVELENGTH = 955.5
RADIANCE_OFFSET = 0.551521
RADIANCE_SCALING_FACTOR = 0.00788386
REFLECTANCE_SCALING_FACTOR = 0.000919723
MEX:REFLECTANCE_OFFSET = 0.0643399
/* IMAGE OBJECT DEFINITIONS */
OBJECT = IMAGE
  INTERCHANGE_FORMAT = BINARY
  LINES = 17285
  LINE_SAMPLES = 4462
  SAMPLE_TYPE = UNSIGNED_INTEGER
  SAMPLE_BITS = 8
  BANDS = 1
  BAND_STORAGE_TYPE = BAND_SEQUENTIAL
  MAXIMUM = 150
  MEAN = 79.2825
  MINIMUM = 27
  STANDARD_DEVIATION = 14.8679
END_OBJECT = IMAGE
/* MAP OBJECT DEFINITIONS */
OBJECT = IMAGE_MAP_PROJECTION
  ^DATA_SET_MAP_PROJECTION_CATALOG= "DSMAP.CAT"
  A_AXIS_RADIUS = 3396.0
  B_AXIS_RADIUS = 3396.0
  C_AXIS_RADIUS = 3396.0
  CENTER_LATITUDE = 0.0
  CENTER_LONGITUDE = 177.0
  COORDINATE_SYSTEM_NAME = PLANETOGRAPHIC
  COORDINATE_SYSTEM_TYPE = "BODY-FIXED ROTATING"
  EASTERNMOST_LONGITUDE = 180.345
  FIRST_STANDARD_PARALLEL = "N/A"
  LINE_FIRST_PIXEL = 1
  LINE_LAST_PIXEL = 17285
  LINE_PROJECTION_OFFSET = 89587.625
  MAP_PROJECTION_ROTATION = 0.0
  MAP_PROJECTION_TYPE = SINUSOIDAL
  MAP_RESOLUTION = 1185.42760773333
  MAP_SCALE = 0.05
  MAXIMUM_LATITUDE = 75.6939
  MINIMUM_LATITUDE = 60.9883
  POSITIVE_LONGITUDE_DIRECTION = EAST
  REFERENCE_LATITUDE = "N/A"
  REFERENCE_LONGITUDE = "N/A"
  SAMPLE_FIRST_PIXEL = 1
  SAMPLE_LAST_PIXEL = 4462
  SAMPLE_PROJECTION_OFFSET = 2603.125
  SECOND_STANDARD_PARALLEL = "N/A"
  WESTERNMOST_LONGITUDE = 168.132
END_OBJECT = IMAGE_MAP_PROJECTION
/* The JPEG2000 image data file associated with this label. */
OBJECT = COMPRESSED_FILE
  FILE_NAME = "H1269_0000_IR3.JP2"
  RECORD_TYPE = UNDEFINED
  FILE_RECORDS = UNK
  ENCODING_TYPE = "JP2"
  INTERCHANGE_FORMAT = BINARY
  UNCOMPRESSED_FILE_NAME = "H1269_0000_IR3.IMG"
  REQUIRED_STORAGE_BYTES = "77152442"
  ^DESCRIPTION = "JP2INFO.TXT"
END_OBJECT = COMPRESSED_FILE
END
